{"text_format":"1","workbook":"xlsx","n_sheets":32,"sheets":["Start","1. Runde","2. Runde","3. Runde","4. Runde","Tabelle","Meldeliste","Einzellwertung","2021","5-6","7-8","9-10","11-12","13-14","15-16","17-18","19-20","21-22","23-24","25-26","27-28","29-30","31-32","33-34","35-36","37-38","39-40","41-42","43-44","45-46","47-48","49-50"],"not_rendered":{"charts":0,"images":0,"macros":1,"external_links":0,"defined_names":32,"comments":0,"pivot_tables":0},"unopened":[],"bounds":{"document_bytes":16777216,"sheet_cells":100000,"rows_first":2000,"rows_last":500,"rows_between":2000,"halvings":0,"cell_chars":16384,"cell_head_chars":4096},"cells_cut":0,"cells_raw":0,"read":"whole","date_system":"1900"}

{"sheet":"Start","index":0,"n_rows":32,"n_cols":100,"rows_kept":32,"cut":false,"hidden":false,"merged":[[1,5,1,39],[3,1,3,50],[4,1,4,10],[4,12,4,25],[2,1,2,4],[2,5,2,39],[4,52,4,68],[1,1,1,4],[2,40,2,50],[1,40,1,50],[4,27,4,35],[6,4,6,12],[6,14,6,22],[6,24,6,32],[6,34,6,42],[6,46,6,54],[5,1,5,10],[5,12,5,25],[7,1,7,2],[7,44,7,45],[7,46,7,54],[5,27,5,35],[7,4,7,7],[7,9,7,12],[7,14,7,17],[7,19,7,22],[7,24,7,27],[7,29,7,32],[7,34,7,37],[7,39,7,42],[6,0,6,2],[9,46,9,54],[8,29,8,32],[8,34,8,37],[8,39,8,42],[8,4,8,7],[8,9,8,12],[8,14,8,17],[8,19,8,22],[8,24,8,27],[8,44,8,45],[8,46,8,54],[9,29,9,32],[9,34,9,37],[9,39,9,42],[9,4,9,7],[9,9,9,12],[9,14,9,17],[9,19,9,22],[9,24,9,27],[9,44,9,45],[11,46,11,54],[10,29,10,32],[10,34,10,37],[10,39,10,42],[10,46,10,49],[10,4,10,7],[10,9,10,12],[10,14,10,17],[10,19,10,22],[10,24,10,27],[10,44,10,45],[10,50,10,51],[10,52,10,54],[11,29,11,32],[11,34,11,37],[11,39,11,42],[11,4,11,7],[11,9,11,12],[11,14,11,17],[11,19,11,22],[11,24,11,27],[11,44,11,45],[13,46,13,54],[12,29,12,32],[12,34,12,37],[12,39,12,42],[12,4,12,7],[12,9,12,12],[12,14,12,17],[12,19,12,22],[12,24,12,27],[12,44,12,45],[12,46,12,54],[13,29,13,32],[13,34,13,37],[13,39,13,42],[13,4,13,7],[13,9,13,12],[13,14,13,17],[13,19,13,22],[13,24,13,27],[13,44,13,45],[15,46,15,54],[14,29,14,32],[14,34,14,37],[14,39,14,42],[14,4,14,7],[14,9,14,12],[14,14,14,17],[14,19,14,22],[14,24,14,27],[14,44,14,45],[14,46,14,54],[15,29,15,32],[15,34,15,37],[15,39,15,42],[15,4,15,7],[15,9,15,12],[15,14,15,17],[15,19,15,22],[15,24,15,27],[15,44,15,45],[16,29,16,32],[16,34,16,37],[16,39,16,42],[16,46,16,49],[16,51,16,54],[16,4,16,7],[16,9,16,12],[16,14,16,17],[16,19,16,22],[16,24,16,27],[16,44,16,45],[17,29,17,32],[17,34,17,37],[17,39,17,42],[17,46,17,49],[17,51,17,54],[17,4,17,7],[17,9,17,12],[17,14,17,17],[17,19,17,22],[17,24,17,27],[17,44,17,45],[19,46,19,54],[18,29,18,32],[18,34,18,37],[18,39,18,42],[18,46,18,49],[18,51,18,54],[18,4,18,7],[18,9,18,12],[18,14,18,17],[18,19,18,22],[18,24,18,27],[18,44,18,45],[19,29,19,32],[19,34,19,37],[19,39,19,42],[19,4,19,7],[19,9,19,12],[19,14,19,17],[19,19,19,22],[19,24,19,27],[19,44,19,45],[21,46,21,54],[20,29,20,32],[20,34,20,37],[20,39,20,42],[20,4,20,7],[20,9,20,12],[20,14,20,17],[20,19,20,22],[20,24,20,27],[20,44,20,45],[20,46,20,54],[21,29,21,32],[21,34,21,37],[21,39,21,42],[21,4,21,7],[21,9,21,12],[21,14,21,17],[21,19,21,22],[21,24,21,27],[21,44,21,45],[22,4,22,7],[22,9,22,12],[22,14,22,17],[22,19,22,22],[22,24,22,27],[22,44,22,45],[22,46,22,54],[23,29,23,32],[23,34,23,37],[23,39,23,42],[23,4,23,7],[23,9,23,12],[23,14,23,17],[23,19,23,22],[23,24,23,27],[23,44,23,45],[24,44,24,45],[25,44,25,45],[24,46,24,54],[25,34,25,37],[25,29,25,32],[23,46,23,54],[22,29,22,32],[22,34,22,37],[22,39,22,42],[25,4,25,7],[25,9,25,12],[25,14,25,17],[25,19,25,22],[25,24,25,27],[24,29,24,32],[24,34,24,37],[24,39,24,42],[24,4,24,7],[24,9,24,12],[24,14,24,17],[24,19,24,22],[24,24,24,27],[26,9,26,12],[26,14,26,17],[26,19,26,22],[26,24,26,27],[26,44,26,45],[26,46,26,54],[25,39,25,42],[25,46,25,49],[25,51,25,54],[30,4,30,7],[30,9,30,12],[30,14,30,17],[30,19,30,22],[30,24,30,27],[30,44,30,45],[31,44,31,45],[28,4,28,7],[28,9,28,12],[28,14,28,17],[28,19,28,22],[28,24,28,27],[28,44,28,45],[29,44,29,45],[29,4,29,7],[29,9,29,12],[29,14,29,17],[29,19,29,22],[29,24,29,27],[28,29,28,32],[28,34,28,37],[28,39,28,42],[31,4,31,7],[31,9,31,12],[31,14,31,17],[7,56,7,57],[8,56,8,57],[9,56,9,57],[10,56,10,57],[11,56,11,57],[31,29,31,32],[31,34,31,37],[31,39,31,42],[31,46,31,49],[31,51,31,54],[29,29,29,32],[29,34,29,37],[29,39,29,42],[27,29,27,32],[27,34,27,37],[27,39,27,42],[31,19,31,22],[31,24,31,27],[30,29,30,32],[30,34,30,37],[30,39,30,42],[30,56,30,57],[31,56,31,57],[22,56,22,57],[23,56,23,57],[24,56,24,57],[25,56,25,57],[26,56,26,57],[17,56,17,57],[18,56,18,57],[19,56,19,57],[20,56,20,57],[21,56,21,57],[17,1,17,2],[8,1,8,2],[9,1,9,2],[10,1,10,2],[11,1,11,2],[12,1,12,2],[27,56,27,57],[28,56,28,57],[29,56,29,57],[12,56,12,57],[13,56,13,57],[14,56,14,57],[15,56,15,57],[16,56,16,57],[27,4,27,7],[27,9,27,12],[27,14,27,17],[27,19,27,22],[27,24,27,27],[27,44,27,45],[26,29,26,32],[26,34,26,37],[26,39,26,42],[26,4,26,7],[27,46,27,54],[28,46,28,54],[29,46,29,54],[30,46,30,54],[0,0,0,86],[28,1,28,2],[29,1,29,2],[30,1,30,2],[31,1,31,2],[4,70,4,86],[23,1,23,2],[24,1,24,2],[25,1,25,2],[26,1,26,2],[27,1,27,2],[18,1,18,2],[19,1,19,2],[20,1,20,2],[21,1,21,2],[22,1,22,2],[13,1,13,2],[14,1,14,2],[15,1,15,2],[16,1,16,2]]}
["Die Startseite von Siggis Team Cup in Kapellen-Drusweiler",null,null,null,null,null,null,null,null,null,null,null,null,null,null,null,null,null,null,null,null,null,null,null,null,null,null,null,null,null,null,null,null,null,null,null,null,null,null,null,null,null,null,null,null,null,null,null,null,null,null,null,null,null,null,null,null,null,null,null,null,null,null,null,null,null,null,null,null,null,null,null,null,null,null,null,null,null,null,null,null,null,null,null,null,null,null,null,"Dieses Programm entstand vor etwa 20 Jahren in handschriftlicher Form mit Zettelwirtschaft."]
[null,"Nr.:",null,null,null,"Turniername max 35 Zeichen",null,null,null,null,null,null,null,null,null,null,null,null,null,null,null,null,null,null,null,null,null,null,null,null,null,null,null,null,null,null,null,null,null,null,"Datum",null,null,null,null,null,null,null,null,null,null,null,null,null,null,null,null,null,null,null,null,null,null,null,null,null,null,null,null,null,null,null,null,null,null,null,null,null,null,null,null,null,null,null,null,null,null,null,"Da sind auch die \"Wer gegen wen\" Loslisten, von 5-6 bis 49-50 händisch entstanden, "]
[null,"011.",null,null,null,"TeamCup Testversion",null,null,null,null,null,null,null,null,null,null,null,null,null,null,null,null,null,null,null,null,null,null,null,null,null,null,null,null,null,null,null,null,null,null,"2021-09-25",null,null,null,null,null,null,null,null,null,null,null,null,null,null,null,null,null,null,null,null,null,null,null,null,null,null,null,null,null,null,null,null,null,null,null,null,null,null,null,null,null,null,null,null,null,null,null,"um die sich dann dieses Programm nach und nach entwickelte. Daher auch die Limitierung auf"]
[null,"Die eingerahmten gelben Felder sind Eingabefelder!",null,null,null,null,null,null,null,null,null,null,null,null,null,null,null,null,null,null,null,null,null,null,null,null,null,null,null,null,null,null,null,null,null,null,null,null,null,null,null,null,null,null,null,null,null,null,null,null,null,null,null,null,null,null,null,null,null,null,null,null,null,null,null,null,null,null,null,null,null,null,null,null,null,null,null,null,null,null,null,null,null,null,null,null,null,null,"50 Mannschaften die ich bisher noch nicht erreicht habe und somit eine Programmiertechnische"]
[null,"Personen",null,null,null,null,null,null,null,null,null,null,"Mannschaften",null,null,null,null,null,null,null,null,null,null,null,null,null,null,"Startgeld",null,null,null,null,null,null,null,null,null,null,null,null,null,null,null,null,null,null,null,null,null,null,null,null,"Achtung!   Löscht alles",null,null,null,null,null,null,null,null,null,null,null,null,null,null,null,null,null,"Generiert die Auslosung",null,null,null,null,null,null,null,null,null,null,null,null,null,null,null,null,null,"Auslosung nicht notwendig war. Da man bei diesem System genau so viele Bahnen braucht, wie"]
[null,{"$f":"Meldeliste!A2","v":123},null,null,null,null,null,null,null,null,null,null,{"$f":"Meldeliste!A1","v":41},null,null,null,null,null,null,null,null,null,null,null,null,null,null,{"$f":"B6*5","v":615},null,null,null,null,null,null,null,null,null,null,null,null,null,null,null,null,null,null,null,null,null,null,null,null,null,null,null,null,null,null,null,null,"Eine kleine Bedienungsanleitung",null,null,null,null,null,null,null,null,null,null,null,null,null,null,null,null,null,null,null,null,null,null,null,null,null,null,null,null,null,null,null,null,null,null,null,null,null,null,"Mannschaften gemeldet sind wird dies für viele Vereine ausreichend sein."]
["SW",null,null,null,"Runde 1",null,null,null,null,null,null,null,null,null,"Runde 2",null,null,null,null,null,null,null,null,null,"Runde 3",null,null,null,null,null,null,null,null,null,"Runde 4",null,null,null,null,null,null,null,null,null,null,null,"4. Runde O",null,null,null,null,null,null,null,null,null,null,null,null,null,"Dieses Programm ist nur mit Makros zu benutzen. Einige Blätter sind geschützt aber nicht mit einem Passwort gesichert. Alles ist zugänglich"]
[null,1,null,null,{"$f":"IF('1. Runde'!A3=\"\",\"\",'1. Runde'!A3)","v":31},null,null,null,":",{"$f":"IF('1. Runde'!E3=\"\",\"\",'1. Runde'!E3)","v":34},null,null,null,null,{"$f":"IF('2. Runde'!A3=\"\",\"\",'2. Runde'!A3)","v":1},null,null,null,":",{"$f":"IF('2. Runde'!E3=\"\",\"\",'2. Runde'!E3)","v":14},null,null,null,null,{"$f":"IF('3. Runde'!A3=\"\",\"\",'3. Runde'!A3)","v":12},null,null,null,":",{"$f":"IF('3. Runde'!E3=\"\",\"\",'3. Runde'!E3)","v":24},null,null,null,null,{"$f":"IF('4. Runde'!A3=\"\",\"\",'4. Runde'!A3)","v":28},null,null,null,":",{"$f":"IF('4. Runde'!E3=\"\",\"\",'4. Runde'!E3)","v":8},null,null,null,null,1,null,"optional im",null,null,null,null,null,null,null,null,null,1,null,null,null,"und veränderbar, allerdings mit Vorsicht, da das Programm dadurch unbrauchbar werden kann. Also nur mit einer Kopie arbeiten."]
[null,2,null,null,{"$f":"IF('1. Runde'!A4=\"\",\"\",'1. Runde'!A4)","v":29},null,null,null,":",{"$f":"IF('1. Runde'!E4=\"\",\"\",'1. Runde'!E4)","v":12},null,null,null,null,{"$f":"IF('2. Runde'!A4=\"\",\"\",'2. Runde'!A4)","v":27},null,null,null,":",{"$f":"IF('2. Runde'!E4=\"\",\"\",'2. Runde'!E4)","v":20},null,null,null,null,{"$f":"IF('3. Runde'!A4=\"\",\"\",'3. Runde'!A4)","v":4},null,null,null,":",{"$f":"IF('3. Runde'!E4=\"\",\"\",'3. Runde'!E4)","v":33},null,null,null,null,{"$f":"IF('4. Runde'!A4=\"\",\"\",'4. Runde'!A4)","v":14},null,null,null,":",{"$f":"IF('4. Runde'!E4=\"\",\"\",'4. Runde'!E4)","v":16},null,null,null,null,2,null,"Schweizer-",null,null,null,null,null,null,null,null,null,2,null,null,null,"Die Eingabe der Spielernamen erfolgt in der \"Meldeliste\". Nach Beendigung der Einschreibung wird die Übernahme der Daten und die "]
[null,3,null,null,{"$f":"IF('1. Runde'!A5=\"\",\"\",'1. Runde'!A5)","v":23},null,null,null,":",{"$f":"IF('1. Runde'!E5=\"\",\"\",'1. Runde'!E5)","v":18},null,null,null,null,{"$f":"IF('2. Runde'!A5=\"\",\"\",'2. Runde'!A5)","v":34},null,null,null,":",{"$f":"IF('2. Runde'!E5=\"\",\"\",'2. Runde'!E5)","v":22},null,null,null,null,{"$f":"IF('3. Runde'!A5=\"\",\"\",'3. Runde'!A5)","v":23},null,null,null,":",{"$f":"IF('3. Runde'!E5=\"\",\"\",'3. Runde'!E5)","v":31},null,null,null,null,{"$f":"IF('4. Runde'!A5=\"\",\"\",'4. Runde'!A5)","v":33},null,null,null,":",{"$f":"IF('4. Runde'!E5=\"\",\"\",'4. Runde'!E5)","v":26},null,null,null,null,3,null,"Systen",null,null,null,null,null,null,null,null,null,3,null,null,null,"Auslosung mit einem Klick auf Start getätigt. Der Ausdruck der Runden 1-4 ist formatiert, man muss nur in der Menüleiste auf Drucken"]
[null,4,null,null,{"$f":"IF('1. Runde'!A6=\"\",\"\",'1. Runde'!A6)","v":2},null,null,null,":",{"$f":"IF('1. Runde'!E6=\"\",\"\",'1. Runde'!E6)","v":16},null,null,null,null,{"$f":"IF('2. Runde'!A6=\"\",\"\",'2. Runde'!A6)","v":26},null,null,null,":",{"$f":"IF('2. Runde'!E6=\"\",\"\",'2. Runde'!E6)","v":10},null,null,null,null,{"$f":"IF('3. Runde'!A6=\"\",\"\",'3. Runde'!A6)","v":37},null,null,null,":",{"$f":"IF('3. Runde'!E6=\"\",\"\",'3. Runde'!E6)","v":32},null,null,null,null,{"$f":"IF('4. Runde'!A6=\"\",\"\",'4. Runde'!A6)","v":"FL"},null,null,null,":",{"$f":"IF('4. Runde'!E6=\"\",\"\",'4. Runde'!E6)","v":36},null,null,null,null,4,null,"hier",null,null,null,null,null,"ein",null,null,null,4,null,null,null,"gehen und die Rundenauslosung wird gedruckt. Der Ausdruck der Tabelle, der Meldeliste und der Einzelwertung sind nicht formatiert."]
[null,5,null,null,{"$f":"IF('1. Runde'!A7=\"\",\"\",'1. Runde'!A7)","v":6},null,null,null,":",{"$f":"IF('1. Runde'!E7=\"\",\"\",'1. Runde'!E7)","v":30},null,null,null,null,{"$f":"IF('2. Runde'!A7=\"\",\"\",'2. Runde'!A7)","v":31},null,null,null,":",{"$f":"IF('2. Runde'!E7=\"\",\"\",'2. Runde'!E7)","v":11},null,null,null,null,{"$f":"IF('3. Runde'!A7=\"\",\"\",'3. Runde'!A7)","v":38},null,null,null,":",{"$f":"IF('3. Runde'!E7=\"\",\"\",'3. Runde'!E7)","v":3},null,null,null,null,{"$f":"IF('4. Runde'!A7=\"\",\"\",'4. Runde'!A7)","v":15},null,null,null,":",{"$f":"IF('4. Runde'!E7=\"\",\"\",'4. Runde'!E7)","v":3},null,null,null,null,5,null,"x setzen und",null,null,null,null,null,null,null,null,null,5,null,null,null,"Dies muss manuell eingestellt werden. Die Eingabe der Spielergebnisse erfolgt in den Blättern \"1. Runde bis 4. Runde\". Zur Sicherheit"]
[null,6,null,null,{"$f":"IF('1. Runde'!A8=\"\",\"\",'1. Runde'!A8)","v":22},null,null,null,":",{"$f":"IF('1. Runde'!E8=\"\",\"\",'1. Runde'!E8)","v":21},null,null,null,null,{"$f":"IF('2. Runde'!A8=\"\",\"\",'2. Runde'!A8)","v":38},null,null,null,":",{"$f":"IF('2. Runde'!E8=\"\",\"\",'2. Runde'!E8)","v":5},null,null,null,null,{"$f":"IF('3. Runde'!A8=\"\",\"\",'3. Runde'!A8)","v":2},null,null,null,":",{"$f":"IF('3. Runde'!E8=\"\",\"\",'3. Runde'!E8)","v":"FL"},null,null,null,null,{"$f":"IF('4. Runde'!A8=\"\",\"\",'4. Runde'!A8)","v":4},null,null,null,":",{"$f":"IF('4. Runde'!E8=\"\",\"\",'4. Runde'!E8)","v":20},null,null,null,null,6,null,"ENTER",null,null,null,null,null,null,null,null,null,6,null,null,null,"und um am Rundenende eine korrekte Rangliste zu bekommen, sind von Runde 1 bis 4 die Eingabefelder auszudrucken. Die sind für den"]
[null,7,null,null,{"$f":"IF('1. Runde'!A9=\"\",\"\",'1. Runde'!A9)","v":19},null,null,null,":",{"$f":"IF('1. Runde'!E9=\"\",\"\",'1. Runde'!E9)","v":7},null,null,null,null,{"$f":"IF('2. Runde'!A9=\"\",\"\",'2. Runde'!A9)","v":3},null,null,null,":",{"$f":"IF('2. Runde'!E9=\"\",\"\",'2. Runde'!E9)","v":7},null,null,null,null,{"$f":"IF('3. Runde'!A9=\"\",\"\",'3. Runde'!A9)","v":10},null,null,null,":",{"$f":"IF('3. Runde'!E9=\"\",\"\",'3. Runde'!E9)","v":9},null,null,null,null,{"$f":"IF('4. Runde'!A9=\"\",\"\",'4. Runde'!A9)","v":7},null,null,null,":",{"$f":"IF('4. Runde'!E9=\"\",\"\",'4. Runde'!E9)","v":38},null,null,null,null,7,null,"drücken",null,null,null,null,null,null,null,null,null,7,null,null,null,"Ausdruck formatiert. Da es kein gemeinsames Rundenende gibt, sondern nahtlos weitergespielt werden kann, sobald die gegnerische "]
[null,8,null,null,{"$f":"IF('1. Runde'!A10=\"\",\"\",'1. Runde'!A10)","v":25},null,null,null,":",{"$f":"IF('1. Runde'!E10=\"\",\"\",'1. Runde'!E10)","v":13},null,null,null,null,{"$f":"IF('2. Runde'!A10=\"\",\"\",'2. Runde'!A10)","v":8},null,null,null,":",{"$f":"IF('2. Runde'!E10=\"\",\"\",'2. Runde'!E10)","v":12},null,null,null,null,{"$f":"IF('3. Runde'!A10=\"\",\"\",'3. Runde'!A10)","v":20},null,null,null,":",{"$f":"IF('3. Runde'!E10=\"\",\"\",'3. Runde'!E10)","v":7},null,null,null,null,{"$f":"IF('4. Runde'!A10=\"\",\"\",'4. Runde'!A10)","v":30},null,null,null,":",{"$f":"IF('4. Runde'!E10=\"\",\"\",'4. Runde'!E10)","v":12},null,null,null,null,8,null,"bevor Start",null,null,null,null,null,null,null,null,null,8,null,null,null,"Mannschaft für die nächste Runde bereit ist, ist es angebracht die Ergebnismeldungen handschriftlich in die ausgedruckten Listen einzutragen."]
[null,9,null,null,{"$f":"IF('1. Runde'!A11=\"\",\"\",'1. Runde'!A11)","v":9},null,null,null,":",{"$f":"IF('1. Runde'!E11=\"\",\"\",'1. Runde'!E11)","v":8},null,null,null,null,{"$f":"IF('2. Runde'!A11=\"\",\"\",'2. Runde'!A11)","v":40},null,null,null,":",{"$f":"IF('2. Runde'!E11=\"\",\"\",'2. Runde'!E11)","v":41},null,null,null,null,{"$f":"IF('3. Runde'!A11=\"\",\"\",'3. Runde'!A11)","v":40},null,null,null,":",{"$f":"IF('3. Runde'!E11=\"\",\"\",'3. Runde'!E11)","v":13},null,null,null,null,{"$f":"IF('4. Runde'!A11=\"\",\"\",'4. Runde'!A11)","v":31},null,null,null,":",{"$f":"IF('4. Runde'!E11=\"\",\"\",'4. Runde'!E11)","v":17},null,null,null,null,9,null,"geklickt wird.",null,null,null,null,null,null,null,null,null,9,null,null,null,"und die Ergebnisse der nächsten Runde erst nach Beendigung der vorherigen Runde einzugeben. Die Ergebnisse können jeder Zeit mit"]
[null,10,null,null,{"$f":"IF('1. Runde'!A12=\"\",\"\",'1. Runde'!A12)","v":28},null,null,null,":",{"$f":"IF('1. Runde'!E12=\"\",\"\",'1. Runde'!E12)","v":41},null,null,null,null,{"$f":"IF('2. Runde'!A12=\"\",\"\",'2. Runde'!A12)","v":"FL"},null,null,null,":",{"$f":"IF('2. Runde'!E12=\"\",\"\",'2. Runde'!E12)","v":21},null,null,null,null,{"$f":"IF('3. Runde'!A12=\"\",\"\",'3. Runde'!A12)","v":29},null,null,null,":",{"$f":"IF('3. Runde'!E12=\"\",\"\",'3. Runde'!E12)","v":34},null,null,null,null,{"$f":"IF('4. Runde'!A12=\"\",\"\",'4. Runde'!A12)","v":35},null,null,null,":",{"$f":"IF('4. Runde'!E12=\"\",\"\",'4. Runde'!E12)","v":40},null,null,null,null,10,null,null,null,null,null,null,null,null,null,null,null,10,null,null,null,"Hilfe den Tasten \"Übertrag zur ...\" in die Tabelle und in die Einzelwertung übertragen werden. Danach die Taste \"Sortieren\" klicken und"]
[null,11,null,null,{"$f":"IF('1. Runde'!A13=\"\",\"\",'1. Runde'!A13)","v":35},null,null,null,":",{"$f":"IF('1. Runde'!E13=\"\",\"\",'1. Runde'!E13)","v":24},null,null,null,null,{"$f":"IF('2. Runde'!A13=\"\",\"\",'2. Runde'!A13)","v":25},null,null,null,":",{"$f":"IF('2. Runde'!E13=\"\",\"\",'2. Runde'!E13)","v":16},null,null,null,null,{"$f":"IF('3. Runde'!A13=\"\",\"\",'3. Runde'!A13)","v":16},null,null,null,":",{"$f":"IF('3. Runde'!E13=\"\",\"\",'3. Runde'!E13)","v":41},null,null,null,null,{"$f":"IF('4. Runde'!A13=\"\",\"\",'4. Runde'!A13)","v":21},null,null,null,":",{"$f":"IF('4. Runde'!E13=\"\",\"\",'4. Runde'!E13)","v":27},null,null,null,null,11,null,null,null,null,null,null,null,null,null,null,null,11,null,null,null,"die Tabelle steht. Es besteht auch die Möglichkeit die 4. Runde im Modus Schweizer System zu spielen. Das bedeutet, die Besten der ersten "]
[null,12,null,null,{"$f":"IF('1. Runde'!A14=\"\",\"\",'1. Runde'!A14)","v":14},null,null,null,":",{"$f":"IF('1. Runde'!E14=\"\",\"\",'1. Runde'!E14)","v":20},null,null,null,null,{"$f":"IF('2. Runde'!A14=\"\",\"\",'2. Runde'!A14)","v":18},null,null,null,":",{"$f":"IF('2. Runde'!E14=\"\",\"\",'2. Runde'!E14)","v":39},null,null,null,null,{"$f":"IF('3. Runde'!A14=\"\",\"\",'3. Runde'!A14)","v":25},null,null,null,":",{"$f":"IF('3. Runde'!E14=\"\",\"\",'3. Runde'!E14)","v":8},null,null,null,null,{"$f":"IF('4. Runde'!A14=\"\",\"\",'4. Runde'!A14)","v":25},null,null,null,":",{"$f":"IF('4. Runde'!E14=\"\",\"\",'4. Runde'!E14)","v":5},null,null,null,null,12,null,null,null,null,null,null,null,null,null,null,null,12,null,null,null,"3 Runden spielen gegeneinander, Platz 1 gegen 2, 3 gegen 4, 4 gegen 5 und so weiter. Die Erklärung steht unter \"4. Runde O\"."]
[null,13,null,null,{"$f":"IF('1. Runde'!A15=\"\",\"\",'1. Runde'!A15)","v":33},null,null,null,":",{"$f":"IF('1. Runde'!E15=\"\",\"\",'1. Runde'!E15)","v":17},null,null,null,null,{"$f":"IF('2. Runde'!A15=\"\",\"\",'2. Runde'!A15)","v":35},null,null,null,":",{"$f":"IF('2. Runde'!E15=\"\",\"\",'2. Runde'!E15)","v":19},null,null,null,null,{"$f":"IF('3. Runde'!A15=\"\",\"\",'3. Runde'!A15)","v":18},null,null,null,":",{"$f":"IF('3. Runde'!E15=\"\",\"\",'3. Runde'!E15)","v":28},null,null,null,null,{"$f":"IF('4. Runde'!A15=\"\",\"\",'4. Runde'!A15)","v":10},null,null,null,":",{"$f":"IF('4. Runde'!E15=\"\",\"\",'4. Runde'!E15)","v":19},null,null,null,null,13,null,null,null,null,null,null,null,null,null,null,null,13,null,null,null,"Mit der Taste \"Neustart\" werden alle Daten gelöscht und das Programm für ein neues Turnier gestartet."]
[null,14,null,null,{"$f":"IF('1. Runde'!A16=\"\",\"\",'1. Runde'!A16)","v":5},null,null,null,":",{"$f":"IF('1. Runde'!E16=\"\",\"\",'1. Runde'!E16)","v":10},null,null,null,null,{"$f":"IF('2. Runde'!A16=\"\",\"\",'2. Runde'!A16)","v":9},null,null,null,":",{"$f":"IF('2. Runde'!E16=\"\",\"\",'2. Runde'!E16)","v":6},null,null,null,null,{"$f":"IF('3. Runde'!A16=\"\",\"\",'3. Runde'!A16)","v":39},null,null,null,":",{"$f":"IF('3. Runde'!E16=\"\",\"\",'3. Runde'!E16)","v":30},null,null,null,null,{"$f":"IF('4. Runde'!A16=\"\",\"\",'4. Runde'!A16)","v":41},null,null,null,":",{"$f":"IF('4. Runde'!E16=\"\",\"\",'4. Runde'!E16)","v":34},null,null,null,null,14,null,"Hier",null,null,null,null,null,null,null,null,null,14,null,null,null,"Die Enzelwertung errechnet für jeden einzelnen Teilnehmer die Siege und Punkte."]
[null,15,null,null,{"$f":"IF('1. Runde'!A17=\"\",\"\",'1. Runde'!A17)","v":11},null,null,null,":",{"$f":"IF('1. Runde'!E17=\"\",\"\",'1. Runde'!E17)","v":40},null,null,null,null,{"$f":"IF('2. Runde'!A17=\"\",\"\",'2. Runde'!A17)","v":2},null,null,null,":",{"$f":"IF('2. Runde'!E17=\"\",\"\",'2. Runde'!E17)","v":37},null,null,null,null,{"$f":"IF('3. Runde'!A17=\"\",\"\",'3. Runde'!A17)","v":26},null,null,null,":",{"$f":"IF('3. Runde'!E17=\"\",\"\",'3. Runde'!E17)","v":22},null,null,null,null,{"$f":"IF('4. Runde'!A17=\"\",\"\",'4. Runde'!A17)","v":37},null,null,null,":",{"$f":"IF('4. Runde'!E17=\"\",\"\",'4. Runde'!E17)","v":6},null,null,null,null,15,null,"nur klicken",null,null,null,null,null,null,null,null,null,15,null,null,null,"Das Tabellenblatt \"2021\" ist für die Auswertung von Turnierserien über das Jahr. "]
[null,16,null,null,{"$f":"IF('1. Runde'!A18=\"\",\"\",'1. Runde'!A18)","v":32},null,null,null,":",{"$f":"IF('1. Runde'!E18=\"\",\"\",'1. Runde'!E18)","v":36},null,null,null,null,{"$f":"IF('2. Runde'!A18=\"\",\"\",'2. Runde'!A18)","v":4},null,null,null,":",{"$f":"IF('2. Runde'!E18=\"\",\"\",'2. Runde'!E18)","v":24},null,null,null,null,{"$f":"IF('3. Runde'!A18=\"\",\"\",'3. Runde'!A18)","v":27},null,null,null,":",{"$f":"IF('3. Runde'!E18=\"\",\"\",'3. Runde'!E18)","v":36},null,null,null,null,{"$f":"IF('4. Runde'!A18=\"\",\"\",'4. Runde'!A18)","v":29},null,null,null,":",{"$f":"IF('4. Runde'!E18=\"\",\"\",'4. Runde'!E18)","v":22},null,null,null,null,16,null,"wenn die",null,null,null,null,null,null,null,null,null,16,null,null,null,"Das Freilos werte ich 13:7. Und nun wünsche ich viel Vergnügen!"]
[null,17,null,null,{"$f":"IF('1. Runde'!A19=\"\",\"\",'1. Runde'!A19)","v":"FL"},null,null,null,":",{"$f":"IF('1. Runde'!E19=\"\",\"\",'1. Runde'!E19)","v":15},null,null,null,null,{"$f":"IF('2. Runde'!A19=\"\",\"\",'2. Runde'!A19)","v":30},null,null,null,":",{"$f":"IF('2. Runde'!E19=\"\",\"\",'2. Runde'!E19)","v":15},null,null,null,null,{"$f":"IF('3. Runde'!A19=\"\",\"\",'3. Runde'!A19)","v":21},null,null,null,":",{"$f":"IF('3. Runde'!E19=\"\",\"\",'3. Runde'!E19)","v":19},null,null,null,null,{"$f":"IF('4. Runde'!A19=\"\",\"\",'4. Runde'!A19)","v":18},null,null,null,":",{"$f":"IF('4. Runde'!E19=\"\",\"\",'4. Runde'!E19)","v":13},null,null,null,null,17,null,"Runde 3",null,null,null,null,null,null,null,null,null,17,null,null,null,"Siggi Wind"]
[null,18,null,null,{"$f":"IF('1. Runde'!A20=\"\",\"\",'1. Runde'!A20)","v":37},null,null,null,":",{"$f":"IF('1. Runde'!E20=\"\",\"\",'1. Runde'!E20)","v":4},null,null,null,null,{"$f":"IF('2. Runde'!A20=\"\",\"\",'2. Runde'!A20)","v":33},null,null,null,":",{"$f":"IF('2. Runde'!E20=\"\",\"\",'2. Runde'!E20)","v":32},null,null,null,null,{"$f":"IF('3. Runde'!A20=\"\",\"\",'3. Runde'!A20)","v":11},null,null,null,":",{"$f":"IF('3. Runde'!E20=\"\",\"\",'3. Runde'!E20)","v":15},null,null,null,null,{"$f":"IF('4. Runde'!A20=\"\",\"\",'4. Runde'!A20)","v":39},null,null,null,":",{"$f":"IF('4. Runde'!E20=\"\",\"\",'4. Runde'!E20)","v":23},null,null,null,null,18,null,"beendet ist.",null,null,null,null,null,null,null,null,null,18]
[null,19,null,null,{"$f":"IF('1. Runde'!A21=\"\",\"\",'1. Runde'!A21)","v":26},null,null,null,":",{"$f":"IF('1. Runde'!E21=\"\",\"\",'1. Runde'!E21)","v":38},null,null,null,null,{"$f":"IF('2. Runde'!A21=\"\",\"\",'2. Runde'!A21)","v":17},null,null,null,":",{"$f":"IF('2. Runde'!E21=\"\",\"\",'2. Runde'!E21)","v":13},null,null,null,null,{"$f":"IF('3. Runde'!A21=\"\",\"\",'3. Runde'!A21)","v":14},null,null,null,":",{"$f":"IF('3. Runde'!E21=\"\",\"\",'3. Runde'!E21)","v":6},null,null,null,null,{"$f":"IF('4. Runde'!A21=\"\",\"\",'4. Runde'!A21)","v":32},null,null,null,":",{"$f":"IF('4. Runde'!E21=\"\",\"\",'4. Runde'!E21)","v":9},null,null,null,null,19,null,null,null,null,null,null,null,null,null,null,null,19,null,null,null,null,"In Verschiedenen Sortierroutinen verwende ich .SortFields.Add2, das kann zu Problemen führen. "]
[null,20,null,null,{"$f":"IF('1. Runde'!A22=\"\",\"\",'1. Runde'!A22)","v":27},null,null,null,":",{"$f":"IF('1. Runde'!E22=\"\",\"\",'1. Runde'!E22)","v":39},null,null,null,null,{"$f":"IF('2. Runde'!A22=\"\",\"\",'2. Runde'!A22)","v":36},null,null,null,":",{"$f":"IF('2. Runde'!E22=\"\",\"\",'2. Runde'!E22)","v":28},null,null,null,null,{"$f":"IF('3. Runde'!A22=\"\",\"\",'3. Runde'!A22)","v":35},null,null,null,":",{"$f":"IF('3. Runde'!E22=\"\",\"\",'3. Runde'!E22)","v":17},null,null,null,null,{"$f":"IF('4. Runde'!A22=\"\",\"\",'4. Runde'!A22)","v":2},null,null,null,":",{"$f":"IF('4. Runde'!E22=\"\",\"\",'4. Runde'!E22)","v":11},null,null,null,null,20,null,"Der letzte Platz",null,null,null,null,null,null,null,null,null,20,null,null,null,null,"Bei Problemen in den Makros alle 2er bei der ADD Funktion streichen."]
[null,21,null,null,{"$f":"IF('1. Runde'!A23=\"\",\"\",'1. Runde'!A23)","v":1},null,null,null,":",{"$f":"IF('1. Runde'!E23=\"\",\"\",'1. Runde'!E23)","v":3},null,null,null,null,{"$f":"IF('2. Runde'!A23=\"\",\"\",'2. Runde'!A23)","v":23},null,null,null,":",{"$f":"IF('2. Runde'!E23=\"\",\"\",'2. Runde'!E23)","v":29},null,null,null,null,{"$f":"IF('3. Runde'!A23=\"\",\"\",'3. Runde'!A23)","v":5},null,null,null,":",{"$f":"IF('3. Runde'!E23=\"\",\"\",'3. Runde'!E23)","v":1},null,null,null,null,{"$f":"IF('4. Runde'!A23=\"\",\"\",'4. Runde'!A23)","v":24},null,null,null,":",{"$f":"IF('4. Runde'!E23=\"\",\"\",'4. Runde'!E23)","v":1},null,null,null,null,21,null,"ohne Gegner",null,null,null,null,null,null,null,null,null,21]
[null,22,null,null,{"$f":"IF('1. Runde'!A24=\"\",\"\",'1. Runde'!A24)","v":""},null,null,null,":",{"$f":"IF('1. Runde'!E24=\"\",\"\",'1. Runde'!E24)","v":""},null,null,null,null,{"$f":"IF('2. Runde'!A24=\"\",\"\",'2. Runde'!A24)","v":""},null,null,null,":",{"$f":"IF('2. Runde'!E24=\"\",\"\",'2. Runde'!E24)","v":""},null,null,null,null,{"$f":"IF('3. Runde'!A24=\"\",\"\",'3. Runde'!A24)","v":""},null,null,null,":",{"$f":"IF('3. Runde'!E24=\"\",\"\",'3. Runde'!E24)","v":""},null,null,null,null,{"$f":"IF('4. Runde'!A24=\"\",\"\",'4. Runde'!A24)","v":""},null,null,null,":",{"$f":"IF('4. Runde'!E24=\"\",\"\",'4. Runde'!E24)","v":""},null,null,null,null,22,null,"braucht nicht",null,null,null,null,null,null,null,null,null,22]
[null,23,null,null,{"$f":"IF('1. Runde'!A25=\"\",\"\",'1. Runde'!A25)","v":""},null,null,null,":",{"$f":"IF('1. Runde'!E25=\"\",\"\",'1. Runde'!E25)","v":""},null,null,null,null,{"$f":"IF('2. Runde'!A25=\"\",\"\",'2. Runde'!A25)","v":""},null,null,null,":",{"$f":"IF('2. Runde'!E25=\"\",\"\",'2. Runde'!E25)","v":""},null,null,null,null,{"$f":"IF('3. Runde'!A25=\"\",\"\",'3. Runde'!A25)","v":""},null,null,null,":",{"$f":"IF('3. Runde'!E25=\"\",\"\",'3. Runde'!E25)","v":""},null,null,null,null,{"$f":"IF('4. Runde'!A25=\"\",\"\",'4. Runde'!A25)","v":""},null,null,null,":",{"$f":"IF('4. Runde'!E25=\"\",\"\",'4. Runde'!E25)","v":""},null,null,null,null,23,null,"mehr zu ",null,null,null,null,null,null,null,null,null,23,null,null,null,"Da ich ein Vereinsloser Einzelkämpfer bin, wäre ich bei gefallen meines Programmes über eine kleine Spende erfreut."]
[null,24,null,null,{"$f":"IF('1. Runde'!A26=\"\",\"\",'1. Runde'!A26)","v":""},null,null,null,":",{"$f":"IF('1. Runde'!E26=\"\",\"\",'1. Runde'!E26)","v":""},null,null,null,null,{"$f":"IF('2. Runde'!A26=\"\",\"\",'2. Runde'!A26)","v":""},null,null,null,":",{"$f":"IF('2. Runde'!E26=\"\",\"\",'2. Runde'!E26)","v":""},null,null,null,null,{"$f":"IF('3. Runde'!A26=\"\",\"\",'3. Runde'!A26)","v":""},null,null,null,":",{"$f":"IF('3. Runde'!E26=\"\",\"\",'3. Runde'!E26)","v":""},null,null,null,null,{"$f":"IF('4. Runde'!A26=\"\",\"\",'4. Runde'!A26)","v":""},null,null,null,":",{"$f":"IF('4. Runde'!E26=\"\",\"\",'4. Runde'!E26)","v":""},null,null,null,null,24,null,"Spielen.",null,null,null,null,null,null,null,null,null,24,null,null,null,"Siegfried Wind * VR Bank Südliche Weinstraße * IBAN DE03 5489 1300 2809 3180 04"]
[null,25,null,null,{"$f":"IF('1. Runde'!A27=\"\",\"\",'1. Runde'!A27)","v":""},null,null,null,":",{"$f":"IF('1. Runde'!E27=\"\",\"\",'1. Runde'!E27)","v":""},null,null,null,null,{"$f":"IF('2. Runde'!A27=\"\",\"\",'2. Runde'!A27)","v":""},null,null,null,":",{"$f":"IF('2. Runde'!E27=\"\",\"\",'2. Runde'!E27)","v":""},null,null,null,null,{"$f":"IF('3. Runde'!A27=\"\",\"\",'3. Runde'!A27)","v":""},null,null,null,":",{"$f":"IF('3. Runde'!E27=\"\",\"\",'3. Runde'!E27)","v":""},null,null,null,null,{"$f":"IF('4. Runde'!A27=\"\",\"\",'4. Runde'!A27)","v":""},null,null,null,":",{"$f":"IF('4. Runde'!E27=\"\",\"\",'4. Runde'!E27)","v":""},null,null,null,null,25,null,null,null,null,null,null,null,null,null,null,null,25]

{"sheet":"1. Runde","index":1,"n_rows":52,"n_cols":54,"rows_kept":52,"cut":false,"hidden":false,"merged":[[1,51,1,52],[1,34,1,38],[1,41,1,45],[0,0,0,10],[1,0,1,4],[1,6,1,10],[0,51,0,53],[0,48,0,50]]}
["Runde 1",null,null,null,null,null,null,null,null,null,null,25,20,null,null,null,null,{"$f":"COUNTIF(R3:R52,\"0\")+3","v":3},null,null,null,null,null,null,null,null,null,null,{"$f":"R1","v":3},null,null,null,null,{"$f":"Start!B3","v":"011."},{"$f":"Start!F3","v":"TeamCup Testversion"},null,null,null,null,null,null,null,null,null,null,null,null,null,{"$f":"Start!AO3","v":"2021-09-25"},null,null,"1. Runde"]
["A spielt TaT",null,null,null,null,null,"B & C spielen Dub",null,null,null,null,null,null,null,null,null,null,52,null,null,null,null,null,null,null,null,null,null,{"$f":"R2","v":52},null,null,null,null,"Team","  A spielt TaT",null,null,null,null,{"$f":"SUM(AN3:AN52)","v":0},"Team","  B & C Dub",null,null,null,null,{"$f":"SUM(AU3:AU52)","v":0},"Team","Siege","Punkte","Team","Gesamt",null,"Team"]
[31,null,":",null,34,null,{"$f":"IF(A3=\"\",\"\",A3)","v":31},3,":",13,{"$f":"IF(E3=\"\",\"\",E3)","v":34},{"$f":"IF(A3=\"\",\"\",A3)","v":31},{"$f":"IF(B3=\"\",\"\",B3)","v":""},":",{"$f":"IF(D3=\"\",\"\",D3)","v":""},{"$f":"IF(E3=\"\",\"\",E3)","v":34},null,1,13,":",8,null,{"$f":"IF(G3=\"\",\"\",L3)","v":31},{"$f":"IF(H3=\"\",\"\",H3)","v":3},":",{"$f":"IF(J3=\"\",\"\",J3)","v":13},{"$f":"IF(K3=\"\",\"\",K3)","v":34},null,1,12,":",13,null,1,13,":",8,null,{"$f":"IF(AI3=13,1,0)","v":1},{"$f":"IF(AI3=\"\",0,AI3-AK3)","v":5},1,12,":",13,null,{"$f":"IF(AP3=13,1,0)","v":0},{"$f":"IF(AP3=\"\",0,AP3-AR3)","v":-1},1,{"$f":"AM3+AT3","v":1},{"$f":"IF(AN3=\"\",\"\",AN3+AU3)","v":4},1,{"$f":"IF('4. Runde'!AD3<>0,AW3,0)","v":1},{"$f":"IF('4. Runde'!AD3<>0,AX3,0)","v":4},1]
[29,null,":",null,12,null,{"$f":"IF(A4=\"\",\"\",A4)","v":29},9,":",13,{"$f":"IF(E4=\"\",\"\",E4)","v":12},{"$f":"IF(A4=\"\",\"\",A4)","v":29},"",":",{"$f":"IF(D4=\"\",\"\",D4)","v":""},{"$f":"IF(E4=\"\",\"\",E4)","v":12},null,2,4,":",13,null,{"$f":"IF(G4=\"\",\"\",L4)","v":29},{"$f":"IF(H4=\"\",\"\",H4)","v":9},":",{"$f":"IF(J4=\"\",\"\",J4)","v":13},{"$f":"IF(K4=\"\",\"\",K4)","v":12},null,2,12,":",13,null,2,4,":",13,null,{"$f":"IF(AI4=13,1,0)","v":0},{"$f":"IF(AI4=\"\",0,AI4-AK4)","v":-9},2,12,":",13,null,{"$f":"IF(AP4=13,1,0)","v":0},{"$f":"IF(AP4=\"\",0,AP4-AR4)","v":-1},2,{"$f":"AM4+AT4","v":0},-10,2,{"$f":"IF('4. Runde'!AD4<>0,AW4,0)","v":0},{"$f":"IF('4. Runde'!AD4<>0,AX4,0)","v":-10},2]
[23,null,":",null,18,null,23,13,":",11,18,23,"",":","",18,null,3,8,":",13,null,23,13,":",11,18,null,3,13,":",12,null,3,8,":",13,null,0,-5,3,13,":",12,null,1,1,3,1,-4,3,{"$f":"IF('4. Runde'!AD5<>0,AW5,0)","v":1},{"$f":"IF('4. Runde'!AD5<>0,AX5,0)","v":-4},3]
[2,null,":",null,16,null,2,12,":",13,16,2,"",":","",16,null,4,5,":",13,null,2,12,":",13,16,null,4,13,":",6,null,4,5,":",13,null,0,-8,4,13,":",6,null,1,7,4,1,-1,4,{"$f":"IF('4. Runde'!AD6<>0,AW6,0)","v":1},{"$f":"IF('4. Runde'!AD6<>0,AX6,0)","v":-1},4]
[6,null,":",null,30,null,6,13,":",7,30,6,"",":","",30,null,5,13,":",9,null,6,13,":",7,30,null,5,2,":",13,null,5,13,":",9,null,1,4,5,2,":",13,null,0,-11,5,1,-7,5,{"$f":"IF('4. Runde'!AD7<>0,AW7,0)","v":1},{"$f":"IF('4. Runde'!AD7<>0,AX7,0)","v":-7},5]
[22,null,":",null,21,null,22,5,":",13,21,22,"",":","",21,null,6,13,":",5,null,22,5,":",13,21,null,6,13,":",7,null,6,13,":",5,null,1,8,6,13,":",7,null,1,6,6,2,14,6,{"$f":"IF('4. Runde'!AD8<>0,AW8,0)","v":2},{"$f":"IF('4. Runde'!AD8<>0,AX8,0)","v":14},6]
[19,null,":",null,7,null,19,13,":",4,7,19,"",":","",7,null,7,7,":",13,null,19,13,":",4,7,null,7,4,":",13,null,7,7,":",13,null,0,-6,7,4,":",13,null,0,-9,7,0,-15,7,{"$f":"IF('4. Runde'!AD9<>0,AW9,0)","v":0},{"$f":"IF('4. Runde'!AD9<>0,AX9,0)","v":-15},7]
[25,null,":",null,13,null,25,9,":",13,13,25,"",":","",13,null,8,9,":",13,null,25,9,":",13,13,null,8,13,":",8,null,8,9,":",13,null,0,-4,8,13,":",8,null,1,5,8,1,1,8,{"$f":"IF('4. Runde'!AD10<>0,AW10,0)","v":1},{"$f":"IF('4. Runde'!AD10<>0,AX10,0)","v":1},8]
[9,null,":",null,8,null,9,8,":",13,8,9,"",":","",8,null,9,13,":",9,null,9,8,":",13,8,null,9,8,":",13,null,9,13,":",9,null,1,4,9,8,":",13,null,0,-5,9,1,-1,9,{"$f":"IF('4. Runde'!AD11<>0,AW11,0)","v":1},{"$f":"IF('4. Runde'!AD11<>0,AX11,0)","v":-1},9]
[28,null,":",null,41,null,28,0,":",13,41,28,"",":","",41,null,10,9,":",13,null,28,0,":",13,41,null,10,13,":",2,null,10,9,":",13,null,0,-4,10,13,":",2,null,1,11,10,1,7,10,{"$f":"IF('4. Runde'!AD12<>0,AW12,0)","v":1},{"$f":"IF('4. Runde'!AD12<>0,AX12,0)","v":7},10]
[35,null,":",null,24,null,35,13,":",5,24,35,"",":","",24,null,11,11,":",13,null,35,13,":",5,24,null,11,13,":",3,null,11,11,":",13,null,0,-2,11,13,":",3,null,1,10,11,1,8,11,{"$f":"IF('4. Runde'!AD13<>0,AW13,0)","v":1},{"$f":"IF('4. Runde'!AD13<>0,AX13,0)","v":8},11]
[14,null,":",null,20,null,14,6,":",13,20,14,"",":","",20,null,12,13,":",2,null,14,6,":",13,20,null,12,13,":",9,null,12,13,":",2,null,1,11,12,13,":",9,null,1,4,12,2,15,12,{"$f":"IF('4. Runde'!AD14<>0,AW14,0)","v":2},{"$f":"IF('4. Runde'!AD14<>0,AX14,0)","v":15},12]
[33,null,":",null,17,null,33,13,":",1,17,33,"",":","",17,null,13,13,":",8,null,33,13,":",1,17,null,13,13,":",9,null,13,13,":",8,null,1,5,13,13,":",9,null,1,4,13,2,9,13,{"$f":"IF('4. Runde'!AD15<>0,AW15,0)","v":2},{"$f":"IF('4. Runde'!AD15<>0,AX15,0)","v":9},13]
[5,null,":",null,10,null,5,2,":",13,10,5,"",":","",10,null,14,12,":",13,null,5,2,":",13,10,null,14,6,":",13,null,14,12,":",13,null,0,-1,14,6,":",13,null,0,-7,14,0,-8,14,{"$f":"IF('4. Runde'!AD16<>0,AW16,0)","v":0},{"$f":"IF('4. Runde'!AD16<>0,AX16,0)","v":-8},14]
[11,null,":",null,40,null,11,13,":",3,40,11,"",":","",40,null,15,13,":",7,null,11,13,":",3,40,null,15,13,":",7,null,15,13,":",7,null,1,6,15,13,":",7,null,1,6,15,2,12,15,{"$f":"IF('4. Runde'!AD17<>0,AW17,0)","v":2},{"$f":"IF('4. Runde'!AD17<>0,AX17,0)","v":12},15]
[32,null,":",null,36,null,32,4,":",13,36,32,"",":","",36,null,16,13,":",4,null,32,4,":",13,36,null,16,13,":",12,null,16,13,":",4,null,1,9,16,13,":",12,null,1,1,16,2,10,16,{"$f":"IF('4. Runde'!AD18<>0,AW18,0)","v":2},{"$f":"IF('4. Runde'!AD18<>0,AX18,0)","v":10},16]
["FL",null,":",null,15,null,"FL",7,":",13,15,"FL","",":","",15,null,17,3,":",13,null,"FL",7,":",13,15,null,17,1,":",13,null,17,3,":",13,null,0,-10,17,1,":",13,null,0,-12,17,0,-22,17,{"$f":"IF('4. Runde'!AD19<>0,AW19,0)","v":0},{"$f":"IF('4. Runde'!AD19<>0,AX19,0)","v":-22},17]
[37,null,":",null,4,null,37,6,":",13,4,37,"",":","",4,null,18,3,":",13,null,37,6,":",13,4,null,18,11,":",13,null,18,3,":",13,null,{"$f":"IF(AI20=13,1,0)","v":0},-10,18,11,":",13,null,0,-2,18,0,-12,18,{"$f":"IF('4. Runde'!AD20<>0,AW20,0)","v":0},{"$f":"IF('4. Runde'!AD20<>0,AX20,0)","v":-12},18]
[26,null,":",null,38,null,26,13,":",7,38,26,"",":","",38,null,19,13,":",7,null,26,13,":",7,38,null,19,13,":",4,null,19,13,":",7,null,1,6,19,13,":",4,null,1,9,19,2,15,19,{"$f":"IF('4. Runde'!AD21<>0,AW21,0)","v":2},{"$f":"IF('4. Runde'!AD21<>0,AX21,0)","v":15},19]
[27,null,":",null,39,null,27,8,":",13,39,27,"",":","",39,null,20,13,":",12,null,27,8,":",13,39,null,20,13,":",6,null,20,13,":",12,null,1,1,20,13,":",6,null,1,7,20,2,8,20,{"$f":"IF('4. Runde'!AD22<>0,AW22,0)","v":2},{"$f":"IF('4. Runde'!AD22<>0,AX22,0)","v":8},20]
[1,null,":",null,3,null,1,12,":",13,3,1,"",":","",3,null,21,13,":",6,null,1,12,":",13,3,null,21,13,":",5,null,21,13,":",6,null,1,7,21,13,":",5,null,1,8,21,2,15,21,{"$f":"IF('4. Runde'!AD23<>0,AW23,0)","v":2},{"$f":"IF('4. Runde'!AD23<>0,AX23,0)","v":15},21]
[null,null,":",null,null,null,"",null,":",null,"","","",":","","",null,22,6,":",13,null,"","",":","","",null,22,5,":",13,null,22,6,":",13,null,0,-7,22,5,":",13,null,0,-8,22,0,-15,22,{"$f":"IF('4. Runde'!AD24<>0,AW24,0)","v":0},{"$f":"IF('4. Runde'!AD24<>0,AX24,0)","v":-15},22]
[null,null,":",null,null,null,"",null,":",null,"","","",":","","",null,23,13,":",3,null,"","",":","","",null,23,13,":",11,null,23,13,":",3,null,1,10,23,13,":",11,null,1,2,23,2,12,23,{"$f":"IF('4. Runde'!AD25<>0,AW25,0)","v":2},{"$f":"IF('4. Runde'!AD25<>0,AX25,0)","v":12},23]
[null,null,":",null,null,null,"",null,":",null,"","","",":","","",null,24,11,":",13,null,"","",":","","",null,24,5,":",13,null,24,11,":",13,null,0,-2,24,5,":",13,null,0,-8,24,0,-10,24,{"$f":"IF('4. Runde'!AD26<>0,AW26,0)","v":0},{"$f":"IF('4. Runde'!AD26<>0,AX26,0)","v":-10},24]
[null,null,":",null,null,null,"",null,":",null,"","","",":","","",null,25,8,":",13,null,"","",":","","",null,25,9,":",13,null,25,8,":",13,null,0,-5,25,9,":",13,null,0,-4,25,0,-9,25,{"$f":"IF('4. Runde'!AD27<>0,AW27,0)","v":0},{"$f":"IF('4. Runde'!AD27<>0,AX27,0)","v":-9},25]
[null,null,null,null,null,null,null,null,null,null,null,{"$f":"P3","v":34},{"$f":"O3","v":""},":",{"$f":"M3","v":""},{"$f":"L3","v":31},null,26,4,":",13,null,{"$f":"AA3","v":34},{"$f":"Z3","v":13},":",{"$f":"X3","v":3},{"$f":"W3","v":31},null,26,13,":",7,null,26,4,":",13,null,0,-9,26,13,":",7,null,1,6,26,1,-3,26,{"$f":"IF('4. Runde'!AD28<>0,AW28,0)","v":1},{"$f":"IF('4. Runde'!AD28<>0,AX28,0)","v":-3},26]
[null,null,null,null,null,null,null,null,null,null,null,12,"",":","",29,null,27,13,":",9,null,{"$f":"AA4","v":12},{"$f":"Z4","v":13},":",{"$f":"X4","v":9},{"$f":"W4","v":29},null,27,8,":",13,null,27,13,":",9,null,1,4,27,8,":",13,null,0,-5,27,1,-1,27,{"$f":"IF('4. Runde'!AD29<>0,AW29,0)","v":1},{"$f":"IF('4. Runde'!AD29<>0,AX29,0)","v":-1},27]
[null,null,null,null,null,null,null,null,null,null,null,18,"",":","",23,null,28,10,":",13,null,18,11,":",13,23,null,28,0,":",13,null,28,10,":",13,null,0,-3,28,0,":",13,null,0,-13,28,0,-16,28,{"$f":"IF('4. Runde'!AD30<>0,AW30,0)","v":0},{"$f":"IF('4. Runde'!AD30<>0,AX30,0)","v":-16},28]
[null,null,null,null,null,null,null,null,null,null,null,16,"",":","",2,null,29,2,":",13,null,16,13,":",12,2,null,29,9,":",13,null,29,2,":",13,null,0,-11,29,9,":",13,null,0,-4,29,0,-15,29,{"$f":"IF('4. Runde'!AD31<>0,AW31,0)","v":0},{"$f":"IF('4. Runde'!AD31<>0,AX31,0)","v":-15},29]
[null,null,null,null,null,null,null,null,null,null,null,30,"",":","",6,null,30,5,":",13,null,30,7,":",13,6,null,30,7,":",13,null,30,5,":",13,null,0,-8,30,7,":",13,null,0,-6,30,0,-14,30,{"$f":"IF('4. Runde'!AD32<>0,AW32,0)","v":0},{"$f":"IF('4. Runde'!AD32<>0,AX32,0)","v":-14},30]
[null,null,null,null,null,null,null,null,null,null,null,21,"",":","",22,null,31,13,":",1,null,21,13,":",5,22,null,31,3,":",13,null,31,13,":",1,null,1,12,31,3,":",13,null,0,-10,31,1,{"$f":"IF(AN33=\"\",\"\",AN33+AU33)","v":2},31,{"$f":"IF('4. Runde'!AD33<>0,AW33,0)","v":1},{"$f":"IF('4. Runde'!AD33<>0,AX33,0)","v":2},31]
[null,null,null,null,null,null,null,null,null,null,null,7,"",":","",19,null,32,13,":",12,null,7,4,":",13,19,null,32,4,":",13,null,32,13,":",12,null,1,1,32,4,":",13,null,0,-9,32,1,{"$f":"IF(AN34=\"\",\"\",AN34+AU34)","v":-8},32,{"$f":"IF('4. Runde'!AD34<>0,AW34,0)","v":1},{"$f":"IF('4. Runde'!AD34<>0,AX34,0)","v":-8},32]
[null,null,null,null,null,null,null,null,null,null,null,13,"",":","",25,null,33,13,":",3,null,13,13,":",9,25,null,33,13,":",1,null,33,13,":",3,null,1,10,33,13,":",1,null,1,12,33,2,22,33,{"$f":"IF('4. Runde'!AD35<>0,AW35,0)","v":2},{"$f":"IF('4. Runde'!AD35<>0,AX35,0)","v":22},33]
[null,null,null,null,null,null,null,null,null,null,null,8,"",":","",9,null,34,1,":",13,null,8,13,":",8,9,null,34,13,":",3,null,34,1,":",13,null,0,-12,34,13,":",3,null,1,10,34,1,-2,34,{"$f":"IF('4. Runde'!AD36<>0,AW36,0)","v":1},{"$f":"IF('4. Runde'!AD36<>0,AX36,0)","v":-2},34]
[null,null,null,null,null,null,null,null,null,null,null,41,"",":","",28,null,35,13,":",11,null,41,13,":",0,28,null,35,13,":",5,null,35,13,":",11,null,1,2,35,13,":",5,null,1,8,35,2,10,35,{"$f":"IF('4. Runde'!AD37<>0,AW37,0)","v":2},{"$f":"IF('4. Runde'!AD37<>0,AX37,0)","v":10},35]
[null,null,null,null,null,null,null,null,null,null,null,24,"",":","",35,null,36,12,":",13,null,24,5,":",13,35,null,36,13,":",4,null,36,12,":",13,null,0,-1,36,13,":",4,null,1,9,36,1,8,36,{"$f":"IF('4. Runde'!AD38<>0,AW38,0)","v":1},{"$f":"IF('4. Runde'!AD38<>0,AX38,0)","v":8},36]
[null,null,null,null,null,null,null,null,null,null,null,20,"",":","",14,null,37,13,":",5,null,20,13,":",6,14,null,37,6,":",13,null,37,13,":",5,null,1,8,37,6,":",13,null,0,-7,37,1,1,37,{"$f":"IF('4. Runde'!AD39<>0,AW39,0)","v":1},{"$f":"IF('4. Runde'!AD39<>0,AX39,0)","v":1},37]
[null,null,null,null,null,null,null,null,null,null,null,17,"",":","",33,null,38,13,":",4,null,17,1,":",13,33,null,38,7,":",13,null,38,13,":",4,null,1,9,38,7,":",13,null,0,-6,38,1,3,38,{"$f":"IF('4. Runde'!AD40<>0,AW40,0)","v":1},{"$f":"IF('4. Runde'!AD40<>0,AX40,0)","v":3},38]
[null,null,null,null,null,null,null,null,null,null,null,10,"",":","",5,null,39,9,":",13,null,10,13,":",2,5,null,39,13,":",8,null,39,9,":",13,null,0,-4,39,13,":",8,null,1,5,39,1,1,39,{"$f":"IF('4. Runde'!AD41<>0,AW41,0)","v":1},{"$f":"IF('4. Runde'!AD41<>0,AX41,0)","v":1},39]
[null,null,null,null,null,null,null,null,null,null,null,40,"",":","",11,null,40,13,":",11,null,40,3,":",13,11,null,40,3,":",13,null,40,13,":",11,null,1,2,40,3,":",13,null,0,-10,40,1,-8,40,{"$f":"IF('4. Runde'!AD42<>0,AW42,0)","v":1},{"$f":"IF('4. Runde'!AD42<>0,AX42,0)","v":-8},40]
[null,null,null,null,null,null,null,null,null,null,null,36,"",":","",32,null,41,13,":",10,null,36,13,":",4,32,null,41,13,":",0,null,41,13,":",10,null,1,3,41,13,":",0,null,1,13,41,2,16,41,{"$f":"IF('4. Runde'!AD43<>0,AW43,0)","v":2},{"$f":"IF('4. Runde'!AD43<>0,AX43,0)","v":16},41]
[null,null,null,null,null,null,null,null,null,null,null,15,"",":","","FL",null,"","",":","",null,15,13,":",7,"FL",null,"","",":","",null,42,"",":","",null,0,0,42,"",":","",null,0,0,42,0,0,42,{"$f":"IF('4. Runde'!AD44<>0,AW44,0)","v":0},{"$f":"IF('4. Runde'!AD44<>0,AX44,0)","v":0},42]
[null,null,null,null,null,null,null,null,null,null,null,4,"",":","",37,null,"","",":","",null,4,13,":",6,37,null,"","",":","",null,43,"",":","",null,0,0,43,"",":","",null,0,0,43,0,0,43,{"$f":"IF('4. Runde'!AD45<>0,AW45,0)","v":0},{"$f":"IF('4. Runde'!AD45<>0,AX45,0)","v":0},43]
[null,null,null,null,null,null,null,null,null,null,null,38,"",":","",26,null,"","",":","",null,38,7,":",13,26,null,"","",":","",null,44,"",":","",null,0,0,44,"",":","",null,0,0,44,0,0,44,{"$f":"IF('4. Runde'!AD46<>0,AW46,0)","v":0},{"$f":"IF('4. Runde'!AD46<>0,AX46,0)","v":0},44]
[null,null,null,null,null,null,null,null,null,null,null,39,"",":","",27,null,"","",":","",null,39,13,":",8,27,null,"","",":","",null,45,"",":","",null,0,0,45,"",":","",null,0,0,45,0,0,45,{"$f":"IF('4. Runde'!AD47<>0,AW47,0)","v":0},{"$f":"IF('4. Runde'!AD47<>0,AX47,0)","v":0},45]
[null,null,null,null,null,null,null,null,null,null,null,3,"",":","",1,null,"","",":","",null,3,13,":",12,1,null,"","",":","",null,46,"",":","",null,0,0,46,"",":","",null,0,0,46,0,0,46,{"$f":"IF('4. Runde'!AD48<>0,AW48,0)","v":0},{"$f":"IF('4. Runde'!AD48<>0,AX48,0)","v":0},46]
[null,null,null,null,null,null,null,null,null,null,null,"","",":","","",null,"","",":","",null,"","",":","","",null,"","",":","",null,47,"",":","",null,0,0,47,"",":","",null,0,0,47,0,0,47,{"$f":"IF('4. Runde'!AD49<>0,AW49,0)","v":0},{"$f":"IF('4. Runde'!AD49<>0,AX49,0)","v":0},47]
[null,null,null,null,null,null,null,null,null,null,null,"","",":","","",null,"","",":","",null,"","",":","","",null,"","",":","",null,48,"",":","",null,0,0,48,"",":","",null,0,0,48,0,0,48,{"$f":"IF('4. Runde'!AD50<>0,AW50,0)","v":0},{"$f":"IF('4. Runde'!AD50<>0,AX50,0)","v":0},48]
[null,null,null,null,null,null,null,null,null,null,null,"","",":","","",null,"","",":","",null,"","",":","","",null,"","",":","",null,49,"",":","",null,0,0,49,"",":","",null,0,0,49,0,0,49,{"$f":"IF('4. Runde'!AD51<>0,AW51,0)","v":0},{"$f":"IF('4. Runde'!AD51<>0,AX51,0)","v":0},49]
[null,null,null,null,null,null,null,null,null,null,null,"","",":","","",null,"FL",7,":",13,null,"","",":","","",null,"FL",7,":",13,null,50,7,":",13,null,0,-6,50,7,":",13,null,0,-6,50,{"$f":"AM52+AT52","v":0},-12,50,{"$f":"IF('4. Runde'!AD52<>0,AW52,0)","v":0},{"$f":"IF('4. Runde'!AD52<>0,AX52,0)","v":-12},50]

{"sheet":"2. Runde","index":2,"n_rows":52,"n_cols":54,"rows_kept":52,"cut":false,"hidden":false,"merged":[[1,51,1,52],[1,34,1,38],[1,41,1,45],[0,0,0,10],[1,0,1,4],[1,6,1,10],[0,48,0,50],[0,51,0,53]]}
["Runde 2",null,null,null,null,null,null,null,null,null,null,{"$f":"Meldeliste!A1","v":41},20,null,null,null,null,{"$f":"COUNTIF(R3:R52,\"0\")+3","v":3},null,null,null,null,null,null,null,null,null,null,{"$f":"R1","v":3},null,null,null,null,{"$f":"Start!B3","v":"011."},{"$f":"Start!F3","v":"TeamCup Testversion"},null,null,null,null,null,null,null,null,null,null,null,null,null,{"$f":"Start!AO3","v":"2021-09-25"},null,null,"1. Runde"]
["B spielt TaT",null,null,null,null,null,"A & C spielen Dub",null,null,null,null,null,null,null,null,null,null,52,null,null,null,null,null,null,null,null,null,null,{"$f":"R2","v":52},null,null,null,null,"Team","  B spielt TaT",null,null,null,null,{"$f":"SUM(AN3:AN52)","v":0},"Team","  A & C Dub",null,null,null,null,{"$f":"SUM(AU3:AU52)","v":0},"Team","Siege","Punkte","Team","Gesamt",null,"Team"]
[1,null,":",null,14,null,{"$f":"IF(A3=\"\",\"\",A3)","v":1},3,":",13,{"$f":"IF(E3=\"\",\"\",E3)","v":14},{"$f":"IF(A3=\"\",\"\",A3)","v":1},{"$f":"IF(B3=\"\",\"\",B3)","v":""},":",{"$f":"IF(D3=\"\",\"\",D3)","v":""},{"$f":"IF(E3=\"\",\"\",E3)","v":14},null,1,13,":",1,null,{"$f":"IF(G3=\"\",\"\",G3)","v":1},{"$f":"IF(H3=\"\",\"\",H3)","v":3},":",{"$f":"IF(J3=\"\",\"\",J3)","v":13},{"$f":"IF(K3=\"\",\"\",K3)","v":14},null,1,3,":",13,null,1,13,":",1,null,{"$f":"IF(AI3=13,1,0)","v":1},{"$f":"IF(AI3=\"\",0,AI3-AK3)","v":12},1,3,":",13,null,{"$f":"IF(AP3=13,1,0)","v":0},{"$f":"IF(AP3=\"\",0,AP3-AR3)","v":-10},1,{"$f":"AM3+AT3","v":1},{"$f":"AN3+AU3","v":2},1,{"$f":"IF('4. Runde'!AD3<>0,'1. Runde'!AW3+'2. Runde'!AW3,0)","v":2},{"$f":"IF('4. Runde'!AD3<>0,'1. Runde'!AX3+'2. Runde'!AX3,0)","v":6},1]
[27,null,":",null,20,null,27,9,":",13,20,{"$f":"IF(A4=\"\",\"\",A4)","v":27},{"$f":"IF(B4=\"\",\"\",B4)","v":""},":",{"$f":"IF(D4=\"\",\"\",D4)","v":""},{"$f":"IF(E4=\"\",\"\",E4)","v":20},null,2,11,":",13,null,{"$f":"IF(G4=\"\",\"\",G4)","v":27},{"$f":"IF(H4=\"\",\"\",H4)","v":9},":",{"$f":"IF(J4=\"\",\"\",J4)","v":13},{"$f":"IF(K4=\"\",\"\",K4)","v":20},null,2,13,":",3,null,2,11,":",13,null,{"$f":"IF(AI4=13,1,0)","v":0},{"$f":"IF(AI4=\"\",0,AI4-AK4)","v":-2},2,13,":",3,null,{"$f":"IF(AP4=13,1,0)","v":1},{"$f":"IF(AP4=\"\",0,AP4-AR4)","v":10},2,{"$f":"AM4+AT4","v":1},{"$f":"AN4+AU4","v":8},2,{"$f":"IF('4. Runde'!AD4<>0,'1. Runde'!AW4+'2. Runde'!AW4,0)","v":1},{"$f":"IF('4. Runde'!AD4<>0,'1. Runde'!AX4+'2. Runde'!AX4,0)","v":-2},2]
[34,null,":",null,22,null,34,13,":",11,22,34,"",":","",22,null,3,13,":",7,null,34,13,":",11,22,null,3,13,":",4,null,3,13,":",7,null,1,6,3,13,":",4,null,1,9,3,2,15,3,{"$f":"IF('4. Runde'!AD5<>0,'1. Runde'!AW5+'2. Runde'!AW5,0)","v":3},{"$f":"IF('4. Runde'!AD5<>0,'1. Runde'!AX5+'2. Runde'!AX5,0)","v":11},3]
[26,null,":",null,10,null,26,12,":",13,10,26,"",":","",10,null,4,13,":",12,null,26,12,":",13,10,null,4,4,":",13,null,4,13,":",12,null,1,1,4,4,":",13,null,0,-9,4,1,-8,4,{"$f":"IF('4. Runde'!AD6<>0,'1. Runde'!AW6+'2. Runde'!AW6,0)","v":2},{"$f":"IF('4. Runde'!AD6<>0,'1. Runde'!AX6+'2. Runde'!AX6,0)","v":-9},4]
[31,null,":",null,11,null,31,13,":",7,11,31,"",":","",11,null,5,13,":",6,null,31,13,":",7,11,null,5,13,":",5,null,5,13,":",6,null,1,7,5,13,":",5,null,1,8,5,2,15,5,{"$f":"IF('4. Runde'!AD7<>0,'1. Runde'!AW7+'2. Runde'!AW7,0)","v":3},{"$f":"IF('4. Runde'!AD7<>0,'1. Runde'!AX7+'2. Runde'!AX7,0)","v":8},5]
[38,null,":",null,5,null,38,5,":",13,5,38,"",":","",5,null,6,9,":",13,null,38,5,":",13,5,null,6,13,":",2,null,6,9,":",13,null,0,-4,6,13,":",2,null,1,11,6,1,7,6,{"$f":"IF('4. Runde'!AD8<>0,'1. Runde'!AW8+'2. Runde'!AW8,0)","v":3},{"$f":"IF('4. Runde'!AD8<>0,'1. Runde'!AX8+'2. Runde'!AX8,0)","v":21},6]
[3,null,":",null,7,null,3,13,":",4,7,3,"",":","",7,null,7,7,":",13,null,3,13,":",4,7,null,7,4,":",13,null,7,7,":",13,null,0,-6,7,4,":",13,null,0,-9,7,0,-15,7,{"$f":"IF('4. Runde'!AD9<>0,'1. Runde'!AW9+'2. Runde'!AW9,0)","v":0},{"$f":"IF('4. Runde'!AD9<>0,'1. Runde'!AX9+'2. Runde'!AX9,0)","v":-30},7]
[8,null,":",null,12,null,8,9,":",13,12,8,"",":","",12,null,8,8,":",13,null,8,9,":",13,12,null,8,9,":",13,null,8,8,":",13,null,0,-5,8,9,":",13,null,0,-4,8,0,-9,8,{"$f":"IF('4. Runde'!AD10<>0,'1. Runde'!AW10+'2. Runde'!AW10,0)","v":1},{"$f":"IF('4. Runde'!AD10<>0,'1. Runde'!AX10+'2. Runde'!AX10,0)","v":-8},8]
[40,null,":",null,41,null,40,8,":",13,41,40,"",":","",41,null,9,13,":",9,null,40,8,":",13,41,null,9,2,":",13,null,9,13,":",9,null,1,4,9,2,":",13,null,0,-11,9,1,-7,9,{"$f":"IF('4. Runde'!AD11<>0,'1. Runde'!AW11+'2. Runde'!AW11,0)","v":2},{"$f":"IF('4. Runde'!AD11<>0,'1. Runde'!AX11+'2. Runde'!AX11,0)","v":-8},9]
["FL",null,":",null,21,null,"FL",7,":",13,21,"FL","",":","",21,null,10,13,":",4,null,"FL",7,":",13,21,null,10,13,":",12,null,10,13,":",4,null,1,9,10,13,":",12,null,1,1,10,2,10,10,{"$f":"IF('4. Runde'!AD12<>0,'1. Runde'!AW12+'2. Runde'!AW12,0)","v":3},{"$f":"IF('4. Runde'!AD12<>0,'1. Runde'!AX12+'2. Runde'!AX12,0)","v":17},10]
[25,null,":",null,16,null,25,13,":",5,16,25,"",":","",16,null,11,5,":",13,null,25,13,":",5,16,null,11,7,":",13,null,11,5,":",13,null,0,-8,11,7,":",13,null,0,-6,11,0,-14,11,{"$f":"IF('4. Runde'!AD13<>0,'1. Runde'!AW13+'2. Runde'!AW13,0)","v":1},{"$f":"IF('4. Runde'!AD13<>0,'1. Runde'!AX13+'2. Runde'!AX13,0)","v":-6},11]
[18,null,":",null,39,null,18,6,":",13,39,18,"",":","",39,null,12,13,":",8,null,18,6,":",13,39,null,12,13,":",9,null,12,13,":",8,null,1,5,12,13,":",9,null,1,4,12,2,9,12,{"$f":"IF('4. Runde'!AD14<>0,'1. Runde'!AW14+'2. Runde'!AW14,0)","v":4},{"$f":"IF('4. Runde'!AD14<>0,'1. Runde'!AX14+'2. Runde'!AX14,0)","v":24},12]
[35,null,":",null,19,null,35,13,":",1,19,35,"",":","",19,null,13,13,":",4,null,35,13,":",1,19,null,13,7,":",13,null,13,13,":",4,null,1,9,13,7,":",13,null,0,-6,13,1,3,13,{"$f":"IF('4. Runde'!AD15<>0,'1. Runde'!AW15+'2. Runde'!AW15,0)","v":3},{"$f":"IF('4. Runde'!AD15<>0,'1. Runde'!AX15+'2. Runde'!AX15,0)","v":12},13]
[9,null,":",null,6,null,9,2,":",13,6,9,"",":","",6,null,14,1,":",13,null,9,2,":",13,6,null,14,13,":",3,null,14,1,":",13,null,0,-12,14,13,":",3,null,1,10,14,1,-2,14,{"$f":"IF('4. Runde'!AD16<>0,'1. Runde'!AW16+'2. Runde'!AW16,0)","v":1},{"$f":"IF('4. Runde'!AD16<>0,'1. Runde'!AX16+'2. Runde'!AX16,0)","v":-10},14]
[2,null,":",null,37,null,2,13,":",3,37,2,"",":","",37,null,15,13,":",7,null,2,13,":",3,37,null,15,13,":",5,null,15,13,":",7,null,1,6,15,13,":",5,null,1,8,15,2,14,15,{"$f":"IF('4. Runde'!AD17<>0,'1. Runde'!AW17+'2. Runde'!AW17,0)","v":4},{"$f":"IF('4. Runde'!AD17<>0,'1. Runde'!AX17+'2. Runde'!AX17,0)","v":26},15]
[4,null,":",null,24,null,4,4,":",13,24,4,"",":","",24,null,16,11,":",13,null,4,4,":",13,24,null,16,5,":",13,null,16,11,":",13,null,0,-2,16,5,":",13,null,0,-8,16,0,-10,16,{"$f":"IF('4. Runde'!AD18<>0,'1. Runde'!AW18+'2. Runde'!AW18,0)","v":2},{"$f":"IF('4. Runde'!AD18<>0,'1. Runde'!AX18+'2. Runde'!AX18,0)","v":0},16]
[30,null,":",null,15,null,30,5,":",13,{"$f":"IF(E19=\"\",\"\",E19)","v":15},30,"",":","",15,null,17,4,":",13,null,30,5,":",13,15,null,17,13,":",7,null,17,4,":",13,null,0,-9,17,13,":",7,null,1,6,17,1,-3,17,{"$f":"IF('4. Runde'!AD19<>0,'1. Runde'!AW19+'2. Runde'!AW19,0)","v":1},{"$f":"IF('4. Runde'!AD19<>0,'1. Runde'!AX19+'2. Runde'!AX19,0)","v":-25},17]
[33,null,":",null,32,null,33,6,":",13,32,33,"",":","",32,null,18,12,":",13,null,33,6,":",13,32,null,18,6,":",13,null,18,12,":",13,null,{"$f":"IF(AI20=13,1,0)","v":0},-1,18,6,":",13,null,0,-7,18,0,-8,18,{"$f":"IF('4. Runde'!AD20<>0,'1. Runde'!AW20+'2. Runde'!AW20,0)","v":0},{"$f":"IF('4. Runde'!AD20<>0,'1. Runde'!AX20+'2. Runde'!AX20,0)","v":-20},18]
[17,null,":",null,13,null,17,13,":",7,13,17,"",":","",13,null,19,3,":",13,null,17,13,":",7,13,null,19,1,":",13,null,19,3,":",13,null,0,-10,19,1,":",13,null,0,-12,19,0,-22,19,{"$f":"IF('4. Runde'!AD21<>0,'1. Runde'!AW21+'2. Runde'!AW21,0)","v":2},{"$f":"IF('4. Runde'!AD21<>0,'1. Runde'!AX21+'2. Runde'!AX21,0)","v":-7},19]
[36,null,":",null,28,null,36,8,":",13,28,36,"",":","",28,null,20,13,":",2,null,36,8,":",13,28,null,20,13,":",9,null,20,13,":",2,null,1,11,20,13,":",9,null,1,4,20,2,15,20,{"$f":"IF('4. Runde'!AD22<>0,'1. Runde'!AW22+'2. Runde'!AW22,0)","v":4},{"$f":"IF('4. Runde'!AD22<>0,'1. Runde'!AX22+'2. Runde'!AX22,0)","v":23},20]
[23,null,":",null,29,null,23,13,":",3,29,23,"",":","",29,null,21,13,":",7,null,23,13,":",3,29,null,21,13,":",7,null,21,13,":",7,null,1,6,21,13,":",7,null,1,6,21,2,12,21,{"$f":"IF('4. Runde'!AD23<>0,'1. Runde'!AW23+'2. Runde'!AW23,0)","v":4},{"$f":"IF('4. Runde'!AD23<>0,'1. Runde'!AX23+'2. Runde'!AX23,0)","v":27},21]
[null,null,":",null,null,null,{"$f":"IF(A24=\"\",\"\",A24)","v":""},null,":",null,"","","",":","","",null,22,3,":",13,null,"","",":","","",null,22,11,":",13,null,22,3,":",13,null,0,-10,22,11,":",13,null,0,-2,22,0,-12,22,{"$f":"IF('4. Runde'!AD24<>0,'1. Runde'!AW24+'2. Runde'!AW24,0)","v":0},{"$f":"IF('4. Runde'!AD24<>0,'1. Runde'!AX24+'2. Runde'!AX24,0)","v":-27},22]
[null,null,":",null,null,null,"",null,":",null,"","","",":","","",null,23,13,":",8,null,"","",":","","",null,23,13,":",3,null,23,13,":",8,null,1,5,23,13,":",3,null,1,10,23,2,15,23,{"$f":"IF('4. Runde'!AD25<>0,'1. Runde'!AW25+'2. Runde'!AW25,0)","v":4},{"$f":"IF('4. Runde'!AD25<>0,'1. Runde'!AX25+'2. Runde'!AX25,0)","v":27},23]
[null,null,":",null,null,null,"",null,":",null,"","","",":","","",null,24,12,":",13,null,"","",":","","",null,24,13,":",4,null,24,12,":",13,null,0,-1,24,13,":",4,null,1,9,24,1,8,24,{"$f":"IF('4. Runde'!AD26<>0,'1. Runde'!AW26+'2. Runde'!AW26,0)","v":1},{"$f":"IF('4. Runde'!AD26<>0,'1. Runde'!AX26+'2. Runde'!AX26,0)","v":-2},24]
[null,null,":",null,null,null,"",null,":",null,"","","",":","","",null,25,13,":",11,null,"","",":","","",null,25,13,":",5,null,25,13,":",11,null,1,2,25,13,":",5,null,1,8,25,2,10,25,{"$f":"IF('4. Runde'!AD27<>0,'1. Runde'!AW27+'2. Runde'!AW27,0)","v":2},{"$f":"IF('4. Runde'!AD27<>0,'1. Runde'!AX27+'2. Runde'!AX27,0)","v":1},25]
[null,null,null,null,null,null,null,null,null,null,null,{"$f":"P3","v":14},{"$f":"O3","v":""},":",{"$f":"M3","v":""},{"$f":"L3","v":1},null,26,4,":",13,null,{"$f":"AA3","v":14},{"$f":"Z3","v":13},":",{"$f":"X3","v":3},{"$f":"W3","v":1},null,26,12,":",13,null,26,4,":",13,null,0,-9,26,12,":",13,null,0,-1,26,0,-10,26,{"$f":"IF('4. Runde'!AD28<>0,'1. Runde'!AW28+'2. Runde'!AW28,0)","v":1},{"$f":"IF('4. Runde'!AD28<>0,'1. Runde'!AX28+'2. Runde'!AX28,0)","v":-13},26]
[null,null,null,null,null,null,null,null,null,null,null,{"$f":"P4","v":20},{"$f":"O4","v":""},":",{"$f":"M4","v":""},{"$f":"L4","v":27},null,27,2,":",13,null,{"$f":"AA4","v":20},{"$f":"Z4","v":13},":",{"$f":"X4","v":9},{"$f":"W4","v":27},null,27,9,":",13,null,27,2,":",13,null,0,-11,27,9,":",13,null,0,-4,27,0,-15,27,{"$f":"IF('4. Runde'!AD29<>0,'1. Runde'!AW29+'2. Runde'!AW29,0)","v":1},{"$f":"IF('4. Runde'!AD29<>0,'1. Runde'!AX29+'2. Runde'!AX29,0)","v":-16},27]
[null,null,null,null,null,null,null,null,null,null,null,22,"",":","",34,null,28,9,":",13,null,22,11,":",13,34,null,28,13,":",8,null,28,9,":",13,null,0,-4,28,13,":",8,null,1,5,28,1,1,28,{"$f":"IF('4. Runde'!AD30<>0,'1. Runde'!AW30+'2. Runde'!AW30,0)","v":1},{"$f":"IF('4. Runde'!AD30<>0,'1. Runde'!AX30+'2. Runde'!AX30,0)","v":-15},28]
[null,null,null,null,null,null,null,null,null,null,null,10,"",":","",26,null,29,8,":",13,null,10,13,":",12,26,null,29,3,":",13,null,29,8,":",13,null,0,-5,29,3,":",13,null,0,-10,29,0,-15,29,{"$f":"IF('4. Runde'!AD31<>0,'1. Runde'!AW31+'2. Runde'!AW31,0)","v":0},{"$f":"IF('4. Runde'!AD31<>0,'1. Runde'!AX31+'2. Runde'!AX31,0)","v":-30},29]
[null,null,null,null,null,null,null,null,null,null,null,11,"",":","",31,null,30,7,":",13,null,11,7,":",13,31,null,30,5,":",13,null,30,7,":",13,null,0,-6,30,5,":",13,null,0,-8,30,0,-14,30,{"$f":"IF('4. Runde'!AD32<>0,'1. Runde'!AW32+'2. Runde'!AW32,0)","v":0},{"$f":"IF('4. Runde'!AD32<>0,'1. Runde'!AX32+'2. Runde'!AX32,0)","v":-28},30]
[null,null,null,null,null,null,null,null,null,null,null,5,"",":","",38,null,31,13,":",5,null,5,13,":",5,38,null,31,13,":",7,null,31,13,":",5,null,1,8,31,13,":",7,null,1,6,31,2,14,31,{"$f":"IF('4. Runde'!AD33<>0,'1. Runde'!AW33+'2. Runde'!AW33,0)","v":3},{"$f":"IF('4. Runde'!AD33<>0,'1. Runde'!AX33+'2. Runde'!AX33,0)","v":16},31]
[null,null,null,null,null,null,null,null,null,null,null,7,"",":","",3,null,32,5,":",13,null,7,4,":",13,3,null,32,13,":",6,null,32,5,":",13,null,0,-8,32,13,":",6,null,1,7,32,1,-1,32,{"$f":"IF('4. Runde'!AD34<>0,'1. Runde'!AW34+'2. Runde'!AW34,0)","v":2},{"$f":"IF('4. Runde'!AD34<>0,'1. Runde'!AX34+'2. Runde'!AX34,0)","v":-9},32]
[null,null,null,null,null,null,null,null,null,null,null,12,"",":","",8,null,33,13,":",5,null,12,13,":",9,8,null,33,6,":",13,null,33,13,":",5,null,1,8,33,6,":",13,null,0,-7,33,1,1,33,{"$f":"IF('4. Runde'!AD35<>0,'1. Runde'!AW35+'2. Runde'!AW35,0)","v":3},{"$f":"IF('4. Runde'!AD35<>0,'1. Runde'!AX35+'2. Runde'!AX35,0)","v":23},33]
[null,null,null,null,null,null,null,null,null,null,null,41,"",":","",40,null,34,13,":",3,null,41,13,":",8,40,null,34,13,":",11,null,34,13,":",3,null,1,10,34,13,":",11,null,1,2,34,2,12,34,{"$f":"IF('4. Runde'!AD36<>0,'1. Runde'!AW36+'2. Runde'!AW36,0)","v":3},{"$f":"IF('4. Runde'!AD36<>0,'1. Runde'!AX36+'2. Runde'!AX36,0)","v":10},34]
[null,null,null,null,null,null,null,null,null,null,null,21,"",":","","FL",null,35,13,":",3,null,21,13,":",7,"FL",null,35,13,":",1,null,35,13,":",3,null,1,10,35,13,":",1,null,1,12,35,2,22,35,{"$f":"IF('4. Runde'!AD37<>0,'1. Runde'!AW37+'2. Runde'!AW37,0)","v":4},{"$f":"IF('4. Runde'!AD37<>0,'1. Runde'!AX37+'2. Runde'!AX37,0)","v":32},35]
[null,null,null,null,null,null,null,null,null,null,null,16,"",":","",25,null,36,13,":",9,null,16,5,":",13,25,null,36,8,":",13,null,36,13,":",9,null,1,4,36,8,":",13,null,0,-5,36,1,-1,36,{"$f":"IF('4. Runde'!AD38<>0,'1. Runde'!AW38+'2. Runde'!AW38,0)","v":2},{"$f":"IF('4. Runde'!AD38<>0,'1. Runde'!AX38+'2. Runde'!AX38,0)","v":7},36]
[null,null,null,null,null,null,null,null,null,null,null,39,"",":","",18,null,37,13,":",11,null,39,13,":",6,18,null,37,3,":",13,null,37,13,":",11,null,1,2,37,3,":",13,null,0,-10,37,1,-8,37,{"$f":"IF('4. Runde'!AD39<>0,'1. Runde'!AW39+'2. Runde'!AW39,0)","v":2},{"$f":"IF('4. Runde'!AD39<>0,'1. Runde'!AX39+'2. Runde'!AX39,0)","v":-7},37]
[null,null,null,null,null,null,null,null,null,null,null,19,"",":","",35,null,38,6,":",13,null,19,1,":",13,35,null,38,5,":",13,null,38,6,":",13,null,0,-7,38,5,":",13,null,0,-8,38,0,-15,38,{"$f":"IF('4. Runde'!AD40<>0,'1. Runde'!AW40+'2. Runde'!AW40,0)","v":1},{"$f":"IF('4. Runde'!AD40<>0,'1. Runde'!AX40+'2. Runde'!AX40,0)","v":-12},38]
[null,null,null,null,null,null,null,null,null,null,null,6,"",":","",9,null,39,13,":",12,null,6,13,":",2,9,null,39,13,":",6,null,39,13,":",12,null,1,1,39,13,":",6,null,1,7,39,2,8,39,{"$f":"IF('4. Runde'!AD41<>0,'1. Runde'!AW41+'2. Runde'!AW41,0)","v":3},{"$f":"IF('4. Runde'!AD41<>0,'1. Runde'!AX41+'2. Runde'!AX41,0)","v":9},39]
[null,null,null,null,null,null,null,null,null,null,null,37,"",":","",2,null,40,13,":",9,null,37,3,":",13,2,null,40,8,":",13,null,40,13,":",9,null,1,4,40,8,":",13,null,0,-5,40,1,-1,40,{"$f":"IF('4. Runde'!AD42<>0,'1. Runde'!AW42+'2. Runde'!AW42,0)","v":2},{"$f":"IF('4. Runde'!AD42<>0,'1. Runde'!AX42+'2. Runde'!AX42,0)","v":-9},40]
[null,null,null,null,null,null,null,null,null,null,null,24,"",":","",4,null,41,9,":",13,null,24,13,":",4,4,null,41,13,":",8,null,41,9,":",13,null,0,-4,41,13,":",8,null,1,5,41,1,1,41,{"$f":"IF('4. Runde'!AD43<>0,'1. Runde'!AW43+'2. Runde'!AW43,0)","v":3},{"$f":"IF('4. Runde'!AD43<>0,'1. Runde'!AX43+'2. Runde'!AX43,0)","v":17},41]
[null,null,null,null,null,null,null,null,null,null,null,15,"",":","",30,null,"","",":","",null,15,13,":",5,30,null,"","",":","",null,42,"",":","",null,0,0,42,"",":","",null,0,0,42,0,0,42,{"$f":"IF('4. Runde'!AD44<>0,'1. Runde'!AW44+'2. Runde'!AW44,0)","v":0},{"$f":"IF('4. Runde'!AD44<>0,'1. Runde'!AX44+'2. Runde'!AX44,0)","v":0},42]
[null,null,null,null,null,null,null,null,null,null,null,32,"",":","",33,null,"","",":","",null,32,13,":",6,33,null,"","",":","",null,43,"",":","",null,0,0,43,"",":","",null,0,0,43,0,0,43,{"$f":"IF('4. Runde'!AD45<>0,'1. Runde'!AW45+'2. Runde'!AW45,0)","v":0},{"$f":"IF('4. Runde'!AD45<>0,'1. Runde'!AX45+'2. Runde'!AX45,0)","v":0},43]
[null,null,null,null,null,null,null,null,null,null,null,13,"",":","",17,null,"","",":","",null,13,7,":",13,17,null,"","",":","",null,44,"",":","",null,0,0,44,"",":","",null,0,0,44,0,0,44,{"$f":"IF('4. Runde'!AD46<>0,'1. Runde'!AW46+'2. Runde'!AW46,0)","v":0},{"$f":"IF('4. Runde'!AD46<>0,'1. Runde'!AX46+'2. Runde'!AX46,0)","v":0},44]
[null,null,null,null,null,null,null,null,null,null,null,28,"",":","",36,null,"","",":","",null,28,13,":",8,36,null,"","",":","",null,45,"",":","",null,0,0,45,"",":","",null,0,0,45,0,0,45,{"$f":"IF('4. Runde'!AD47<>0,'1. Runde'!AW47+'2. Runde'!AW47,0)","v":0},{"$f":"IF('4. Runde'!AD47<>0,'1. Runde'!AX47+'2. Runde'!AX47,0)","v":0},45]
[null,null,null,null,null,null,null,null,null,null,null,29,"",":","",23,null,"","",":","",null,29,3,":",13,23,null,"","",":","",null,46,"",":","",null,0,0,46,"",":","",null,0,0,46,0,0,46,{"$f":"IF('4. Runde'!AD48<>0,'1. Runde'!AW48+'2. Runde'!AW48,0)","v":0},{"$f":"IF('4. Runde'!AD48<>0,'1. Runde'!AX48+'2. Runde'!AX48,0)","v":0},46]
[null,null,null,null,null,null,null,null,null,null,null,"","",":","","",null,"","",":","",null,"","",":","","",null,"","",":","",null,47,"",":","",null,0,0,47,"",":","",null,0,0,47,0,0,47,{"$f":"IF('4. Runde'!AD49<>0,'1. Runde'!AW49+'2. Runde'!AW49,0)","v":0},{"$f":"IF('4. Runde'!AD49<>0,'1. Runde'!AX49+'2. Runde'!AX49,0)","v":0},47]
[null,null,null,null,null,null,null,null,null,null,null,"","",":","","",null,"","",":","",null,"","",":","","",null,"","",":","",null,48,"",":","",null,0,0,48,"",":","",null,0,0,48,0,0,48,{"$f":"IF('4. Runde'!AD50<>0,'1. Runde'!AW50+'2. Runde'!AW50,0)","v":0},{"$f":"IF('4. Runde'!AD50<>0,'1. Runde'!AX50+'2. Runde'!AX50,0)","v":0},48]
[null,null,null,null,null,null,null,null,null,null,null,"","",":","","",null,"","",":","",null,"","",":","","",null,"","",":","",null,49,"",":","",null,0,0,49,"",":","",null,0,0,49,0,0,49,{"$f":"IF('4. Runde'!AD51<>0,'1. Runde'!AW51+'2. Runde'!AW51,0)","v":0},{"$f":"IF('4. Runde'!AD51<>0,'1. Runde'!AX51+'2. Runde'!AX51,0)","v":0},49]
[null,null,null,null,null,null,null,null,null,null,null,"","",":","","",null,"FL",7,":",13,null,"","",":","","",null,"FL",7,":",13,null,50,7,":",13,null,0,-6,50,7,":",13,null,0,-6,50,{"$f":"AM52+AT52","v":0},{"$f":"AN52+AU52","v":-12},50,{"$f":"IF('4. Runde'!AD52<>0,'1. Runde'!AW52+'2. Runde'!AW52,0)","v":0},{"$f":"IF('4. Runde'!AD52<>0,'1. Runde'!AX52+'2. Runde'!AX52,0)","v":-24},50]

{"sheet":"3. Runde","index":3,"n_rows":52,"n_cols":54,"rows_kept":52,"cut":false,"hidden":false,"merged":[[1,51,1,52],[1,34,1,38],[1,41,1,45],[0,0,0,10],[1,0,1,4],[1,6,1,10],[0,48,0,50],[0,51,0,53]]}
["Runde 3",null,null,null,null,null,null,null,null,null,null,{"$f":"Meldeliste!A1","v":41},20,null,null,null,null,{"$f":"COUNTIF(R3:R52,\"0\")+3","v":3},null,null,null,null,null,null,null,null,null,null,{"$f":"R1","v":3},null,null,null,null,{"$f":"Start!B3","v":"011."},{"$f":"Start!F3","v":"TeamCup Testversion"},null,null,null,null,null,null,null,null,null,null,null,null,null,{"$f":"Start!AO3","v":"2021-09-25"},null,null,"1. Runde"]
["C spielt TaT",null,null,null,null,null,"A & B spielen Dub",null,null,null,null,null,null,null,null,null,null,52,null,null,null,null,null,null,null,null,null,null,{"$f":"R2","v":52},null,null,null,null,"Team","  C spielt TaT",null,null,null,null,{"$f":"SUM(AN3:AN52)","v":0},"Team","  A & B Dub",null,null,null,null,{"$f":"SUM(AU3:AU52)","v":0},"Team","Siege","Punkte","Team","Gesamt",null,"Team"]
[12,null,":",null,24,null,{"$f":"IF(A3=\"\",\"\",A3)","v":12},3,":",13,{"$f":"IF(E3=\"\",\"\",E3)","v":24},{"$f":"IF(A3=\"\",\"\",A3)","v":12},{"$f":"IF(B3=\"\",\"\",B3)","v":""},":",{"$f":"IF(D3=\"\",\"\",D3)","v":""},{"$f":"IF(E3=\"\",\"\",E3)","v":24},null,1,8,":",13,null,{"$f":"IF(G3=\"\",\"\",G3)","v":12},{"$f":"IF(H3=\"\",\"\",H3)","v":3},":",{"$f":"IF(J3=\"\",\"\",J3)","v":13},{"$f":"IF(K3=\"\",\"\",K3)","v":24},null,1,13,":",5,null,1,8,":",13,null,{"$f":"IF(AI3=13,1,0)","v":0},{"$f":"IF(AI3=\"\",0,AI3-AK3)","v":-5},1,13,":",5,null,{"$f":"IF(AP3=13,1,0)","v":1},{"$f":"IF(AP3=\"\",0,AP3-AR3)","v":8},1,{"$f":"AM3+AT3","v":1},{"$f":"AN3+AU3","v":3},1,{"$f":"IF('4. Runde'!AD3<>0,'1. Runde'!AW3+'2. Runde'!AW3+AW3,0)","v":3},{"$f":"IF('4. Runde'!AD3<>0,'1. Runde'!AX3+'2. Runde'!AX3+AX3,0)","v":9},1]
[4,null,":",null,33,null,4,9,":",13,33,{"$f":"IF(A4=\"\",\"\",A4)","v":4},{"$f":"IF(B4=\"\",\"\",B4)","v":""},":",{"$f":"IF(D4=\"\",\"\",D4)","v":""},{"$f":"IF(E4=\"\",\"\",E4)","v":33},null,2,13,":",7,null,{"$f":"IF(G4=\"\",\"\",G4)","v":4},{"$f":"IF(H4=\"\",\"\",H4)","v":9},":",{"$f":"IF(J4=\"\",\"\",J4)","v":13},{"$f":"IF(K4=\"\",\"\",K4)","v":33},null,2,13,":",7,null,2,13,":",7,null,{"$f":"IF(AI4=13,1,0)","v":1},{"$f":"IF(AI4=\"\",0,AI4-AK4)","v":6},2,13,":",7,null,{"$f":"IF(AP4=13,1,0)","v":1},{"$f":"IF(AP4=\"\",0,AP4-AR4)","v":6},2,{"$f":"AM4+AT4","v":2},{"$f":"AN4+AU4","v":12},2,{"$f":"IF('4. Runde'!AD4<>0,'1. Runde'!AW4+'2. Runde'!AW4+AW4,0)","v":3},{"$f":"IF('4. Runde'!AD4<>0,'1. Runde'!AX4+'2. Runde'!AX4+AX4,0)","v":10},2]
[23,null,":",null,31,null,23,13,":",11,31,23,"",":","",31,null,3,5,":",13,null,23,13,":",11,31,null,3,7,":",13,null,3,5,":",13,null,0,-8,3,7,":",13,null,0,-6,3,0,-14,3,{"$f":"IF('4. Runde'!AD5<>0,'1. Runde'!AW5+'2. Runde'!AW5+AW5,0)","v":3},{"$f":"IF('4. Runde'!AD5<>0,'1. Runde'!AX5+'2. Runde'!AX5+AX5,0)","v":-3},3]
[37,null,":",null,32,null,37,12,":",13,32,37,"",":","",32,null,4,2,":",13,null,37,12,":",13,32,null,4,9,":",13,null,4,2,":",13,null,0,-11,4,9,":",13,null,0,-4,4,0,-15,4,{"$f":"IF('4. Runde'!AD6<>0,'1. Runde'!AW6+'2. Runde'!AW6+AW6,0)","v":2},{"$f":"IF('4. Runde'!AD6<>0,'1. Runde'!AX6+'2. Runde'!AX6+AX6,0)","v":-24},4]
[38,null,":",null,3,null,38,13,":",7,3,38,"",":","",3,null,5,13,":",8,null,38,13,":",7,3,null,5,5,":",13,null,5,13,":",8,null,1,5,5,5,":",13,null,0,-8,5,1,-3,5,{"$f":"IF('4. Runde'!AD7<>0,'1. Runde'!AW7+'2. Runde'!AW7+AW7,0)","v":4},{"$f":"IF('4. Runde'!AD7<>0,'1. Runde'!AX7+'2. Runde'!AX7+AX7,0)","v":5},5]
[2,null,":",null,"FL",null,2,13,":",7,"FL",2,"",":","","FL",null,6,13,":",4,null,2,13,":",7,"FL",null,6,7,":",13,null,6,13,":",4,null,1,9,6,7,":",13,null,0,-6,6,1,3,6,{"$f":"IF('4. Runde'!AD8<>0,'1. Runde'!AW8+'2. Runde'!AW8+AW8,0)","v":4},{"$f":"IF('4. Runde'!AD8<>0,'1. Runde'!AX8+'2. Runde'!AX8+AX8,0)","v":24},6]
[10,null,":",null,9,null,10,13,":",4,9,10,"",":","",9,null,7,13,":",8,null,10,13,":",4,9,null,7,13,":",9,null,7,13,":",8,null,1,5,7,13,":",9,null,1,4,7,2,9,7,{"$f":"IF('4. Runde'!AD9<>0,'1. Runde'!AW9+'2. Runde'!AW9+AW9,0)","v":2},{"$f":"IF('4. Runde'!AD9<>0,'1. Runde'!AX9+'2. Runde'!AX9+AX9,0)","v":-21},7]
[20,null,":",null,7,null,20,9,":",13,7,20,"",":","",7,null,8,13,":",12,null,20,9,":",13,7,null,8,13,":",6,null,8,13,":",12,null,1,1,8,13,":",6,null,1,7,8,2,8,8,{"$f":"IF('4. Runde'!AD10<>0,'1. Runde'!AW10+'2. Runde'!AW10+AW10,0)","v":3},{"$f":"IF('4. Runde'!AD10<>0,'1. Runde'!AX10+'2. Runde'!AX10+AX10,0)","v":0},8]
[40,null,":",null,13,null,40,8,":",13,13,40,"",":","",13,null,9,7,":",13,null,40,8,":",13,13,null,9,4,":",13,null,9,7,":",13,null,0,-6,9,4,":",13,null,0,-9,9,0,-15,9,{"$f":"IF('4. Runde'!AD11<>0,'1. Runde'!AW11+'2. Runde'!AW11+AW11,0)","v":2},{"$f":"IF('4. Runde'!AD11<>0,'1. Runde'!AX11+'2. Runde'!AX11+AX11,0)","v":-23},9]
[29,null,":",null,34,null,29,0,":",13,34,29,"",":","",34,null,10,13,":",7,null,29,0,":",13,34,null,10,13,":",4,null,10,13,":",7,null,1,6,10,13,":",4,null,1,9,10,2,15,10,{"$f":"IF('4. Runde'!AD12<>0,'1. Runde'!AW12+'2. Runde'!AW12+AW12,0)","v":5},{"$f":"IF('4. Runde'!AD12<>0,'1. Runde'!AX12+'2. Runde'!AX12+AX12,0)","v":32},10]
[16,null,":",null,41,null,16,13,":",5,41,16,"",":","",41,null,11,13,":",5,null,16,13,":",5,41,null,11,6,":",13,null,11,13,":",5,null,1,8,11,6,":",13,null,0,-7,11,1,1,11,{"$f":"IF('4. Runde'!AD13<>0,'1. Runde'!AW13+'2. Runde'!AW13+AW13,0)","v":2},{"$f":"IF('4. Runde'!AD13<>0,'1. Runde'!AX13+'2. Runde'!AX13+AX13,0)","v":-5},11]
[25,null,":",null,8,null,25,6,":",13,8,25,"",":","",8,null,12,13,":",1,null,25,6,":",13,8,null,12,3,":",13,null,12,13,":",1,null,1,12,12,3,":",13,null,0,-10,12,1,2,12,{"$f":"IF('4. Runde'!AD14<>0,'1. Runde'!AW14+'2. Runde'!AW14+AW14,0)","v":5},{"$f":"IF('4. Runde'!AD14<>0,'1. Runde'!AX14+'2. Runde'!AX14+AX14,0)","v":26},12]
[18,null,":",null,28,null,18,13,":",1,28,18,"",":","",28,null,13,9,":",13,null,18,13,":",1,28,null,13,13,":",8,null,13,9,":",13,null,0,-4,13,13,":",8,null,1,5,13,1,1,13,{"$f":"IF('4. Runde'!AD15<>0,'1. Runde'!AW15+'2. Runde'!AW15+AW15,0)","v":4},{"$f":"IF('4. Runde'!AD15<>0,'1. Runde'!AX15+'2. Runde'!AX15+AX15,0)","v":13},13]
[39,null,":",null,30,null,39,2,":",13,30,39,"",":","",30,null,14,4,":",13,null,39,2,":",13,30,null,14,13,":",7,null,14,4,":",13,null,0,-9,14,13,":",7,null,1,6,14,1,-3,14,{"$f":"IF('4. Runde'!AD16<>0,'1. Runde'!AW16+'2. Runde'!AW16+AW16,0)","v":2},{"$f":"IF('4. Runde'!AD16<>0,'1. Runde'!AX16+'2. Runde'!AX16+AX16,0)","v":-13},14]
[26,null,":",null,22,null,26,13,":",3,22,26,"",":","",22,null,15,5,":",13,null,26,13,":",3,22,null,15,13,":",6,null,15,5,":",13,null,0,-8,15,13,":",6,null,1,7,15,1,-1,15,{"$f":"IF('4. Runde'!AD17<>0,'1. Runde'!AW17+'2. Runde'!AW17+AW17,0)","v":5},{"$f":"IF('4. Runde'!AD17<>0,'1. Runde'!AX17+'2. Runde'!AX17+AX17,0)","v":25},15]
[27,null,":",null,36,null,27,4,":",13,36,27,"",":","",36,null,16,13,":",11,null,27,4,":",13,36,null,16,13,":",5,null,16,13,":",11,null,1,2,16,13,":",5,null,1,8,16,2,10,16,{"$f":"IF('4. Runde'!AD18<>0,'1. Runde'!AW18+'2. Runde'!AW18+AW18,0)","v":4},{"$f":"IF('4. Runde'!AD18<>0,'1. Runde'!AX18+'2. Runde'!AX18+AX18,0)","v":10},16]
[21,null,":",null,19,null,21,5,":",13,19,21,"",":","",19,null,17,9,":",13,null,21,5,":",13,19,null,17,13,":",8,null,17,9,":",13,null,0,-4,17,13,":",8,null,1,5,17,1,1,17,{"$f":"IF('4. Runde'!AD19<>0,'1. Runde'!AW19+'2. Runde'!AW19+AW19,0)","v":2},{"$f":"IF('4. Runde'!AD19<>0,'1. Runde'!AX19+'2. Runde'!AX19+AX19,0)","v":-24},17]
[11,null,":",null,15,null,11,6,":",13,15,11,"",":","",15,null,18,13,":",3,null,11,6,":",13,15,null,18,13,":",1,null,18,13,":",3,null,{"$f":"IF(AI20=13,1,0)","v":1},10,18,13,":",1,null,1,12,18,2,22,18,{"$f":"IF('4. Runde'!AD20<>0,'1. Runde'!AW20+'2. Runde'!AW20+AW20,0)","v":2},{"$f":"IF('4. Runde'!AD20<>0,'1. Runde'!AX20+'2. Runde'!AX20+AX20,0)","v":2},18]
[14,null,":",null,6,null,14,13,":",7,6,14,"",":","",6,null,19,13,":",7,null,14,13,":",7,6,null,19,13,":",5,null,19,13,":",7,null,1,6,19,13,":",5,null,1,8,19,2,14,19,{"$f":"IF('4. Runde'!AD21<>0,'1. Runde'!AW21+'2. Runde'!AW21+AW21,0)","v":4},{"$f":"IF('4. Runde'!AD21<>0,'1. Runde'!AX21+'2. Runde'!AX21+AX21,0)","v":7},19]
[35,null,":",null,17,null,35,8,":",13,17,35,"",":","",17,null,20,8,":",13,null,35,8,":",13,17,null,20,9,":",13,null,20,8,":",13,null,0,-5,20,9,":",13,null,0,-4,20,0,-9,20,{"$f":"IF('4. Runde'!AD22<>0,'1. Runde'!AW22+'2. Runde'!AW22+AW22,0)","v":4},{"$f":"IF('4. Runde'!AD22<>0,'1. Runde'!AX22+'2. Runde'!AX22+AX22,0)","v":14},20]
[5,null,":",null,1,null,5,5,":",13,1,5,"",":","",1,null,21,7,":",13,null,5,5,":",13,1,null,21,5,":",13,null,21,7,":",13,null,0,-6,21,5,":",13,null,0,-8,21,0,-14,21,{"$f":"IF('4. Runde'!AD23<>0,'1. Runde'!AW23+'2. Runde'!AW23+AW23,0)","v":4},{"$f":"IF('4. Runde'!AD23<>0,'1. Runde'!AX23+'2. Runde'!AX23+AX23,0)","v":13},21]
[null,null,":",null,null,null,{"$f":"IF(A24=\"\",\"\",A24)","v":""},null,":",null,"","","",":","","",null,22,13,":",11,null,"","",":","","",null,22,3,":",13,null,22,13,":",11,null,1,2,22,3,":",13,null,0,-10,22,1,-8,22,{"$f":"IF('4. Runde'!AD24<>0,'1. Runde'!AW24+'2. Runde'!AW24+AW24,0)","v":1},{"$f":"IF('4. Runde'!AD24<>0,'1. Runde'!AX24+'2. Runde'!AX24+AX24,0)","v":-35},22]
[null,null,":",null,null,null,"",null,":",null,"","","",":","","",null,23,13,":",3,null,"","",":","","",null,23,13,":",11,null,23,13,":",3,null,1,10,23,13,":",11,null,1,2,23,2,12,23,{"$f":"IF('4. Runde'!AD25<>0,'1. Runde'!AW25+'2. Runde'!AW25+AW25,0)","v":6},{"$f":"IF('4. Runde'!AD25<>0,'1. Runde'!AX25+'2. Runde'!AX25+AX25,0)","v":39},23]
[null,null,":",null,null,null,"",null,":",null,"","","",":","","",null,24,1,":",13,null,"","",":","","",null,24,13,":",3,null,24,1,":",13,null,0,-12,24,13,":",3,null,1,10,24,1,-2,24,{"$f":"IF('4. Runde'!AD26<>0,'1. Runde'!AW26+'2. Runde'!AW26+AW26,0)","v":2},{"$f":"IF('4. Runde'!AD26<>0,'1. Runde'!AX26+'2. Runde'!AX26+AX26,0)","v":-4},24]
[null,null,":",null,null,null,"",null,":",null,"","","",":","","",null,25,12,":",13,null,"","",":","","",null,25,6,":",13,null,25,12,":",13,null,0,-1,25,6,":",13,null,0,-7,25,0,-8,25,{"$f":"IF('4. Runde'!AD27<>0,'1. Runde'!AW27+'2. Runde'!AW27+AW27,0)","v":2},{"$f":"IF('4. Runde'!AD27<>0,'1. Runde'!AX27+'2. Runde'!AX27+AX27,0)","v":-7},25]
[null,null,null,null,null,null,null,null,null,null,null,{"$f":"P3","v":24},{"$f":"O3","v":""},":",{"$f":"M3","v":""},{"$f":"L3","v":12},null,26,11,":",13,null,{"$f":"AA3","v":24},{"$f":"Z3","v":13},":",{"$f":"X3","v":3},{"$f":"W3","v":12},null,26,13,":",3,null,26,11,":",13,null,0,-2,26,13,":",3,null,1,10,26,1,8,26,{"$f":"IF('4. Runde'!AD28<>0,'1. Runde'!AW28+'2. Runde'!AW28+AW28,0)","v":2},{"$f":"IF('4. Runde'!AD28<>0,'1. Runde'!AX28+'2. Runde'!AX28+AX28,0)","v":-5},26]
[null,null,null,null,null,null,null,null,null,null,null,33,{"$f":"O4","v":""},":",{"$f":"M4","v":""},{"$f":"L4","v":4},null,27,13,":",12,null,{"$f":"AA4","v":33},{"$f":"Z4","v":13},":",{"$f":"X4","v":9},{"$f":"W4","v":4},null,27,4,":",13,null,27,13,":",12,null,1,1,27,4,":",13,null,0,-9,27,1,-8,27,{"$f":"IF('4. Runde'!AD29<>0,'1. Runde'!AW29+'2. Runde'!AW29+AW29,0)","v":2},{"$f":"IF('4. Runde'!AD29<>0,'1. Runde'!AX29+'2. Runde'!AX29+AX29,0)","v":-24},27]
[null,null,null,null,null,null,null,null,null,null,null,31,"",":","",23,null,28,3,":",13,null,31,11,":",13,23,null,28,1,":",13,null,28,3,":",13,null,0,-10,28,1,":",13,null,0,-12,28,0,-22,28,{"$f":"IF('4. Runde'!AD30<>0,'1. Runde'!AW30+'2. Runde'!AW30+AW30,0)","v":1},{"$f":"IF('4. Runde'!AD30<>0,'1. Runde'!AX30+'2. Runde'!AX30+AX30,0)","v":-37},28]
[null,null,null,null,null,null,null,null,null,null,null,32,"",":","",37,null,29,10,":",13,null,32,13,":",12,37,null,29,0,":",13,null,29,10,":",13,null,0,-3,29,0,":",13,null,0,-13,29,0,-16,29,{"$f":"IF('4. Runde'!AD31<>0,'1. Runde'!AW31+'2. Runde'!AW31+AW31,0)","v":0},{"$f":"IF('4. Runde'!AD31<>0,'1. Runde'!AX31+'2. Runde'!AX31+AX31,0)","v":-46},29]
[null,null,null,null,null,null,null,null,null,null,null,3,"",":","",38,null,30,9,":",13,null,3,7,":",13,38,null,30,13,":",2,null,30,9,":",13,null,0,-4,30,13,":",2,null,1,11,30,1,7,30,{"$f":"IF('4. Runde'!AD32<>0,'1. Runde'!AW32+'2. Runde'!AW32+AW32,0)","v":1},{"$f":"IF('4. Runde'!AD32<>0,'1. Runde'!AX32+'2. Runde'!AX32+AX32,0)","v":-21},30]
[null,null,null,null,null,null,null,null,null,null,null,"FL","",":","",2,null,31,3,":",13,null,"FL",7,":",13,2,null,31,11,":",13,null,31,3,":",13,null,0,-10,31,11,":",13,null,0,-2,31,0,-12,31,{"$f":"IF('4. Runde'!AD33<>0,'1. Runde'!AW33+'2. Runde'!AW33+AW33,0)","v":3},{"$f":"IF('4. Runde'!AD33<>0,'1. Runde'!AX33+'2. Runde'!AX33+AX33,0)","v":4},31]
[null,null,null,null,null,null,null,null,null,null,null,9,"",":","",10,null,32,13,":",4,null,9,4,":",13,10,null,32,13,":",12,null,32,13,":",4,null,1,9,32,13,":",12,null,1,1,32,2,10,32,{"$f":"IF('4. Runde'!AD34<>0,'1. Runde'!AW34+'2. Runde'!AW34+AW34,0)","v":4},{"$f":"IF('4. Runde'!AD34<>0,'1. Runde'!AX34+'2. Runde'!AX34+AX34,0)","v":1},32]
[null,null,null,null,null,null,null,null,null,null,null,7,"",":","",20,null,33,13,":",2,null,7,13,":",9,20,null,33,13,":",9,null,33,13,":",2,null,1,11,33,13,":",9,null,1,4,33,2,15,33,{"$f":"IF('4. Runde'!AD35<>0,'1. Runde'!AW35+'2. Runde'!AW35+AW35,0)","v":5},{"$f":"IF('4. Runde'!AD35<>0,'1. Runde'!AX35+'2. Runde'!AX35+AX35,0)","v":38},33]
[null,null,null,null,null,null,null,null,null,null,null,13,"",":","",40,null,34,13,":",10,null,13,13,":",8,40,null,34,13,":",0,null,34,13,":",10,null,1,3,34,13,":",0,null,1,13,34,2,16,34,{"$f":"IF('4. Runde'!AD36<>0,'1. Runde'!AW36+'2. Runde'!AW36+AW36,0)","v":5},{"$f":"IF('4. Runde'!AD36<>0,'1. Runde'!AX36+'2. Runde'!AX36+AX36,0)","v":26},34]
[null,null,null,null,null,null,null,null,null,null,null,34,"",":","",29,null,35,13,":",9,null,34,13,":",0,29,null,35,8,":",13,null,35,13,":",9,null,1,4,35,8,":",13,null,0,-5,35,1,-1,35,{"$f":"IF('4. Runde'!AD37<>0,'1. Runde'!AW37+'2. Runde'!AW37+AW37,0)","v":5},{"$f":"IF('4. Runde'!AD37<>0,'1. Runde'!AX37+'2. Runde'!AX37+AX37,0)","v":31},35]
[null,null,null,null,null,null,null,null,null,null,null,41,"",":","",16,null,36,12,":",13,null,41,5,":",13,16,null,36,13,":",4,null,36,12,":",13,null,0,-1,36,13,":",4,null,1,9,36,1,8,36,{"$f":"IF('4. Runde'!AD38<>0,'1. Runde'!AW38+'2. Runde'!AW38+AW38,0)","v":3},{"$f":"IF('4. Runde'!AD38<>0,'1. Runde'!AX38+'2. Runde'!AX38+AX38,0)","v":15},36]
[null,null,null,null,null,null,null,null,null,null,null,8,"",":","",25,null,37,4,":",13,null,8,13,":",6,25,null,37,12,":",13,null,37,4,":",13,null,0,-9,37,12,":",13,null,0,-1,37,0,-10,37,{"$f":"IF('4. Runde'!AD39<>0,'1. Runde'!AW39+'2. Runde'!AW39+AW39,0)","v":2},{"$f":"IF('4. Runde'!AD39<>0,'1. Runde'!AX39+'2. Runde'!AX39+AX39,0)","v":-17},37]
[null,null,null,null,null,null,null,null,null,null,null,28,"",":","",18,null,38,13,":",5,null,28,1,":",13,18,null,38,13,":",7,null,38,13,":",5,null,1,8,38,13,":",7,null,1,6,38,2,14,38,{"$f":"IF('4. Runde'!AD40<>0,'1. Runde'!AW40+'2. Runde'!AW40+AW40,0)","v":3},{"$f":"IF('4. Runde'!AD40<>0,'1. Runde'!AX40+'2. Runde'!AX40+AX40,0)","v":2},38]
[null,null,null,null,null,null,null,null,null,null,null,30,"",":","",39,null,39,13,":",9,null,30,13,":",2,39,null,39,2,":",13,null,39,13,":",9,null,1,4,39,2,":",13,null,0,-11,39,1,-7,39,{"$f":"IF('4. Runde'!AD41<>0,'1. Runde'!AW41+'2. Runde'!AW41+AW41,0)","v":4},{"$f":"IF('4. Runde'!AD41<>0,'1. Runde'!AX41+'2. Runde'!AX41+AX41,0)","v":2},39]
[null,null,null,null,null,null,null,null,null,null,null,22,"",":","",26,null,40,13,":",9,null,22,3,":",13,26,null,40,8,":",13,null,40,13,":",9,null,1,4,40,8,":",13,null,0,-5,40,1,-1,40,{"$f":"IF('4. Runde'!AD42<>0,'1. Runde'!AW42+'2. Runde'!AW42+AW42,0)","v":3},{"$f":"IF('4. Runde'!AD42<>0,'1. Runde'!AX42+'2. Runde'!AX42+AX42,0)","v":-10},40]
[null,null,null,null,null,null,null,null,null,null,null,36,"",":","",27,null,41,11,":",13,null,36,13,":",4,27,null,41,5,":",13,null,41,11,":",13,null,0,-2,41,5,":",13,null,0,-8,41,0,-10,41,{"$f":"IF('4. Runde'!AD43<>0,'1. Runde'!AW43+'2. Runde'!AW43+AW43,0)","v":3},{"$f":"IF('4. Runde'!AD43<>0,'1. Runde'!AX43+'2. Runde'!AX43+AX43,0)","v":7},41]
[null,null,null,null,null,null,null,null,null,null,null,19,"",":","",21,null,"","",":","",null,19,13,":",5,21,null,"","",":","",null,42,"",":","",null,0,0,42,"",":","",null,0,0,42,0,0,42,{"$f":"IF('4. Runde'!AD44<>0,'1. Runde'!AW44+'2. Runde'!AW44+AW44,0)","v":0},{"$f":"IF('4. Runde'!AD44<>0,'1. Runde'!AX44+'2. Runde'!AX44+AX44,0)","v":0},42]
[null,null,null,null,null,null,null,null,null,null,null,15,"",":","",11,null,"","",":","",null,15,13,":",6,11,null,"","",":","",null,43,"",":","",null,0,0,43,"",":","",null,0,0,43,0,0,43,{"$f":"IF('4. Runde'!AD45<>0,'1. Runde'!AW45+'2. Runde'!AW45+AW45,0)","v":0},{"$f":"IF('4. Runde'!AD45<>0,'1. Runde'!AX45+'2. Runde'!AX45+AX45,0)","v":0},43]
[null,null,null,null,null,null,null,null,null,null,null,6,"",":","",14,null,"","",":","",null,6,7,":",13,14,null,"","",":","",null,44,"",":","",null,0,0,44,"",":","",null,0,0,44,0,0,44,{"$f":"IF('4. Runde'!AD46<>0,'1. Runde'!AW46+'2. Runde'!AW46+AW46,0)","v":0},{"$f":"IF('4. Runde'!AD46<>0,'1. Runde'!AX46+'2. Runde'!AX46+AX46,0)","v":0},44]
[null,null,null,null,null,null,null,null,null,null,null,17,"",":","",35,null,"","",":","",null,17,13,":",8,35,null,"","",":","",null,45,"",":","",null,0,0,45,"",":","",null,0,0,45,0,0,45,{"$f":"IF('4. Runde'!AD47<>0,'1. Runde'!AW47+'2. Runde'!AW47+AW47,0)","v":0},{"$f":"IF('4. Runde'!AD47<>0,'1. Runde'!AX47+'2. Runde'!AX47+AX47,0)","v":0},45]
[null,null,null,null,null,null,null,null,null,null,null,1,"",":","",5,null,"","",":","",null,1,13,":",5,5,null,"","",":","",null,46,"",":","",null,0,0,46,"",":","",null,0,0,46,0,0,46,{"$f":"IF('4. Runde'!AD48<>0,'1. Runde'!AW48+'2. Runde'!AW48+AW48,0)","v":0},{"$f":"IF('4. Runde'!AD48<>0,'1. Runde'!AX48+'2. Runde'!AX48+AX48,0)","v":0},46]
[null,null,null,null,null,null,null,null,null,null,null,"","",":","","",null,"","",":","",null,"","",":","","",null,"","",":","",null,47,"",":","",null,0,0,47,"",":","",null,0,0,47,0,0,47,{"$f":"IF('4. Runde'!AD49<>0,'1. Runde'!AW49+'2. Runde'!AW49+AW49,0)","v":0},{"$f":"IF('4. Runde'!AD49<>0,'1. Runde'!AX49+'2. Runde'!AX49+AX49,0)","v":0},47]
[null,null,null,null,null,null,null,null,null,null,null,"","",":","","",null,"","",":","",null,"","",":","","",null,"","",":","",null,48,"",":","",null,0,0,48,"",":","",null,0,0,48,0,0,48,{"$f":"IF('4. Runde'!AD50<>0,'1. Runde'!AW50+'2. Runde'!AW50+AW50,0)","v":0},{"$f":"IF('4. Runde'!AD50<>0,'1. Runde'!AX50+'2. Runde'!AX50+AX50,0)","v":0},48]
[null,null,null,null,null,null,null,null,null,null,null,"","",":","","",null,"","",":","",null,"","",":","","",null,"","",":","",null,49,"",":","",null,0,0,49,"",":","",null,0,0,49,0,0,49,{"$f":"IF('4. Runde'!AD51<>0,'1. Runde'!AW51+'2. Runde'!AW51+AW51,0)","v":0},{"$f":"IF('4. Runde'!AD51<>0,'1. Runde'!AX51+'2. Runde'!AX51+AX51,0)","v":0},49]
[null,null,null,null,null,null,null,null,null,null,null,"","",":","","",null,"FL",7,":",13,null,"","",":","","",null,"FL",7,":",13,null,50,7,":",13,null,0,-6,50,7,":",13,null,0,-6,50,{"$f":"AM52+AT52","v":0},{"$f":"AN52+AU52","v":-12},50,{"$f":"IF('4. Runde'!AD52<>0,'1. Runde'!AW52+'2. Runde'!AW52+AW52,0)","v":0},{"$f":"IF('4. Runde'!AD52<>0,'1. Runde'!AX52+'2. Runde'!AX52+AX52,0)","v":-36},50]

{"sheet":"4. Runde","index":4,"n_rows":52,"n_cols":30,"rows_kept":52,"cut":false,"hidden":false,"merged":[[0,27,0,28],[1,26,1,27],[1,17,1,19],[1,0,1,4],[0,0,0,4]]}
["Runde 4",null,null,null,null,{"$f":"Meldeliste!A1","v":41},20,null,null,null,null,{"$f":"COUNTIF(L3:L52,\"0\")+3","v":3},null,null,null,null,{"$f":"Start!B3","v":"011."},{"$f":"Start!F3","v":"TeamCup Testversion"},null,null,null,null,null,null,null,null,null,{"$f":"Start!AO3","v":"2021-09-25"}]
["Triplette",null,null,null,null,null,null,null,null,null,null,52,null,null,null,null,"Team","Triplette",null,null,null,null,"Team","Siege","Punkte",{"$f":"SUM(Y3:Y52)","v":6},"Gesamt",null,"Team"]
[28,null,":",null,8,{"$f":"IF(A3=\"\",\"\",A3)","v":28},{"$f":"IF(B3=\"\",\"\",B3)","v":""},":",{"$f":"IF(D3=\"\",\"\",D3)","v":""},{"$f":"IF(E3=\"\",\"\",E3)","v":8},null,1,9,":",13,null,1,9,":",13,null,null,1,{"$f":"IF(R3=13,1,0)","v":0},{"$f":"IF(R3=\"\",0,R3-T3)","v":-4},1,{"$f":"IF(AD3<>0,'1. Runde'!AW3+'2. Runde'!AW3+'3. Runde'!AW3+'4. Runde'!X3,-1)","v":3},{"$f":"IF(AD3<>0,'1. Runde'!AX3+'2. Runde'!AX3+'3. Runde'!AX3+'4. Runde'!Y3,0)","v":5},1,{"$f":"SUM('1. Runde'!AI3,AI3,AN3,AP3,'2. Runde'!AI3,AI3,AN3,AP3,'3. Runde'!AI3,AI3,AN3,AP3,'4. Runde'!AP3,T3)","v":47}]
[14,null,":",null,16,{"$f":"IF(A4=\"\",\"\",A4)","v":14},{"$f":"IF(B4=\"\",\"\",B4)","v":""},":",{"$f":"IF(D4=\"\",\"\",D4)","v":""},{"$f":"IF(E4=\"\",\"\",E4)","v":16},null,2,13,":",7,null,2,13,":",7,null,null,2,{"$f":"IF(R4=13,1,0)","v":1},{"$f":"IF(R4=\"\",0,R4-T4)","v":6},2,{"$f":"IF(AD4<>0,'1. Runde'!AW4+'2. Runde'!AW4+'3. Runde'!AW4+X4,-1)","v":4},{"$f":"IF(AD4<>0,'1. Runde'!AX4+'2. Runde'!AX4+'3. Runde'!AX4+'4. Runde'!Y4,0)","v":16},2,{"$f":"SUM('1. Runde'!AI4,AI4,AN4,AP4,'2. Runde'!AI4,AI4,AN4,AP4,'3. Runde'!AI4,AI4,AN4,AP4,'4. Runde'!AP4,T4)","v":35}]
[33,null,":",null,26,33,"",":","",26,null,3,7,":",13,null,3,7,":",13,null,null,3,0,-6,3,{"$f":"IF(AD5<>0,'1. Runde'!AW5+'2. Runde'!AW5+'3. Runde'!AW5+X5,-1)","v":3},{"$f":"IF(AD5<>0,'1. Runde'!AX5+'2. Runde'!AX5+'3. Runde'!AX5+'4. Runde'!Y5,0)","v":-9},3,{"$f":"SUM('1. Runde'!AI5,AI5,AN5,AP5,'2. Runde'!AI5,AI5,AN5,AP5,'3. Runde'!AI5,AI5,AN5,AP5,'4. Runde'!AP5,T5)","v":39}]
["FL",null,":",null,36,"FL","",":","",36,null,4,9,":",13,null,4,9,":",13,null,null,4,0,-4,4,{"$f":"IF(AD6<>0,'1. Runde'!AW6+'2. Runde'!AW6+'3. Runde'!AW6+X6,-1)","v":2},{"$f":"IF(AD6<>0,'1. Runde'!AX6+'2. Runde'!AX6+'3. Runde'!AX6+'4. Runde'!Y6,0)","v":-28},4,{"$f":"SUM('1. Runde'!AI6,AI6,AN6,AP6,'2. Runde'!AI6,AI6,AN6,AP6,'3. Runde'!AI6,AI6,AN6,AP6,'4. Runde'!AP6,T6)","v":33}]
[15,null,":",null,3,15,"",":","",3,null,5,13,":",9,null,5,13,":",9,null,null,5,1,4,5,{"$f":"IF(AD7<>0,'1. Runde'!AW7+'2. Runde'!AW7+'3. Runde'!AW7+X7,-1)","v":5},{"$f":"IF(AD7<>0,'1. Runde'!AX7+'2. Runde'!AX7+'3. Runde'!AX7+'4. Runde'!Y7,0)","v":9},5,{"$f":"SUM('1. Runde'!AI7,AI7,AN7,AP7,'2. Runde'!AI7,AI7,AN7,AP7,'3. Runde'!AI7,AI7,AN7,AP7,'4. Runde'!AP7,T7)","v":48}]
[4,null,":",null,20,4,"",":","",20,null,6,7,":",13,null,6,7,":",13,null,null,6,0,-6,6,{"$f":"IF(AD8<>0,'1. Runde'!AW8+'2. Runde'!AW8+'3. Runde'!AW8+X8,-1)","v":4},{"$f":"IF(AD8<>0,'1. Runde'!AX8+'2. Runde'!AX8+'3. Runde'!AX8+'4. Runde'!Y8,0)","v":18},6,{"$f":"SUM('1. Runde'!AI8,AI8,AN8,AP8,'2. Runde'!AI8,AI8,AN8,AP8,'3. Runde'!AI8,AI8,AN8,AP8,'4. Runde'!AP8,T8)","v":48}]
[7,null,":",null,38,7,"",":","",38,null,7,13,":",9,null,7,13,":",9,null,null,7,1,4,7,{"$f":"IF(AD9<>0,'1. Runde'!AW9+'2. Runde'!AW9+'3. Runde'!AW9+X9,-1)","v":3},{"$f":"IF(AD9<>0,'1. Runde'!AX9+'2. Runde'!AX9+'3. Runde'!AX9+'4. Runde'!Y9,0)","v":-17},7,{"$f":"SUM('1. Runde'!AI9,AI9,AN9,AP9,'2. Runde'!AI9,AI9,AN9,AP9,'3. Runde'!AI9,AI9,AN9,AP9,'4. Runde'!AP9,T9)","v":36}]
[30,null,":",null,12,30,"",":","",12,null,8,13,":",6,null,8,13,":",6,null,null,8,1,7,8,{"$f":"IF(AD10<>0,'1. Runde'!AW10+'2. Runde'!AW10+'3. Runde'!AW10+X10,-1)","v":4},{"$f":"IF(AD10<>0,'1. Runde'!AX10+'2. Runde'!AX10+'3. Runde'!AX10+'4. Runde'!Y10,0)","v":7},8,{"$f":"SUM('1. Runde'!AI10,AI10,AN10,AP10,'2. Runde'!AI10,AI10,AN10,AP10,'3. Runde'!AI10,AI10,AN10,AP10,'4. Runde'!AP10,T10)","v":36}]
[31,null,":",null,17,31,"",":","",17,null,9,4,":",13,null,9,4,":",13,null,null,9,0,-9,9,{"$f":"IF(AD11<>0,'1. Runde'!AW11+'2. Runde'!AW11+'3. Runde'!AW11+X11,-1)","v":2},{"$f":"IF(AD11<>0,'1. Runde'!AX11+'2. Runde'!AX11+'3. Runde'!AX11+'4. Runde'!Y11,0)","v":-32},9,{"$f":"SUM('1. Runde'!AI11,AI11,AN11,AP11,'2. Runde'!AI11,AI11,AN11,AP11,'3. Runde'!AI11,AI11,AN11,AP11,'4. Runde'!AP11,T11)","v":46}]
[35,null,":",null,40,35,"",":","",40,null,10,13,":",4,null,10,13,":",4,null,null,10,1,9,10,{"$f":"IF(AD12<>0,'1. Runde'!AW12+'2. Runde'!AW12+'3. Runde'!AW12+X12,-1)","v":6},{"$f":"IF(AD12<>0,'1. Runde'!AX12+'2. Runde'!AX12+'3. Runde'!AX12+'4. Runde'!Y12,0)","v":41},10,{"$f":"SUM('1. Runde'!AI12,AI12,AN12,AP12,'2. Runde'!AI12,AI12,AN12,AP12,'3. Runde'!AI12,AI12,AN12,AP12,'4. Runde'!AP12,T12)","v":39}]
[21,null,":",null,27,21,"",":","",27,null,11,6,":",13,null,11,6,":",13,null,null,11,0,-7,11,{"$f":"IF(AD13<>0,'1. Runde'!AW13+'2. Runde'!AW13+'3. Runde'!AW13+X13,-1)","v":2},{"$f":"IF(AD13<>0,'1. Runde'!AX13+'2. Runde'!AX13+'3. Runde'!AX13+'4. Runde'!Y13,0)","v":-12},11,{"$f":"SUM('1. Runde'!AI13,AI13,AN13,AP13,'2. Runde'!AI13,AI13,AN13,AP13,'3. Runde'!AI13,AI13,AN13,AP13,'4. Runde'!AP13,T13)","v":42}]
[25,null,":",null,5,25,"",":","",5,null,12,3,":",13,null,12,3,":",13,null,null,12,0,-10,12,{"$f":"IF(AD14<>0,'1. Runde'!AW14+'2. Runde'!AW14+'3. Runde'!AW14+X14,-1)","v":5},{"$f":"IF(AD14<>0,'1. Runde'!AX14+'2. Runde'!AX14+'3. Runde'!AX14+'4. Runde'!Y14,0)","v":16},12,{"$f":"SUM('1. Runde'!AI14,AI14,AN14,AP14,'2. Runde'!AI14,AI14,AN14,AP14,'3. Runde'!AI14,AI14,AN14,AP14,'4. Runde'!AP14,T14)","v":52}]
[10,null,":",null,19,10,"",":","",19,null,13,13,":",8,null,13,13,":",8,null,null,13,1,5,13,{"$f":"IF(AD15<>0,'1. Runde'!AW15+'2. Runde'!AW15+'3. Runde'!AW15+X15,-1)","v":5},{"$f":"IF(AD15<>0,'1. Runde'!AX15+'2. Runde'!AX15+'3. Runde'!AX15+'4. Runde'!Y15,0)","v":18},13,{"$f":"SUM('1. Runde'!AI15,AI15,AN15,AP15,'2. Runde'!AI15,AI15,AN15,AP15,'3. Runde'!AI15,AI15,AN15,AP15,'4. Runde'!AP15,T15)","v":43}]
[41,null,":",null,34,41,"",":","",34,null,14,13,":",7,null,14,13,":",7,null,null,14,1,6,14,{"$f":"IF(AD16<>0,'1. Runde'!AW16+'2. Runde'!AW16+'3. Runde'!AW16+X16,-1)","v":3},{"$f":"IF(AD16<>0,'1. Runde'!AX16+'2. Runde'!AX16+'3. Runde'!AX16+'4. Runde'!Y16,0)","v":-7},14,{"$f":"SUM('1. Runde'!AI16,AI16,AN16,AP16,'2. Runde'!AI16,AI16,AN16,AP16,'3. Runde'!AI16,AI16,AN16,AP16,'4. Runde'!AP16,T16)","v":24}]
[37,null,":",null,6,37,"",":","",6,null,15,13,":",6,null,15,13,":",6,null,null,15,1,7,15,{"$f":"IF(AD17<>0,'1. Runde'!AW17+'2. Runde'!AW17+'3. Runde'!AW17+X17,-1)","v":6},{"$f":"IF(AD17<>0,'1. Runde'!AX17+'2. Runde'!AX17+'3. Runde'!AX17+'4. Runde'!Y17,0)","v":32},15,{"$f":"SUM('1. Runde'!AI17,AI17,AN17,AP17,'2. Runde'!AI17,AI17,AN17,AP17,'3. Runde'!AI17,AI17,AN17,AP17,'4. Runde'!AP17,T17)","v":37}]
[29,null,":",null,22,29,"",":","",22,null,16,13,":",5,null,16,13,":",5,null,null,16,1,8,16,{"$f":"IF(AD18<>0,'1. Runde'!AW18+'2. Runde'!AW18+'3. Runde'!AW18+X18,-1)","v":5},{"$f":"IF(AD18<>0,'1. Runde'!AX18+'2. Runde'!AX18+'3. Runde'!AX18+'4. Runde'!Y18,0)","v":18},16,{"$f":"SUM('1. Runde'!AI18,AI18,AN18,AP18,'2. Runde'!AI18,AI18,AN18,AP18,'3. Runde'!AI18,AI18,AN18,AP18,'4. Runde'!AP18,T18)","v":42}]
[18,null,":",null,13,18,"",":","",13,null,17,13,":",8,null,17,13,":",8,null,null,17,1,5,17,{"$f":"IF(AD19<>0,'1. Runde'!AW19+'2. Runde'!AW19+'3. Runde'!AW19+X19,-1)","v":3},{"$f":"IF(AD19<>0,'1. Runde'!AX19+'2. Runde'!AX19+'3. Runde'!AX19+'4. Runde'!Y19,0)","v":-19},17,{"$f":"SUM('1. Runde'!AI19,AI19,AN19,AP19,'2. Runde'!AI19,AI19,AN19,AP19,'3. Runde'!AI19,AI19,AN19,AP19,'4. Runde'!AP19,T19)","v":24}]
[39,null,":",null,23,39,"",":","",23,null,18,13,":",1,null,18,13,":",1,null,null,18,1,12,18,{"$f":"IF(AD20<>0,'1. Runde'!AW20+'2. Runde'!AW20+'3. Runde'!AW20+X20,-1)","v":3},{"$f":"IF(AD20<>0,'1. Runde'!AX20+'2. Runde'!AX20+'3. Runde'!AX20+'4. Runde'!Y20,0)","v":14},18,{"$f":"SUM('1. Runde'!AI20,AI20,AN20,AP20,'2. Runde'!AI20,AI20,AN20,AP20,'3. Runde'!AI20,AI20,AN20,AP20,'4. Runde'!AP20,T20)","v":29}]
[32,null,":",null,9,32,"",":","",9,null,19,5,":",13,null,19,5,":",13,null,null,19,0,-8,19,{"$f":"IF(AD21<>0,'1. Runde'!AW21+'2. Runde'!AW21+'3. Runde'!AW21+X21,-1)","v":4},{"$f":"IF(AD21<>0,'1. Runde'!AX21+'2. Runde'!AX21+'3. Runde'!AX21+'4. Runde'!Y21,0)","v":-1},19,{"$f":"SUM('1. Runde'!AI21,AI21,AN21,AP21,'2. Runde'!AI21,AI21,AN21,AP21,'3. Runde'!AI21,AI21,AN21,AP21,'4. Runde'!AP21,T21)","v":42}]
[2,null,":",null,11,2,"",":","",11,null,20,9,":",13,null,20,9,":",13,null,null,20,0,-4,20,{"$f":"IF(AD22<>0,'1. Runde'!AW22+'2. Runde'!AW22+'3. Runde'!AW22+X22,-1)","v":4},{"$f":"IF(AD22<>0,'1. Runde'!AX22+'2. Runde'!AX22+'3. Runde'!AX22+'4. Runde'!Y22,0)","v":10},20,{"$f":"SUM('1. Runde'!AI22,AI22,AN22,AP22,'2. Runde'!AI22,AI22,AN22,AP22,'3. Runde'!AI22,AI22,AN22,AP22,'4. Runde'!AP22,T22)","v":47}]
[24,null,":",null,1,24,"",":","",1,null,21,13,":",5,null,21,13,":",5,null,null,21,1,8,21,{"$f":"IF(AD23<>0,'1. Runde'!AW23+'2. Runde'!AW23+'3. Runde'!AW23+X23,-1)","v":5},{"$f":"IF(AD23<>0,'1. Runde'!AX23+'2. Runde'!AX23+'3. Runde'!AX23+'4. Runde'!Y23,0)","v":21},21,{"$f":"SUM('1. Runde'!AI23,AI23,AN23,AP23,'2. Runde'!AI23,AI23,AN23,AP23,'3. Runde'!AI23,AI23,AN23,AP23,'4. Runde'!AP23,T23)","v":38}]
[null,null,":",null,null,"","",":","","",null,22,3,":",13,null,22,3,":",13,null,null,22,0,-10,22,{"$f":"IF(AD24<>0,'1. Runde'!AW24+'2. Runde'!AW24+'3. Runde'!AW24+X24,-1)","v":1},{"$f":"IF(AD24<>0,'1. Runde'!AX24+'2. Runde'!AX24+'3. Runde'!AX24+'4. Runde'!Y24,0)","v":-45},22,{"$f":"SUM('1. Runde'!AI24,AI24,AN24,AP24,'2. Runde'!AI24,AI24,AN24,AP24,'3. Runde'!AI24,AI24,AN24,AP24,'4. Runde'!AP24,T24)","v":35}]
[null,null,":",null,null,"","",":","","",null,23,13,":",11,null,23,13,":",11,null,null,23,1,2,23,{"$f":"IF(AD25<>0,'1. Runde'!AW25+'2. Runde'!AW25+'3. Runde'!AW25+X25,-1)","v":7},{"$f":"IF(AD25<>0,'1. Runde'!AX25+'2. Runde'!AX25+'3. Runde'!AX25+'4. Runde'!Y25,0)","v":41},23,{"$f":"SUM('1. Runde'!AI25,AI25,AN25,AP25,'2. Runde'!AI25,AI25,AN25,AP25,'3. Runde'!AI25,AI25,AN25,AP25,'4. Runde'!AP25,T25)","v":50}]
[null,null,":",null,null,"","",":","","",null,24,13,":",3,null,24,13,":",3,null,null,24,1,10,24,{"$f":"IF(AD26<>0,'1. Runde'!AW26+'2. Runde'!AW26+'3. Runde'!AW26+X26,-1)","v":3},{"$f":"IF(AD26<>0,'1. Runde'!AX26+'2. Runde'!AX26+'3. Runde'!AX26+'4. Runde'!Y26,0)","v":6},24,{"$f":"SUM('1. Runde'!AI26,AI26,AN26,AP26,'2. Runde'!AI26,AI26,AN26,AP26,'3. Runde'!AI26,AI26,AN26,AP26,'4. Runde'!AP26,T26)","v":27}]
[null,null,":",null,null,"","",":","","",null,25,6,":",13,null,25,6,":",13,null,null,25,0,-7,25,{"$f":"IF(AD27<>0,'1. Runde'!AW27+'2. Runde'!AW27+'3. Runde'!AW27+X27,-1)","v":2},{"$f":"IF(AD27<>0,'1. Runde'!AX27+'2. Runde'!AX27+'3. Runde'!AX27+'4. Runde'!Y27,0)","v":-14},25,{"$f":"SUM('1. Runde'!AI27,AI27,AN27,AP27,'2. Runde'!AI27,AI27,AN27,AP27,'3. Runde'!AI27,AI27,AN27,AP27,'4. Runde'!AP27,T27)","v":46}]
[null,null,null,null,null,{"$f":"J3","v":8},{"$f":"I3","v":""},":",{"$f":"G3","v":""},{"$f":"F3","v":28},null,26,13,":",3,null,26,13,":",3,null,null,26,1,10,26,{"$f":"IF(AD28<>0,'1. Runde'!AW28+'2. Runde'!AW28+'3. Runde'!AW28+X28,-1)","v":3},{"$f":"IF(AD28<>0,'1. Runde'!AX28+'2. Runde'!AX28+'3. Runde'!AX28+'4. Runde'!Y28,0)","v":5},26,{"$f":"SUM('1. Runde'!AI28,AI28,AN28,AP28,'2. Runde'!AI28,AI28,AN28,AP28,'3. Runde'!AI28,AI28,AN28,AP28,'4. Runde'!AP28,T28)","v":22}]
[null,null,null,null,null,16,"",":","",14,null,27,4,":",13,null,27,4,":",13,null,null,27,0,-9,27,{"$f":"IF(AD29<>0,'1. Runde'!AW29+'2. Runde'!AW29+'3. Runde'!AW29+X29,-1)","v":2},{"$f":"IF(AD29<>0,'1. Runde'!AX29+'2. Runde'!AX29+'3. Runde'!AX29+'4. Runde'!Y29,0)","v":-33},27,{"$f":"SUM('1. Runde'!AI29,AI29,AN29,AP29,'2. Runde'!AI29,AI29,AN29,AP29,'3. Runde'!AI29,AI29,AN29,AP29,'4. Runde'!AP29,T29)","v":41}]
[null,null,null,null,null,26,"",":","",33,null,28,1,":",13,null,28,1,":",13,null,null,28,0,-12,28,{"$f":"IF(AD30<>0,'1. Runde'!AW30+'2. Runde'!AW30+'3. Runde'!AW30+X30,-1)","v":1},{"$f":"IF(AD30<>0,'1. Runde'!AX30+'2. Runde'!AX30+'3. Runde'!AX30+'4. Runde'!Y30,0)","v":-49},28,{"$f":"SUM('1. Runde'!AI30,AI30,AN30,AP30,'2. Runde'!AI30,AI30,AN30,AP30,'3. Runde'!AI30,AI30,AN30,AP30,'4. Runde'!AP30,T30)","v":35}]
[null,null,null,null,null,36,"",":","","FL",null,29,0,":",13,null,29,0,":",13,null,null,29,0,-13,29,{"$f":"IF(AD31<>0,'1. Runde'!AW31+'2. Runde'!AW31+'3. Runde'!AW31+X31,-1)","v":0},{"$f":"IF(AD31<>0,'1. Runde'!AX31+'2. Runde'!AX31+'3. Runde'!AX31+'4. Runde'!Y31,0)","v":-59},29,{"$f":"SUM('1. Runde'!AI31,AI31,AN31,AP31,'2. Runde'!AI31,AI31,AN31,AP31,'3. Runde'!AI31,AI31,AN31,AP31,'4. Runde'!AP31,T31)","v":33}]
[null,null,null,null,null,3,"",":","",15,null,30,13,":",2,null,30,13,":",2,null,null,30,1,11,30,{"$f":"IF(AD32<>0,'1. Runde'!AW32+'2. Runde'!AW32+'3. Runde'!AW32+X32,-1)","v":2},{"$f":"IF(AD32<>0,'1. Runde'!AX32+'2. Runde'!AX32+'3. Runde'!AX32+'4. Runde'!Y32,0)","v":-10},30,{"$f":"SUM('1. Runde'!AI32,AI32,AN32,AP32,'2. Runde'!AI32,AI32,AN32,AP32,'3. Runde'!AI32,AI32,AN32,AP32,'4. Runde'!AP32,T32)","v":23}]
[null,null,null,null,null,20,"",":","",4,null,31,11,":",13,null,31,11,":",13,null,null,31,0,-2,31,{"$f":"IF(AD33<>0,'1. Runde'!AW33+'2. Runde'!AW33+'3. Runde'!AW33+X33,-1)","v":3},{"$f":"IF(AD33<>0,'1. Runde'!AX33+'2. Runde'!AX33+'3. Runde'!AX33+'4. Runde'!Y33,0)","v":2},31,{"$f":"SUM('1. Runde'!AI33,AI33,AN33,AP33,'2. Runde'!AI33,AI33,AN33,AP33,'3. Runde'!AI33,AI33,AN33,AP33,'4. Runde'!AP33,T33)","v":42}]
[null,null,null,null,null,38,"",":","",7,null,32,13,":",12,null,32,13,":",12,null,null,32,1,1,32,{"$f":"IF(AD34<>0,'1. Runde'!AW34+'2. Runde'!AW34+'3. Runde'!AW34+X34,-1)","v":5},{"$f":"IF(AD34<>0,'1. Runde'!AX34+'2. Runde'!AX34+'3. Runde'!AX34+'4. Runde'!Y34,0)","v":2},32,{"$f":"SUM('1. Runde'!AI34,AI34,AN34,AP34,'2. Runde'!AI34,AI34,AN34,AP34,'3. Runde'!AI34,AI34,AN34,AP34,'4. Runde'!AP34,T34)","v":43}]
[null,null,null,null,null,12,"",":","",30,null,33,13,":",9,null,33,13,":",9,null,null,33,1,4,33,{"$f":"IF(AD35<>0,'1. Runde'!AW35+'2. Runde'!AW35+'3. Runde'!AW35+X35,-1)","v":6},{"$f":"IF(AD35<>0,'1. Runde'!AX35+'2. Runde'!AX35+'3. Runde'!AX35+'4. Runde'!Y35,0)","v":42},33,{"$f":"SUM('1. Runde'!AI35,AI35,AN35,AP35,'2. Runde'!AI35,AI35,AN35,AP35,'3. Runde'!AI35,AI35,AN35,AP35,'4. Runde'!AP35,T35)","v":48}]
[null,null,null,null,null,17,"",":","",31,null,34,13,":",0,null,34,13,":",0,null,null,34,1,13,34,{"$f":"IF(AD36<>0,'1. Runde'!AW36+'2. Runde'!AW36+'3. Runde'!AW36+X36,-1)","v":6},{"$f":"IF(AD36<>0,'1. Runde'!AX36+'2. Runde'!AX36+'3. Runde'!AX36+'4. Runde'!Y36,0)","v":39},34,{"$f":"SUM('1. Runde'!AI36,AI36,AN36,AP36,'2. Runde'!AI36,AI36,AN36,AP36,'3. Runde'!AI36,AI36,AN36,AP36,'4. Runde'!AP36,T36)","v":27}]
[null,null,null,null,null,40,"",":","",35,null,35,8,":",13,null,35,8,":",13,null,null,35,0,-5,35,{"$f":"IF(AD37<>0,'1. Runde'!AW37+'2. Runde'!AW37+'3. Runde'!AW37+X37,-1)","v":5},{"$f":"IF(AD37<>0,'1. Runde'!AX37+'2. Runde'!AX37+'3. Runde'!AX37+'4. Runde'!Y37,0)","v":26},35,{"$f":"SUM('1. Runde'!AI37,AI37,AN37,AP37,'2. Runde'!AI37,AI37,AN37,AP37,'3. Runde'!AI37,AI37,AN37,AP37,'4. Runde'!AP37,T37)","v":52}]
[null,null,null,null,null,27,"",":","",21,null,36,13,":",4,null,36,13,":",4,null,null,36,1,9,36,{"$f":"IF(AD38<>0,'1. Runde'!AW38+'2. Runde'!AW38+'3. Runde'!AW38+X38,-1)","v":4},{"$f":"IF(AD38<>0,'1. Runde'!AX38+'2. Runde'!AX38+'3. Runde'!AX38+'4. Runde'!Y38,0)","v":24},36,{"$f":"SUM('1. Runde'!AI38,AI38,AN38,AP38,'2. Runde'!AI38,AI38,AN38,AP38,'3. Runde'!AI38,AI38,AN38,AP38,'4. Runde'!AP38,T38)","v":41}]
[null,null,null,null,null,5,"",":","",25,null,37,12,":",13,null,37,12,":",13,null,null,37,0,-1,37,{"$f":"IF(AD39<>0,'1. Runde'!AW39+'2. Runde'!AW39+'3. Runde'!AW39+X39,-1)","v":2},{"$f":"IF(AD39<>0,'1. Runde'!AX39+'2. Runde'!AX39+'3. Runde'!AX39+'4. Runde'!Y39,0)","v":-18},37,{"$f":"SUM('1. Runde'!AI39,AI39,AN39,AP39,'2. Runde'!AI39,AI39,AN39,AP39,'3. Runde'!AI39,AI39,AN39,AP39,'4. Runde'!AP39,T39)","v":43}]
[null,null,null,null,null,19,"",":","",10,null,38,13,":",7,null,38,13,":",7,null,null,38,1,6,38,{"$f":"IF(AD40<>0,'1. Runde'!AW40+'2. Runde'!AW40+'3. Runde'!AW40+X40,-1)","v":4},{"$f":"IF(AD40<>0,'1. Runde'!AX40+'2. Runde'!AX40+'3. Runde'!AX40+'4. Runde'!Y40,0)","v":8},38,{"$f":"SUM('1. Runde'!AI40,AI40,AN40,AP40,'2. Runde'!AI40,AI40,AN40,AP40,'3. Runde'!AI40,AI40,AN40,AP40,'4. Runde'!AP40,T40)","v":39}]
[null,null,null,null,null,34,"",":","",41,null,39,2,":",13,null,39,2,":",13,null,null,39,0,-11,39,{"$f":"IF(AD41<>0,'1. Runde'!AW41+'2. Runde'!AW41+'3. Runde'!AW41+X41,-1)","v":4},{"$f":"IF(AD41<>0,'1. Runde'!AX41+'2. Runde'!AX41+'3. Runde'!AX41+'4. Runde'!Y41,0)","v":-9},39,{"$f":"SUM('1. Runde'!AI41,AI41,AN41,AP41,'2. Runde'!AI41,AI41,AN41,AP41,'3. Runde'!AI41,AI41,AN41,AP41,'4. Runde'!AP41,T41)","v":48}]
[null,null,null,null,null,6,"",":","",37,null,40,8,":",13,null,40,8,":",13,null,null,40,0,-5,40,{"$f":"IF(AD42<>0,'1. Runde'!AW42+'2. Runde'!AW42+'3. Runde'!AW42+X42,-1)","v":3},{"$f":"IF(AD42<>0,'1. Runde'!AX42+'2. Runde'!AX42+'3. Runde'!AX42+'4. Runde'!Y42,0)","v":-15},40,{"$f":"SUM('1. Runde'!AI42,AI42,AN42,AP42,'2. Runde'!AI42,AI42,AN42,AP42,'3. Runde'!AI42,AI42,AN42,AP42,'4. Runde'!AP42,T42)","v":52}]
[null,null,null,null,null,22,"",":","",29,null,41,5,":",13,null,41,5,":",13,null,null,41,0,-8,41,{"$f":"IF(AD43<>0,'1. Runde'!AW43+'2. Runde'!AW43+'3. Runde'!AW43+X43,-1)","v":3},{"$f":"IF(AD43<>0,'1. Runde'!AX43+'2. Runde'!AX43+'3. Runde'!AX43+'4. Runde'!Y43,0)","v":-1},41,{"$f":"SUM('1. Runde'!AI43,AI43,AN43,AP43,'2. Runde'!AI43,AI43,AN43,AP43,'3. Runde'!AI43,AI43,AN43,AP43,'4. Runde'!AP43,T43)","v":46}]
[null,null,null,null,null,13,"",":","",18,null,"","",":","",null,42,"",":","",null,null,42,0,0,42,{"$f":"IF(AD44<>0,'1. Runde'!AW44+'2. Runde'!AW44+'3. Runde'!AW44+X44,-1)","v":-1},{"$f":"IF(AD44<>0,'1. Runde'!AX44+'2. Runde'!AX44+'3. Runde'!AX44+'4. Runde'!Y44,0)","v":0},42,{"$f":"SUM('1. Runde'!AI44,AI44,AN44,AP44,'2. Runde'!AI44,AI44,AN44,AP44,'3. Runde'!AI44,AI44,AN44,AP44,'4. Runde'!AP44,T44)","v":0}]
[null,null,null,null,null,23,"",":","",39,null,"","",":","",null,43,"",":","",null,null,43,0,0,43,{"$f":"IF(AD45<>0,'1. Runde'!AW45+'2. Runde'!AW45+'3. Runde'!AW45+X45,-1)","v":-1},{"$f":"IF(AD45<>0,'1. Runde'!AX45+'2. Runde'!AX45+'3. Runde'!AX45+'4. Runde'!Y45,0)","v":0},43,{"$f":"SUM('1. Runde'!AI45,AI45,AN45,AP45,'2. Runde'!AI45,AI45,AN45,AP45,'3. Runde'!AI45,AI45,AN45,AP45,'4. Runde'!AP45,T45)","v":0}]
[null,null,null,null,null,9,"",":","",32,null,"","",":","",null,44,"",":","",null,null,44,0,0,44,{"$f":"IF(AD46<>0,'1. Runde'!AW46+'2. Runde'!AW46+'3. Runde'!AW46+X46,-1)","v":-1},{"$f":"IF(AD46<>0,'1. Runde'!AX46+'2. Runde'!AX46+'3. Runde'!AX46+'4. Runde'!Y46,0)","v":0},44,{"$f":"SUM('1. Runde'!AI46,AI46,AN46,AP46,'2. Runde'!AI46,AI46,AN46,AP46,'3. Runde'!AI46,AI46,AN46,AP46,'4. Runde'!AP46,T46)","v":0}]
[null,null,null,null,null,11,"",":","",2,null,"","",":","",null,45,"",":","",null,null,45,0,0,45,{"$f":"IF(AD47<>0,'1. Runde'!AW47+'2. Runde'!AW47+'3. Runde'!AW47+X47,-1)","v":-1},{"$f":"IF(AD47<>0,'1. Runde'!AX47+'2. Runde'!AX47+'3. Runde'!AX47+'4. Runde'!Y47,0)","v":0},45,{"$f":"SUM('1. Runde'!AI47,AI47,AN47,AP47,'2. Runde'!AI47,AI47,AN47,AP47,'3. Runde'!AI47,AI47,AN47,AP47,'4. Runde'!AP47,T47)","v":0}]
[null,null,null,null,null,1,"",":","",24,null,"","",":","",null,46,"",":","",null,null,46,0,0,46,{"$f":"IF(AD48<>0,'1. Runde'!AW48+'2. Runde'!AW48+'3. Runde'!AW48+X48,-1)","v":-1},{"$f":"IF(AD48<>0,'1. Runde'!AX48+'2. Runde'!AX48+'3. Runde'!AX48+'4. Runde'!Y48,0)","v":0},46,{"$f":"SUM('1. Runde'!AI48,AI48,AN48,AP48,'2. Runde'!AI48,AI48,AN48,AP48,'3. Runde'!AI48,AI48,AN48,AP48,'4. Runde'!AP48,T48)","v":0}]
[null,null,null,null,null,"","",":","","",null,"","",":","",null,47,"",":","",null,null,47,0,0,47,{"$f":"IF(AD49<>0,'1. Runde'!AW49+'2. Runde'!AW49+'3. Runde'!AW49+X49,-1)","v":-1},{"$f":"IF(AD49<>0,'1. Runde'!AX49+'2. Runde'!AX49+'3. Runde'!AX49+'4. Runde'!Y49,0)","v":0},47,{"$f":"SUM('1. Runde'!AI49,AI49,AN49,AP49,'2. Runde'!AI49,AI49,AN49,AP49,'3. Runde'!AI49,AI49,AN49,AP49,'4. Runde'!AP49,T49)","v":0}]
[null,null,null,null,null,"","",":","","",null,"","",":","",null,48,"",":","",null,null,48,0,0,48,{"$f":"IF(AD50<>0,'1. Runde'!AW50+'2. Runde'!AW50+'3. Runde'!AW50+X50,-1)","v":-1},{"$f":"IF(AD50<>0,'1. Runde'!AX50+'2. Runde'!AX50+'3. Runde'!AX50+'4. Runde'!Y50,0)","v":0},48,{"$f":"SUM('1. Runde'!AI50,AI50,AN50,AP50,'2. Runde'!AI50,AI50,AN50,AP50,'3. Runde'!AI50,AI50,AN50,AP50,'4. Runde'!AP50,T50)","v":0}]
[null,null,null,null,null,{"$f":"J26","v":""},{"$f":"I26","v":""},":",{"$f":"G26","v":""},{"$f":"F26","v":""},null,"","",":","",null,49,"",":","",null,null,49,0,0,49,{"$f":"IF(AD51<>0,'1. Runde'!AW51+'2. Runde'!AW51+'3. Runde'!AW51+X51,-1)","v":-1},{"$f":"IF(AD51<>0,'1. Runde'!AX51+'2. Runde'!AX51+'3. Runde'!AX51+'4. Runde'!Y51,0)","v":0},49,{"$f":"SUM('1. Runde'!AI51,AI51,AN51,AP51,'2. Runde'!AI51,AI51,AN51,AP51,'3. Runde'!AI51,AI51,AN51,AP51,'4. Runde'!AP51,T51)","v":0}]
[null,null,null,null,null,"","",":","","",null,null,null,null,null,null,50,null,null,null,null,null,50,0,0,50,{"$f":"IF(AD52<>0,'1. Runde'!AW52+'2. Runde'!AW52+'3. Runde'!AW52+X52,-1)","v":0},{"$f":"IF(AD52<>0,'1. Runde'!AX52+'2. Runde'!AX52+'3. Runde'!AX52+'4. Runde'!Y52,0)","v":-36},50,{"$f":"SUM('1. Runde'!AI52,AI52,AN52,AP52,'2. Runde'!AI52,AI52,AN52,AP52,'3. Runde'!AI52,AI52,AN52,AP52,'4. Runde'!AP52,T52)","v":21}]

{"sheet":"Tabelle","index":5,"n_rows":52,"n_cols":16,"rows_kept":52,"cut":false,"hidden":false,"merged":[[0,10,0,13],[1,1,1,3],[1,4,1,6],[1,7,1,9]]}
[{"$f":"Start!B3","v":"011."},{"$f":"Start!F3","v":"TeamCup Testversion"},null,null,null,null,null,null,"Rangliste",null,{"$f":"Start!AO3","v":"2021-09-25"},null,null,null,null,{"$f":"Meldeliste!$A$1","v":41}]
["Team","A",null,null,"B",null,null,"C",null,null,"Siege","Punkte","Rang","Team"]
[23,"Pfaff","Andreas","Neunkirchen","Bick","Michael","Neunkirchen","Brendel","Hans","Neunkirchen",7,41,1,{"$f":"IF(A3=\"\",\"\",A3)","v":23}]
[33,"Brodrick","Ulli","Neunkirchen","Friedrich","Roger","Neunkirchen","Brodrick","Uwe","Neunkirchen",6,42,2,{"$f":"IF(A4=\"\",\"\",A4)","v":33}]
[10,"Bischoff","Lisa","Ottweiler","Birk","Christian","Ottweiler","Barthel","Eric ","Ottweiler",6,41,3,10]
[34,"Busch","Detlef","Weißenthurm","Girnstein","Jupp","Weißenthurm","Diether","Toni","Weißenthurm",6,39,4,34]
[15,"Movant","Didier","Mühlhofen","Weis","Jürgen","Mühlhofen","Wisotzki","Sonja","Mühlhofen",6,32,5,15]
[35,"Stadler","Peter","Eggenstein","Gerber","Annette","Eggenstein","Oberacker","Jürgen","Eggenstein",5,26,6,35]
[21,"Weisgerber","Patrick","Reichshoffen","Rosenfelder","Pierre","Reichshoffen","Richter","Denis","Reichshoffen",5,21,7,21]
[13,"Stadler","Günter","Eggenstein","Nonat","Rosita","Eggenstein","Krämer","Wolfgang","Eggenstein",5,18,8,13]
[16,"Urlacher","Thirry","Wissembourg","Haenel","Daniel","Wissembourg","Frenzel","Lukas","Schweighofen",5,18,9,16]
[12,"Thierry","Sepp","Mühlhofen","Blaettner","Peter","Mühlhofen","Krauss","Karin","Mühlhofen",5,16,10,12]
[5,"Leibfried","Marion","Neunkirchen","Niehren","Ben","Neunkirchen","Niehren","Isabelle","Neunkirchen",5,9,11,5]
[32,"Ranft","Willi","Neunkirchen","Niehren","Isabelle","Neunkirchen","Rick","Michael","Neunkirchen",5,2,12,32]
[36,"Heine","Thomas","Eggenstein","Heine","Annika","Eggenstein","Fucec","Katharina","Eggenstein",4,24,13,36]
[6,"Lechler","Günther","Brötzingen","Müller","Heiner","Pfinztal","Pellegrino","Lorenzo","Brötzingen",4,18,14,6]
[2,"Centner","Peter","Kandel","Sallaoui","Ali","Freckenfeld","Ackermann-Buhler","Gabi","Freckenfeld",4,16,15,2]
[20,"Rummel","Rainer","Rastatt","Haas","Tom","Rastatt","Schmidt","Rainer","Rastatt",4,10,16,20]
[38,"Krizman","Suzana","Trier","Koch","Bianca","Rockenhausen","Ackermann-Bühler","Gabriele","Freckenfeld",4,8,17,38]
[8,"Heyl","Oliver","Hoerdt","Halter","David","Hoerdt","Bodin","Herve","Hoerdt",4,7,18,8]
[19,"Kauf","Chris","Essingen","Böhm","Frank","Herxheim","Ochsenreiter","Finn","Herxheim",4,-1,19,19]
[39,"Leibl","Jochen","Ludwigshafen VSK","Stadler","Iris","Ludwigshafen Tricolore","Georges","Irmgard","Kapellen",4,-9,20,39]
[18,"Sitt","Tanja","Schweighofen","Sitt","Uwe","Schweighofen","Nuss","Wilko","Schweighofen",3,14,21,18]
[24,"Bassler","Theo","Bad Dürkheim","Dietrich","Beate","Bad Dürkheim","Dreßler","Klaus","Bad Dürkheim",3,6,22,24]
[1,"Brodrick","Uwe","Neunkirchen","Ranft","Willi","Neunkirchen","Friedrich ","Roger","Neunkirchen",3,5,23,1]
[26,"Steinke","Mathias","Pforzheim","Weissert","Peter","Pforzheim","Avdalyan","Azat","Pforzheim",3,5,24,26]
[31,"Stadler","Günther","Eggenstein","Seyfert","Wolfgang","Eggenstein","Schuster","Bernd","Eggenstein",3,2,25,31]
[41,"Krizman","Suzana","Trier","Koch","Bianca","Rockenhausen","Ackermann-Bühler","Gabriele","Freckenfeld",3,-1,26,41]
[14,"Weimer","Holger","Kandel","Lensch","Leo","Kandel","Rödel","Klaus","Kandel",3,-7,27,14]
[3,"Petzold","Rainer","Käfertal","Petzold","Bianca","Käfertal","Kämmle","Ursula","Käfertal",3,-9,28,3]
[40,"Bernauer","Werner","Ötisheim","Böhme","Ellen","Ötisheim","Raible","Stefan","Ötisheim",3,-15,29,40]
[7,"Brecht","Ute","Germersheim","Schafberg","Helga","Germersheim","Zimmermann","Bernd","Germersheim",3,-17,30,7]
[17,"Ellwanger","Martial","Hatten","Ellwanger","Kevin","Hatten","Ellwanger","Pauline","Hatten",3,-19,31,17]
[30,"Brauch","Gerhard","Mühlhofen","Brauch","Beate","Mühlhofen","Rehmund","Uwe","Kapellen",2,-10,32,30]
[11,"Müller","Silvia","Queichheim","König","Markus","Queichheim","Müller","Stefan","Queichheim",2,-12,33,11]
[25,"Busch","Claudia","Weißenthurm","Lorig","Astrid","Trier","Sitt","Tanja","Schweighofen",2,-14,34,25]
[37,"Petzold","Rainer","Käfertal","Petzold","Bianca","Käfertal","Kämmle","Ursula","Käfertal",2,-18,35,37]
[4,"Werling","Artur","Freckenfeld","Haus","Marc ","Schweighofen","Hoffmann","Hans-Jürgen","Freckenfeld",2,-28,36,4]
[9,"Van Durme","Henry","Mühlhofen","Brauch","Beate","Mühlhofen","Brauch","Gerhard","Mühlhofen",2,-32,37,9]
[27,"Lechler","Günther","Brötzingen","Müller","Heiner","Brötzingen","Klose","Stefan","Brötzingen",2,-33,38,27]
[22,"Vonberg","Fabian","Malsch","Vonberg","Susanne","Bornheim","Vonberg","Werner","Bornheim",1,-45,39,22]
[28,"Werling","Artur","Freckenfeld","Haus","Marc ","Schweighofen","Hoffmann","Hans-Jürgen","Freckenfeld",1,-49,40,28]
[29,"Koch-Gerlach","Iris","Eggenstein","Bock","Heinz","Eggenstein","Bock","Walli","Eggenstein",0,-59,41,29]
[null,null,null,null,null,null,null,null,null,null,null,null,42,""]
[null,null,null,null,null,null,null,null,null,null,null,null,43,""]
[null,null,null,null,null,null,null,null,null,null,null,null,44,""]
[null,null,null,null,null,null,null,null,null,null,null,null,45,""]
[null,null,null,null,null,null,null,null,null,null,null,null,46,""]
[null,null,null,null,null,null,null,null,null,null,null,null,47,""]
[null,null,null,null,null,null,null,null,null,null,null,null,48,""]
[null,null,null,null,null,null,null,null,null,null,null,null,49,""]
[null,null,null,null,null,null,null,null,null,null,null,null,50,""]

{"sheet":"Meldeliste","index":6,"n_rows":199,"n_cols":57,"rows_kept":199,"cut":false,"hidden":false,"merged":[[125,1,127,1],[128,1,130,1],[131,1,133,1],[134,1,136,1],[113,1,115,1],[116,1,118,1],[119,1,121,1],[122,1,124,1],[149,1,151,1],[137,1,139,1],[140,1,142,1],[143,1,145,1],[146,1,148,1],[104,1,106,1],[107,1,109,1],[110,1,112,1],[89,1,91,1],[92,1,94,1],[95,1,97,1],[98,1,100,1],[101,1,103,1],[77,1,79,1],[80,1,82,1],[83,1,85,1],[86,1,88,1],[65,1,67,1],[68,1,70,1],[71,1,73,1],[74,1,76,1],[53,1,55,1],[56,1,58,1],[59,1,61,1],[62,1,64,1],[14,1,16,1],[17,1,19,1],[20,1,22,1],[23,1,25,1],[8,1,10,1],[11,1,13,1],[50,1,52,1],[26,1,28,1],[29,1,31,1],[44,1,46,1],[47,1,49,1],[32,1,34,1],[35,1,37,1],[38,1,40,1],[41,1,43,1],[0,5,0,36],[1,2,1,3],[0,2,0,4],[2,1,4,1],[5,1,7,1],[1,7,1,8],[1,9,1,10],[1,11,1,12],[1,13,1,14],[1,15,1,16]]}
[{"$f":"A2/3","v":41},{"$f":"A1","v":41},"Mannschaften bis jetzt.      Meldeliste",null,null,"Achtung, Spalten H - AD sind ausgeblendet. Formeln und Werte in den ausgeblendeten Spalten nicht verändern."]
[{"$f":"COUNTIF(C3:C152,\"*\")","v":123},{"$f":"Start!B3","v":"011."},{"$f":"Start!F3","v":"TeamCup Testversion"},null,{"$f":"Start!AO3","v":"2021-09-25"},"Tel.:   und","Mail zur Kontaktnachverfolgung","Runde 1",null,"Runde 2",null,"Runde 3",null,"Runde 4",null,"Gesamt",null,null,null,null,null,null,null,null,null,null,null,null,null,{"$f":"ISODD(A1)","v":true}]
[1,1,"Brodrick","Uwe","Neunkirchen",null,null,{"$f":"'1. Runde'!AM3","v":1},{"$f":"'1. Runde'!AN3","v":5},{"$f":"'2. Runde'!AT3","v":0},{"$f":"'2. Runde'!AU3","v":-10},{"$f":"'3. Runde'!AT3","v":1},{"$f":"'3. Runde'!AU3","v":8},{"$f":"'4. Runde'!X3","v":0},{"$f":"'4. Runde'!Y3","v":-4},{"$f":"H3+J3+L3+N3","v":2},{"$f":"I3+K3+M3+O3","v":-1},1,{"$f":"C3","v":"Brodrick"},{"$f":"D3","v":"Uwe"},{"$f":"E3","v":"Neunkirchen"},{"$f":"C4","v":"Ranft"},{"$f":"D4","v":"Willi"},{"$f":"E4","v":"Neunkirchen"},{"$f":"C5","v":"Friedrich "},{"$f":"D5","v":"Roger"},{"$f":"E5","v":"Neunkirchen"},{"$f":"'4. Runde'!AA3","v":3},{"$f":"'4. Runde'!AB3","v":5}]
[2,null,"Ranft","Willi","Neunkirchen",null,null,{"$f":"'1. Runde'!AT3","v":0},{"$f":"'1. Runde'!AU3","v":-1},{"$f":"'2. Runde'!AM3","v":1},{"$f":"'2. Runde'!AN3","v":12},{"$f":"'3. Runde'!AT3","v":1},{"$f":"'3. Runde'!AU3","v":8},{"$f":"'4. Runde'!X3","v":0},{"$f":"'4. Runde'!Y3","v":-4},2,15,2,{"$f":"C6","v":"Centner"},{"$f":"D6","v":"Peter"},{"$f":"E6","v":"Kandel"},{"$f":"C7","v":"Sallaoui"},{"$f":"D7","v":"Ali"},{"$f":"E7","v":"Freckenfeld"},{"$f":"C8","v":"Ackermann-Buhler"},{"$f":"D8","v":"Gabi"},{"$f":"E8","v":"Freckenfeld"},{"$f":"'4. Runde'!AA4","v":4},{"$f":"'4. Runde'!AB4","v":16}]
[3,null,"Friedrich ","Roger","Neunkirchen",null,null,{"$f":"'1. Runde'!AT3","v":0},{"$f":"'1. Runde'!AU3","v":-1},{"$f":"'2. Runde'!AT3","v":0},{"$f":"'2. Runde'!AU3","v":-10},{"$f":"'3. Runde'!AM3","v":0},{"$f":"'3. Runde'!AN3","v":-5},{"$f":"'4. Runde'!X3","v":0},{"$f":"'4. Runde'!Y3","v":-4},0,-20,3,{"$f":"C9","v":"Petzold"},{"$f":"D9","v":"Rainer"},{"$f":"E9","v":"Käfertal"},{"$f":"C10","v":"Petzold"},{"$f":"D10","v":"Bianca"},{"$f":"E10","v":"Käfertal"},{"$f":"C11","v":"Kämmle"},{"$f":"D11","v":"Ursula"},{"$f":"E11","v":"Käfertal"},{"$f":"'4. Runde'!AA5","v":3},{"$f":"'4. Runde'!AB5","v":-9},"5-6"]
[4,2,"Centner","Peter","Kandel",null,null,{"$f":"'1. Runde'!AM4","v":0},{"$f":"'1. Runde'!AN4","v":-9},{"$f":"'2. Runde'!AT4","v":1},{"$f":"'2. Runde'!AU4","v":10},{"$f":"'3. Runde'!AT4","v":1},{"$f":"'3. Runde'!AU4","v":6},{"$f":"'4. Runde'!X4","v":1},{"$f":"'4. Runde'!Y4","v":6},3,13,4,{"$f":"C12","v":"Werling"},{"$f":"D12","v":"Artur"},{"$f":"E12","v":"Freckenfeld"},{"$f":"C13","v":"Haus"},{"$f":"D13","v":"Marc "},{"$f":"E13","v":"Schweighofen"},{"$f":"C14","v":"Hoffmann"},{"$f":"D14","v":"Hans-Jürgen"},{"$f":"E14","v":"Freckenfeld"},{"$f":"'4. Runde'!AA6","v":2},{"$f":"'4. Runde'!AB6","v":-28},"5-6",null,null,null,null,null,null,null,null,null,null,null,null,null,null,null,null,null,null,null,null,null,null,null,null,null,null,"dschupp76@web.de"]
[5,null,"Sallaoui","Ali","Freckenfeld",null,null,{"$f":"'1. Runde'!AT4","v":0},{"$f":"'1. Runde'!AU4","v":-1},{"$f":"'2. Runde'!AM4","v":0},{"$f":"'2. Runde'!AN4","v":-2},{"$f":"'3. Runde'!AT4","v":1},{"$f":"'3. Runde'!AU4","v":6},{"$f":"'4. Runde'!X4","v":1},{"$f":"'4. Runde'!Y4","v":6},2,9,5,{"$f":"C15","v":"Leibfried"},{"$f":"D15","v":"Marion"},{"$f":"E15","v":"Neunkirchen"},{"$f":"C16","v":"Niehren"},{"$f":"D16","v":"Ben"},{"$f":"E16","v":"Neunkirchen"},{"$f":"C17","v":"Niehren"},{"$f":"D17","v":"Isabelle"},{"$f":"E17","v":"Neunkirchen"},{"$f":"'4. Runde'!AA7","v":5},{"$f":"'4. Runde'!AB7","v":9},"7-8"]
[6,null,"Ackermann-Buhler","Gabi","Freckenfeld",null,null,{"$f":"'1. Runde'!AT4","v":0},{"$f":"'1. Runde'!AU4","v":-1},{"$f":"'2. Runde'!AT4","v":1},{"$f":"'2. Runde'!AU4","v":10},{"$f":"'3. Runde'!AM4","v":1},{"$f":"'3. Runde'!AN4","v":6},{"$f":"'4. Runde'!X4","v":1},{"$f":"'4. Runde'!Y4","v":6},3,21,6,{"$f":"C18","v":"Lechler"},{"$f":"D18","v":"Günther"},{"$f":"E18","v":"Brötzingen"},{"$f":"C19","v":"Müller"},{"$f":"D19","v":"Heiner"},{"$f":"E19","v":"Pfinztal"},{"$f":"C20","v":"Pellegrino"},{"$f":"D20","v":"Lorenzo"},{"$f":"E20","v":"Brötzingen"},{"$f":"'4. Runde'!AA8","v":4},{"$f":"'4. Runde'!AB8","v":18},"7-8"]
[7,3,"Petzold","Rainer","Käfertal",null,null,{"$f":"'1. Runde'!AM5","v":0},{"$f":"'1. Runde'!AN5","v":-5},{"$f":"'2. Runde'!AT5","v":1},{"$f":"'2. Runde'!AU5","v":9},{"$f":"'3. Runde'!AT5","v":0},{"$f":"'3. Runde'!AU5","v":-6},{"$f":"'4. Runde'!X5","v":0},{"$f":"'4. Runde'!Y5","v":-6},1,-8,7,{"$f":"C21","v":"Brecht"},{"$f":"D21","v":"Ute"},{"$f":"E21","v":"Germersheim"},{"$f":"C22","v":"Schafberg"},{"$f":"D22","v":"Helga"},{"$f":"E22","v":"Germersheim"},{"$f":"C23","v":"Zimmermann"},{"$f":"D23","v":"Bernd"},{"$f":"E23","v":"Germersheim"},{"$f":"'4. Runde'!AA9","v":3},{"$f":"'4. Runde'!AB9","v":-17},"9-10"]
[8,null,"Petzold","Bianca","Käfertal",null,null,{"$f":"'1. Runde'!AT5","v":1},{"$f":"'1. Runde'!AU5","v":1},{"$f":"'2. Runde'!AM5","v":1},{"$f":"'2. Runde'!AN5","v":6},{"$f":"'3. Runde'!AT5","v":0},{"$f":"'3. Runde'!AU5","v":-6},{"$f":"'4. Runde'!X5","v":0},{"$f":"'4. Runde'!Y5","v":-6},2,-5,8,{"$f":"C24","v":"Heyl"},{"$f":"D24","v":"Oliver"},{"$f":"E24","v":"Hoerdt"},{"$f":"C25","v":"Halter"},{"$f":"D25","v":"David"},{"$f":"E25","v":"Hoerdt"},{"$f":"C26","v":"Bodin"},{"$f":"D26","v":"Herve"},{"$f":"E26","v":"Hoerdt"},{"$f":"'4. Runde'!AA10","v":4},{"$f":"'4. Runde'!AB10","v":7},"9-10"]
[9,null,"Kämmle","Ursula","Käfertal",null,null,{"$f":"'1. Runde'!AT5","v":1},{"$f":"'1. Runde'!AU5","v":1},{"$f":"'2. Runde'!AT5","v":1},{"$f":"'2. Runde'!AU5","v":9},{"$f":"'3. Runde'!AM5","v":0},{"$f":"'3. Runde'!AN5","v":-8},{"$f":"'4. Runde'!X5","v":0},{"$f":"'4. Runde'!Y5","v":-6},2,-4,9,{"$f":"C27","v":"Van Durme"},{"$f":"D27","v":"Henry"},{"$f":"E27","v":"Mühlhofen"},{"$f":"C28","v":"Brauch"},{"$f":"D28","v":"Beate"},{"$f":"E28","v":"Mühlhofen"},{"$f":"C29","v":"Brauch"},{"$f":"D29","v":"Gerhard"},{"$f":"E29","v":"Mühlhofen"},{"$f":"'4. Runde'!AA11","v":2},{"$f":"'4. Runde'!AB11","v":-32},"11-12"]
[10,4,"Werling","Artur","Freckenfeld",null,null,{"$f":"'1. Runde'!AM6","v":0},{"$f":"'1. Runde'!AN6","v":-8},{"$f":"'2. Runde'!AT6","v":0},{"$f":"'2. Runde'!AU6","v":-9},{"$f":"'3. Runde'!AT6","v":0},{"$f":"'3. Runde'!AU6","v":-4},{"$f":"'4. Runde'!X6","v":0},{"$f":"'4. Runde'!Y6","v":-4},0,-25,10,{"$f":"C30","v":"Bischoff"},{"$f":"D30","v":"Lisa"},{"$f":"E30","v":"Ottweiler"},{"$f":"C31","v":"Birk"},{"$f":"D31","v":"Christian"},{"$f":"E31","v":"Ottweiler"},{"$f":"C32","v":"Barthel"},{"$f":"D32","v":"Eric "},{"$f":"E32","v":"Ottweiler"},{"$f":"'4. Runde'!AA12","v":6},{"$f":"'4. Runde'!AB12","v":41},"11-12"]
[11,null,"Haus","Marc ","Schweighofen",null,null,{"$f":"'1. Runde'!AT6","v":1},{"$f":"'1. Runde'!AU6","v":7},{"$f":"'2. Runde'!AM6","v":1},{"$f":"'2. Runde'!AN6","v":1},{"$f":"'3. Runde'!AT6","v":0},{"$f":"'3. Runde'!AU6","v":-4},{"$f":"'4. Runde'!X6","v":0},{"$f":"'4. Runde'!Y6","v":-4},2,0,11,{"$f":"C33","v":"Müller"},{"$f":"D33","v":"Silvia"},{"$f":"E33","v":"Queichheim"},{"$f":"C34","v":"König"},{"$f":"D34","v":"Markus"},{"$f":"E34","v":"Queichheim"},{"$f":"C35","v":"Müller"},{"$f":"D35","v":"Stefan"},{"$f":"E35","v":"Queichheim"},{"$f":"'4. Runde'!AA13","v":2},{"$f":"'4. Runde'!AB13","v":-12},"13-14"]
[12,null,"Hoffmann","Hans-Jürgen","Freckenfeld",null,null,{"$f":"'1. Runde'!AT6","v":1},{"$f":"'1. Runde'!AU6","v":7},{"$f":"'2. Runde'!AT6","v":0},{"$f":"'2. Runde'!AU6","v":-9},{"$f":"'3. Runde'!AM6","v":0},{"$f":"'3. Runde'!AN6","v":-11},{"$f":"'4. Runde'!X6","v":0},{"$f":"'4. Runde'!Y6","v":-4},1,-17,12,{"$f":"C36","v":"Thierry"},{"$f":"D36","v":"Sepp"},{"$f":"E36","v":"Mühlhofen"},{"$f":"C37","v":"Blaettner"},{"$f":"D37","v":"Peter"},{"$f":"E37","v":"Mühlhofen"},{"$f":"C38","v":"Krauss"},{"$f":"D38","v":"Karin"},{"$f":"E38","v":"Mühlhofen"},{"$f":"'4. Runde'!AA14","v":5},{"$f":"'4. Runde'!AB14","v":16},"13-14"]
[13,5,"Leibfried","Marion","Neunkirchen",null,null,{"$f":"'1. Runde'!AM7","v":1},{"$f":"'1. Runde'!AN7","v":4},{"$f":"'2. Runde'!AT7","v":1},{"$f":"'2. Runde'!AU7","v":8},{"$f":"'3. Runde'!AT7","v":0},{"$f":"'3. Runde'!AU7","v":-8},{"$f":"'4. Runde'!X7","v":1},{"$f":"'4. Runde'!Y7","v":4},3,8,13,{"$f":"C39","v":"Stadler"},{"$f":"D39","v":"Günter"},{"$f":"E39","v":"Eggenstein"},{"$f":"C40","v":"Nonat"},{"$f":"D40","v":"Rosita"},{"$f":"E40","v":"Eggenstein"},{"$f":"C41","v":"Krämer"},{"$f":"D41","v":"Wolfgang"},{"$f":"E41","v":"Eggenstein"},{"$f":"'4. Runde'!AA15","v":5},{"$f":"'4. Runde'!AB15","v":18},"15-16"]
[14,null,"Niehren","Ben","Neunkirchen",null,null,{"$f":"'1. Runde'!AT7","v":0},{"$f":"'1. Runde'!AU7","v":-11},{"$f":"'2. Runde'!AM7","v":1},{"$f":"'2. Runde'!AN7","v":7},{"$f":"'3. Runde'!AT7","v":0},{"$f":"'3. Runde'!AU7","v":-8},{"$f":"'4. Runde'!X7","v":1},{"$f":"'4. Runde'!Y7","v":4},2,-8,14,{"$f":"C42","v":"Weimer"},{"$f":"D42","v":"Holger"},{"$f":"E42","v":"Kandel"},{"$f":"C43","v":"Lensch"},{"$f":"D43","v":"Leo"},{"$f":"E43","v":"Kandel"},{"$f":"C44","v":"Rödel"},{"$f":"D44","v":"Klaus"},{"$f":"E44","v":"Kandel"},{"$f":"'4. Runde'!AA16","v":3},{"$f":"'4. Runde'!AB16","v":-7},"15-16"]
[15,null,"Niehren","Isabelle","Neunkirchen",null,null,{"$f":"'1. Runde'!AT7","v":0},{"$f":"'1. Runde'!AU7","v":-11},{"$f":"'2. Runde'!AT7","v":1},{"$f":"'2. Runde'!AU7","v":8},{"$f":"'3. Runde'!AM7","v":1},{"$f":"'3. Runde'!AN7","v":5},{"$f":"'4. Runde'!X7","v":1},{"$f":"'4. Runde'!Y7","v":4},3,6,15,{"$f":"C45","v":"Movant"},{"$f":"D45","v":"Didier"},{"$f":"E45","v":"Mühlhofen"},{"$f":"C46","v":"Weis"},{"$f":"D46","v":"Jürgen"},{"$f":"E46","v":"Mühlhofen"},{"$f":"C47","v":"Wisotzki"},{"$f":"D47","v":"Sonja"},{"$f":"E47","v":"Mühlhofen"},{"$f":"'4. Runde'!AA17","v":6},{"$f":"'4. Runde'!AB17","v":32},"17-18"]
[16,6,"Lechler","Günther","Brötzingen",null,null,{"$f":"'1. Runde'!AM8","v":1},{"$f":"'1. Runde'!AN8","v":8},{"$f":"'2. Runde'!AT8","v":1},{"$f":"'2. Runde'!AU8","v":11},{"$f":"'3. Runde'!AT8","v":0},{"$f":"'3. Runde'!AU8","v":-6},{"$f":"'4. Runde'!X8","v":0},{"$f":"'4. Runde'!Y8","v":-6},{"$f":"H18+J18+L18+N18","v":2},{"$f":"I18+K18+M18+O18","v":7},16,{"$f":"C48","v":"Urlacher"},{"$f":"D48","v":"Thirry"},{"$f":"E48","v":"Wissembourg"},{"$f":"C49","v":"Haenel"},{"$f":"D49","v":"Daniel"},{"$f":"E49","v":"Wissembourg"},{"$f":"C50","v":"Frenzel"},{"$f":"D50","v":"Lukas"},{"$f":"E50","v":"Schweighofen"},{"$f":"'4. Runde'!AA18","v":5},{"$f":"'4. Runde'!AB18","v":18},"17-18"]
[17,null,"Müller","Heiner","Pfinztal",null,null,{"$f":"'1. Runde'!AT8","v":1},{"$f":"'1. Runde'!AU8","v":6},{"$f":"'2. Runde'!AM8","v":0},{"$f":"'2. Runde'!AN8","v":-4},{"$f":"'3. Runde'!AT8","v":0},{"$f":"'3. Runde'!AU8","v":-6},{"$f":"'4. Runde'!X8","v":0},{"$f":"'4. Runde'!Y8","v":-6},{"$f":"H19+J19+L19+N19","v":1},{"$f":"I19+K19+M19+O19","v":-10},17,{"$f":"C51","v":"Ellwanger"},{"$f":"D51","v":"Martial"},{"$f":"E51","v":"Hatten"},{"$f":"C52","v":"Ellwanger"},{"$f":"D52","v":"Kevin"},{"$f":"E52","v":"Hatten"},{"$f":"C53","v":"Ellwanger"},{"$f":"D53","v":"Pauline"},{"$f":"E53","v":"Hatten"},{"$f":"'4. Runde'!AA19","v":3},{"$f":"'4. Runde'!AB19","v":-19},"19-20"]
[18,null,"Pellegrino","Lorenzo","Brötzingen",null,null,{"$f":"'1. Runde'!AT8","v":1},{"$f":"'1. Runde'!AU8","v":6},{"$f":"'2. Runde'!AT8","v":1},{"$f":"'2. Runde'!AU8","v":11},{"$f":"'3. Runde'!AM8","v":1},{"$f":"'3. Runde'!AN8","v":9},{"$f":"'4. Runde'!X8","v":0},{"$f":"'4. Runde'!Y8","v":-6},3,{"$f":"I20+K20+M20+O20","v":20},18,{"$f":"C54","v":"Sitt"},{"$f":"D54","v":"Tanja"},{"$f":"E54","v":"Schweighofen"},{"$f":"C55","v":"Sitt"},{"$f":"D55","v":"Uwe"},{"$f":"E55","v":"Schweighofen"},{"$f":"C56","v":"Nuss"},{"$f":"D56","v":"Wilko"},{"$f":"E56","v":"Schweighofen"},{"$f":"'4. Runde'!AA20","v":3},{"$f":"'4. Runde'!AB20","v":14},"19-20"]
[19,7,"Brecht","Ute","Germersheim",null,null,{"$f":"'1. Runde'!AM9","v":0},{"$f":"'1. Runde'!AN9","v":-6},{"$f":"'2. Runde'!AT9","v":0},{"$f":"'2. Runde'!AU9","v":-9},{"$f":"'3. Runde'!AT9","v":1},{"$f":"'3. Runde'!AU9","v":4},{"$f":"'4. Runde'!X9","v":1},{"$f":"'4. Runde'!Y9","v":4},2,-7,19,{"$f":"C57","v":"Kauf"},{"$f":"D57","v":"Chris"},{"$f":"E57","v":"Essingen"},{"$f":"C58","v":"Böhm"},{"$f":"D58","v":"Frank"},{"$f":"E58","v":"Herxheim"},{"$f":"C59","v":"Ochsenreiter"},{"$f":"D59","v":"Finn"},{"$f":"E59","v":"Herxheim"},{"$f":"'4. Runde'!AA21","v":4},{"$f":"'4. Runde'!AB21","v":-1},"21-22"]
[20,null,"Schafberg","Helga","Germersheim",null,null,{"$f":"'1. Runde'!AT9","v":0},{"$f":"'1. Runde'!AU9","v":-9},{"$f":"'2. Runde'!AM9","v":0},{"$f":"'2. Runde'!AN9","v":-6},{"$f":"'3. Runde'!AT9","v":1},{"$f":"'3. Runde'!AU9","v":4},{"$f":"'4. Runde'!X9","v":1},{"$f":"'4. Runde'!Y9","v":4},2,-7,20,{"$f":"C60","v":"Rummel"},{"$f":"D60","v":"Rainer"},{"$f":"E60","v":"Rastatt"},{"$f":"C61","v":"Haas"},{"$f":"D61","v":"Tom"},{"$f":"E61","v":"Rastatt"},{"$f":"C62","v":"Schmidt"},{"$f":"D62","v":"Rainer"},{"$f":"E62","v":"Rastatt"},{"$f":"'4. Runde'!AA22","v":4},{"$f":"'4. Runde'!AB22","v":10},"21-22"]
[21,null,"Zimmermann","Bernd","Germersheim",null,null,{"$f":"'1. Runde'!AT9","v":0},{"$f":"'1. Runde'!AU9","v":-9},{"$f":"'2. Runde'!AT9","v":0},{"$f":"'2. Runde'!AU9","v":-9},{"$f":"'3. Runde'!AM9","v":1},{"$f":"'3. Runde'!AN9","v":5},{"$f":"'4. Runde'!X9","v":1},{"$f":"'4. Runde'!Y9","v":4},2,-9,21,{"$f":"C63","v":"Weisgerber"},{"$f":"D63","v":"Patrick"},{"$f":"E63","v":"Reichshoffen"},{"$f":"C64","v":"Rosenfelder"},{"$f":"D64","v":"Pierre"},{"$f":"E64","v":"Reichshoffen"},{"$f":"C65","v":"Richter"},{"$f":"D65","v":"Denis"},{"$f":"E65","v":"Reichshoffen"},{"$f":"'4. Runde'!AA23","v":5},{"$f":"'4. Runde'!AB23","v":21},"23-24"]
[22,8,"Heyl","Oliver","Hoerdt",null,null,{"$f":"'1. Runde'!AM10","v":0},{"$f":"'1. Runde'!AN10","v":-4},{"$f":"'2. Runde'!AT10","v":0},{"$f":"'2. Runde'!AU10","v":-4},{"$f":"'3. Runde'!AT10","v":1},{"$f":"'3. Runde'!AU10","v":7},{"$f":"'4. Runde'!X10","v":1},{"$f":"'4. Runde'!Y10","v":7},2,6,22,{"$f":"C66","v":"Vonberg"},{"$f":"D66","v":"Fabian"},{"$f":"E66","v":"Malsch"},{"$f":"C67","v":"Vonberg"},{"$f":"D67","v":"Susanne"},{"$f":"E67","v":"Bornheim"},{"$f":"C68","v":"Vonberg"},{"$f":"D68","v":"Werner"},{"$f":"E68","v":"Bornheim"},{"$f":"'4. Runde'!AA24","v":1},{"$f":"'4. Runde'!AB24","v":-45},"23-24"]
[23,null,"Halter","David","Hoerdt",null,null,{"$f":"'1. Runde'!AT10","v":1},{"$f":"'1. Runde'!AU10","v":5},{"$f":"'2. Runde'!AM10","v":0},{"$f":"'2. Runde'!AN10","v":-5},{"$f":"'3. Runde'!AT10","v":1},{"$f":"'3. Runde'!AU10","v":7},{"$f":"'4. Runde'!X10","v":1},{"$f":"'4. Runde'!Y10","v":7},3,14,23,{"$f":"C69","v":"Pfaff"},{"$f":"D69","v":"Andreas"},{"$f":"E69","v":"Neunkirchen"},{"$f":"C70","v":"Bick"},{"$f":"D70","v":"Michael"},{"$f":"E70","v":"Neunkirchen"},{"$f":"C71","v":"Brendel"},{"$f":"D71","v":"Hans"},{"$f":"E71","v":"Neunkirchen"},{"$f":"'4. Runde'!AA25","v":7},{"$f":"'4. Runde'!AB25","v":41},"25-26"]
[24,null,"Bodin","Herve","Hoerdt",null,null,{"$f":"'1. Runde'!AT10","v":1},{"$f":"'1. Runde'!AU10","v":5},{"$f":"'2. Runde'!AT10","v":0},{"$f":"'2. Runde'!AU10","v":-4},{"$f":"'3. Runde'!AM10","v":1},{"$f":"'3. Runde'!AN10","v":1},{"$f":"'4. Runde'!X10","v":1},{"$f":"'4. Runde'!Y10","v":7},3,9,24,{"$f":"C72","v":"Bassler"},{"$f":"D72","v":"Theo"},{"$f":"E72","v":"Bad Dürkheim"},{"$f":"C73","v":"Dietrich"},{"$f":"D73","v":"Beate"},{"$f":"E73","v":"Bad Dürkheim"},{"$f":"C74","v":"Dreßler"},{"$f":"D74","v":"Klaus"},{"$f":"E74","v":"Bad Dürkheim"},{"$f":"'4. Runde'!AA26","v":3},{"$f":"'4. Runde'!AB26","v":6},"25-26"]
[25,9,"Van Durme","Henry","Mühlhofen",null,null,{"$f":"'1. Runde'!AM11","v":1},{"$f":"'1. Runde'!AN11","v":4},{"$f":"'2. Runde'!AT11","v":0},{"$f":"'2. Runde'!AU11","v":-11},{"$f":"'3. Runde'!AT11","v":0},{"$f":"'3. Runde'!AU11","v":-9},{"$f":"'4. Runde'!X11","v":0},{"$f":"'4. Runde'!Y11","v":-9},{"$f":"H27+J27+L27+N27","v":1},{"$f":"I27+K27+M27+O27","v":-25},25,{"$f":"C75","v":"Busch"},{"$f":"D75","v":"Claudia"},{"$f":"E75","v":"Weißenthurm"},{"$f":"C76","v":"Lorig"},{"$f":"D76","v":"Astrid"},{"$f":"E76","v":"Trier"},{"$f":"C77","v":"Sitt"},{"$f":"D77","v":"Tanja"},{"$f":"E77","v":"Schweighofen"},{"$f":"'4. Runde'!AA27","v":2},{"$f":"'4. Runde'!AB27","v":-14},"27-28"]
[26,null,"Brauch","Beate","Mühlhofen",null,null,{"$f":"'1. Runde'!AT11","v":0},{"$f":"'1. Runde'!AU11","v":-5},{"$f":"'2. Runde'!AM11","v":1},{"$f":"'2. Runde'!AN11","v":4},{"$f":"'3. Runde'!AT11","v":0},{"$f":"'3. Runde'!AU11","v":-9},{"$f":"'4. Runde'!X11","v":0},{"$f":"'4. Runde'!Y11","v":-9},{"$f":"H28+J28+L28+N28","v":1},-19,26,{"$f":"C78","v":"Steinke"},{"$f":"D78","v":"Mathias"},{"$f":"E78","v":"Pforzheim"},{"$f":"C79","v":"Weissert"},{"$f":"D79","v":"Peter"},{"$f":"E79","v":"Pforzheim"},{"$f":"C80","v":"Avdalyan"},{"$f":"D80","v":"Azat"},{"$f":"E80","v":"Pforzheim"},{"$f":"'4. Runde'!AA28","v":3},{"$f":"'4. Runde'!AB28","v":5},"27-28"]
[27,null,"Brauch","Gerhard","Mühlhofen",null,null,{"$f":"'1. Runde'!AT11","v":0},{"$f":"'1. Runde'!AU11","v":-5},{"$f":"'2. Runde'!AT11","v":0},{"$f":"'2. Runde'!AU11","v":-11},{"$f":"'3. Runde'!AM11","v":0},{"$f":"'3. Runde'!AN11","v":-6},{"$f":"'4. Runde'!X11","v":0},{"$f":"'4. Runde'!Y11","v":-9},0,-31,27,{"$f":"C81","v":"Lechler"},{"$f":"D81","v":"Günther"},{"$f":"E81","v":"Brötzingen"},{"$f":"C82","v":"Müller"},{"$f":"D82","v":"Heiner"},{"$f":"E82","v":"Brötzingen"},{"$f":"C83","v":"Klose"},{"$f":"D83","v":"Stefan"},{"$f":"E83","v":"Brötzingen"},{"$f":"'4. Runde'!AA29","v":2},{"$f":"'4. Runde'!AB29","v":-33},"29-30"]
[28,10,"Bischoff","Lisa","Ottweiler",null,null,{"$f":"'1. Runde'!AM12","v":0},{"$f":"'1. Runde'!AN12","v":-4},{"$f":"'2. Runde'!AT12","v":1},{"$f":"'2. Runde'!AU12","v":1},{"$f":"'3. Runde'!AT12","v":1},{"$f":"'3. Runde'!AU12","v":9},{"$f":"'4. Runde'!X12","v":1},{"$f":"'4. Runde'!Y12","v":9},3,15,28,{"$f":"C84","v":"Werling"},{"$f":"D84","v":"Artur"},{"$f":"E84","v":"Freckenfeld"},{"$f":"C85","v":"Haus"},{"$f":"D85","v":"Marc "},{"$f":"E85","v":"Schweighofen"},{"$f":"C86","v":"Hoffmann"},{"$f":"D86","v":"Hans-Jürgen"},{"$f":"E86","v":"Freckenfeld"},{"$f":"'4. Runde'!AA30","v":1},{"$f":"'4. Runde'!AB30","v":-49},"29-30"]
[29,null,"Birk","Christian","Ottweiler",null,null,{"$f":"'1. Runde'!AT12","v":1},{"$f":"'1. Runde'!AU12","v":11},{"$f":"'2. Runde'!AM12","v":1},{"$f":"'2. Runde'!AN12","v":9},{"$f":"'3. Runde'!AT12","v":1},{"$f":"'3. Runde'!AU12","v":9},{"$f":"'4. Runde'!X12","v":1},{"$f":"'4. Runde'!Y12","v":9},4,38,29,{"$f":"C87","v":"Koch-Gerlach"},{"$f":"D87","v":"Iris"},{"$f":"E87","v":"Eggenstein"},{"$f":"C88","v":"Bock"},{"$f":"D88","v":"Heinz"},{"$f":"E88","v":"Eggenstein"},{"$f":"C89","v":"Bock"},{"$f":"D89","v":"Walli"},{"$f":"E89","v":"Eggenstein"},{"$f":"'4. Runde'!AA31","v":0},{"$f":"'4. Runde'!AB31","v":-59},"31-32"]
[30,null,"Barthel","Eric ","Ottweiler",null,null,{"$f":"'1. Runde'!AT12","v":1},{"$f":"'1. Runde'!AU12","v":11},{"$f":"'2. Runde'!AT12","v":1},{"$f":"'2. Runde'!AU12","v":1},{"$f":"'3. Runde'!AM12","v":1},{"$f":"'3. Runde'!AN12","v":6},{"$f":"'4. Runde'!X12","v":1},{"$f":"'4. Runde'!Y12","v":9},4,27,30,{"$f":"C90","v":"Brauch"},{"$f":"D90","v":"Gerhard"},{"$f":"E90","v":"Mühlhofen"},{"$f":"C91","v":"Brauch"},{"$f":"D91","v":"Beate"},{"$f":"E91","v":"Mühlhofen"},{"$f":"C92","v":"Rehmund"},{"$f":"D92","v":"Uwe"},{"$f":"E92","v":"Kapellen"},{"$f":"'4. Runde'!AA32","v":2},{"$f":"'4. Runde'!AB32","v":-10},"31-32"]
[31,11,"Müller","Silvia","Queichheim",null,null,{"$f":"'1. Runde'!AM13","v":0},{"$f":"'1. Runde'!AN13","v":-2},{"$f":"'2. Runde'!AT13","v":0},{"$f":"'2. Runde'!AU13","v":-6},{"$f":"'3. Runde'!AT13","v":0},{"$f":"'3. Runde'!AU13","v":-7},{"$f":"'4. Runde'!X13","v":0},{"$f":"'4. Runde'!Y13","v":-7},0,-22,31,{"$f":"C93","v":"Stadler"},{"$f":"D93","v":"Günther"},{"$f":"E93","v":"Eggenstein"},{"$f":"C94","v":"Seyfert"},{"$f":"D94","v":"Wolfgang"},{"$f":"E94","v":"Eggenstein"},{"$f":"C95","v":"Schuster"},{"$f":"D95","v":"Bernd"},{"$f":"E95","v":"Eggenstein"},{"$f":"'4. Runde'!AA33","v":3},{"$f":"'4. Runde'!AB33","v":2},"33-34"]
[32,null,"König","Markus","Queichheim",null,null,{"$f":"'1. Runde'!AT13","v":1},{"$f":"'1. Runde'!AU13","v":10},{"$f":"'2. Runde'!AM13","v":0},{"$f":"'2. Runde'!AN13","v":-8},{"$f":"'3. Runde'!AT13","v":0},{"$f":"'3. Runde'!AU13","v":-7},{"$f":"'4. Runde'!X13","v":0},{"$f":"'4. Runde'!Y13","v":-7},1,-12,32,{"$f":"C96","v":"Ranft"},{"$f":"D96","v":"Willi"},{"$f":"E96","v":"Neunkirchen"},{"$f":"C97","v":"Niehren"},{"$f":"D97","v":"Isabelle"},{"$f":"E97","v":"Neunkirchen"},{"$f":"C98","v":"Rick"},{"$f":"D98","v":"Michael"},{"$f":"E98","v":"Neunkirchen"},{"$f":"'4. Runde'!AA34","v":5},{"$f":"'4. Runde'!AB34","v":2},"33-34"]
[33,null,"Müller","Stefan","Queichheim",null,null,{"$f":"'1. Runde'!AT13","v":1},{"$f":"'1. Runde'!AU13","v":10},{"$f":"'2. Runde'!AT13","v":0},{"$f":"'2. Runde'!AU13","v":-6},{"$f":"'3. Runde'!AM13","v":1},{"$f":"'3. Runde'!AN13","v":8},{"$f":"'4. Runde'!X13","v":0},{"$f":"'4. Runde'!Y13","v":-7},2,5,33,{"$f":"C99","v":"Brodrick"},{"$f":"D99","v":"Ulli"},{"$f":"E99","v":"Neunkirchen"},{"$f":"C100","v":"Friedrich"},{"$f":"D100","v":"Roger"},{"$f":"E100","v":"Neunkirchen"},{"$f":"C101","v":"Brodrick"},{"$f":"D101","v":"Uwe"},{"$f":"E101","v":"Neunkirchen"},{"$f":"'4. Runde'!AA35","v":6},{"$f":"'4. Runde'!AB35","v":42},"35-36"]
[34,12,"Thierry","Sepp","Mühlhofen",null,null,{"$f":"'1. Runde'!AM14","v":1},{"$f":"'1. Runde'!AN14","v":11},{"$f":"'2. Runde'!AT14","v":1},{"$f":"'2. Runde'!AU14","v":4},{"$f":"'3. Runde'!AT14","v":0},{"$f":"'3. Runde'!AU14","v":-10},{"$f":"'4. Runde'!X14","v":0},{"$f":"'4. Runde'!Y14","v":-10},2,-5,34,{"$f":"C102","v":"Busch"},{"$f":"D102","v":"Detlef"},{"$f":"E102","v":"Weißenthurm"},{"$f":"C103","v":"Girnstein"},{"$f":"D103","v":"Jupp"},{"$f":"E103","v":"Weißenthurm"},{"$f":"C104","v":"Diether"},{"$f":"D104","v":"Toni"},{"$f":"E104","v":"Weißenthurm"},{"$f":"'4. Runde'!AA36","v":6},{"$f":"'4. Runde'!AB36","v":39},"35-36"]
[35,null,"Blaettner","Peter","Mühlhofen",null,null,{"$f":"'1. Runde'!AT14","v":1},{"$f":"'1. Runde'!AU14","v":4},{"$f":"'2. Runde'!AM14","v":1},{"$f":"'2. Runde'!AN14","v":5},{"$f":"'3. Runde'!AT14","v":0},{"$f":"'3. Runde'!AU14","v":-10},{"$f":"'4. Runde'!X14","v":0},{"$f":"'4. Runde'!Y14","v":-10},2,-11,35,{"$f":"C105","v":"Stadler"},{"$f":"D105","v":"Peter"},{"$f":"E105","v":"Eggenstein"},{"$f":"C106","v":"Gerber"},{"$f":"D106","v":"Annette"},{"$f":"E106","v":"Eggenstein"},{"$f":"C107","v":"Oberacker"},{"$f":"D107","v":"Jürgen"},{"$f":"E107","v":"Eggenstein"},{"$f":"'4. Runde'!AA37","v":5},{"$f":"'4. Runde'!AB37","v":26},"37-38"]
[36,null,"Krauss","Karin","Mühlhofen",null,null,{"$f":"'1. Runde'!AT14","v":1},{"$f":"'1. Runde'!AU14","v":4},{"$f":"'2. Runde'!AT14","v":1},{"$f":"'2. Runde'!AU14","v":4},{"$f":"'3. Runde'!AM14","v":1},{"$f":"'3. Runde'!AN14","v":12},{"$f":"'4. Runde'!X14","v":0},{"$f":"'4. Runde'!Y14","v":-10},3,10,36,{"$f":"C108","v":"Heine"},{"$f":"D108","v":"Thomas"},{"$f":"E108","v":"Eggenstein"},{"$f":"C109","v":"Heine"},{"$f":"D109","v":"Annika"},{"$f":"E109","v":"Eggenstein"},{"$f":"C110","v":"Fucec"},{"$f":"D110","v":"Katharina"},{"$f":"E110","v":"Eggenstein"},{"$f":"'4. Runde'!AA38","v":4},{"$f":"'4. Runde'!AB38","v":24},"37-38"]
[37,13,"Stadler","Günter","Eggenstein",null,null,{"$f":"'1. Runde'!AM15","v":1},{"$f":"'1. Runde'!AN15","v":5},{"$f":"'2. Runde'!AT15","v":0},{"$f":"'2. Runde'!AU15","v":-6},{"$f":"'3. Runde'!AT15","v":1},{"$f":"'3. Runde'!AU15","v":5},{"$f":"'4. Runde'!X15","v":1},{"$f":"'4. Runde'!Y15","v":5},3,9,37,{"$f":"C111","v":"Petzold"},{"$f":"D111","v":"Rainer"},{"$f":"E111","v":"Käfertal"},{"$f":"C112","v":"Petzold"},{"$f":"D112","v":"Bianca"},{"$f":"E112","v":"Käfertal"},{"$f":"C113","v":"Kämmle"},{"$f":"D113","v":"Ursula"},{"$f":"E113","v":"Käfertal"},{"$f":"'4. Runde'!AA39","v":2},{"$f":"'4. Runde'!AB39","v":-18},"39-40"]
[38,null,"Nonat","Rosita","Eggenstein",null,null,{"$f":"'1. Runde'!AT15","v":1},{"$f":"'1. Runde'!AU15","v":4},{"$f":"'2. Runde'!AM15","v":1},{"$f":"'2. Runde'!AN15","v":9},{"$f":"'3. Runde'!AT15","v":1},{"$f":"'3. Runde'!AU15","v":5},{"$f":"'4. Runde'!X15","v":1},{"$f":"'4. Runde'!Y15","v":5},4,23,38,{"$f":"C114","v":"Krizman"},{"$f":"D114","v":"Suzana"},{"$f":"E114","v":"Trier"},{"$f":"C115","v":"Koch"},{"$f":"D115","v":"Bianca"},{"$f":"E115","v":"Rockenhausen"},{"$f":"C116","v":"Ackermann-Bühler"},{"$f":"D116","v":"Gabriele"},{"$f":"E116","v":"Freckenfeld"},{"$f":"'4. Runde'!AA40","v":4},{"$f":"'4. Runde'!AB40","v":8},"39-40"]
[39,null,"Krämer","Wolfgang","Eggenstein",null,null,{"$f":"'1. Runde'!AT15","v":1},{"$f":"'1. Runde'!AU15","v":4},{"$f":"'2. Runde'!AT15","v":0},{"$f":"'2. Runde'!AU15","v":-6},{"$f":"'3. Runde'!AM15","v":0},{"$f":"'3. Runde'!AN15","v":-4},{"$f":"'4. Runde'!X15","v":1},{"$f":"'4. Runde'!Y15","v":5},2,-1,39,{"$f":"C117","v":"Leibl"},{"$f":"D117","v":"Jochen"},{"$f":"E117","v":"Ludwigshafen VSK"},{"$f":"C118","v":"Stadler"},{"$f":"D118","v":"Iris"},{"$f":"E118","v":"Ludwigshafen Tricolore"},{"$f":"C119","v":"Georges"},{"$f":"D119","v":"Irmgard"},{"$f":"E119","v":"Kapellen"},{"$f":"'4. Runde'!AA41","v":4},{"$f":"'4. Runde'!AB41","v":-9},"41-42"]
[40,14,"Weimer","Holger","Kandel",null,null,{"$f":"'1. Runde'!AM16","v":0},{"$f":"'1. Runde'!AN16","v":-1},{"$f":"'2. Runde'!AT16","v":1},{"$f":"'2. Runde'!AU16","v":10},{"$f":"'3. Runde'!AT16","v":1},{"$f":"'3. Runde'!AU16","v":6},{"$f":"'4. Runde'!X16","v":1},{"$f":"'4. Runde'!Y16","v":6},3,21,40,{"$f":"C120","v":"Bernauer"},{"$f":"D120","v":"Werner"},{"$f":"E120","v":"Ötisheim"},{"$f":"C121","v":"Böhme"},{"$f":"D121","v":"Ellen"},{"$f":"E121","v":"Ötisheim"},{"$f":"C122","v":"Raible"},{"$f":"D122","v":"Stefan"},{"$f":"E122","v":"Ötisheim"},{"$f":"'4. Runde'!AA42","v":3},{"$f":"'4. Runde'!AB42","v":-15},"41-42"]
[41,null,"Lensch","Leo","Kandel",null,null,{"$f":"'1. Runde'!AT16","v":0},{"$f":"'1. Runde'!AU16","v":-7},{"$f":"'2. Runde'!AM16","v":0},{"$f":"'2. Runde'!AN16","v":-12},{"$f":"'3. Runde'!AT16","v":1},{"$f":"'3. Runde'!AU16","v":6},{"$f":"'4. Runde'!X16","v":1},{"$f":"'4. Runde'!Y16","v":6},2,-7,41,{"$f":"C123","v":"Krizman"},{"$f":"D123","v":"Suzana"},{"$f":"E123","v":"Trier"},{"$f":"C124","v":"Koch"},{"$f":"D124","v":"Bianca"},{"$f":"E124","v":"Rockenhausen"},{"$f":"C125","v":"Ackermann-Bühler"},{"$f":"D125","v":"Gabriele"},{"$f":"E125","v":"Freckenfeld"},{"$f":"'4. Runde'!AA43","v":3},{"$f":"'4. Runde'!AB43","v":-1},"43-44"]
[42,null,"Rödel","Klaus","Kandel",null,null,{"$f":"'1. Runde'!AT16","v":0},{"$f":"'1. Runde'!AU16","v":-7},{"$f":"'2. Runde'!AT16","v":1},{"$f":"'2. Runde'!AU16","v":10},{"$f":"'3. Runde'!AM16","v":0},{"$f":"'3. Runde'!AN16","v":-9},{"$f":"'4. Runde'!X16","v":1},{"$f":"'4. Runde'!Y16","v":6},2,0,42,{"$f":"C126","v":0},{"$f":"D126","v":0},{"$f":"E126","v":0},{"$f":"C127","v":0},{"$f":"D127","v":0},{"$f":"E127","v":0},{"$f":"C128","v":0},{"$f":"D128","v":0},{"$f":"E128","v":0},{"$f":"'4. Runde'!AA44","v":-1},{"$f":"'4. Runde'!AB44","v":0},"43-44"]
[43,15,"Movant","Didier","Mühlhofen",null,null,{"$f":"'1. Runde'!AM17","v":1},{"$f":"'1. Runde'!AN17","v":6},{"$f":"'2. Runde'!AT17","v":1},{"$f":"'2. Runde'!AU17","v":8},{"$f":"'3. Runde'!AT17","v":1},{"$f":"'3. Runde'!AU17","v":7},{"$f":"'4. Runde'!X17","v":1},{"$f":"'4. Runde'!Y17","v":7},4,28,43,{"$f":"C129","v":0},{"$f":"D129","v":0},{"$f":"E129","v":0},{"$f":"C130","v":0},{"$f":"D130","v":0},{"$f":"E130","v":0},{"$f":"C131","v":0},{"$f":"D131","v":0},{"$f":"E131","v":0},{"$f":"'4. Runde'!AA45","v":-1},{"$f":"'4. Runde'!AB45","v":0},"45-46"]
[44,null,"Weis","Jürgen","Mühlhofen",null,null,{"$f":"'1. Runde'!AT17","v":1},{"$f":"'1. Runde'!AU17","v":6},{"$f":"'2. Runde'!AM17","v":1},{"$f":"'2. Runde'!AN17","v":6},{"$f":"'3. Runde'!AT17","v":1},{"$f":"'3. Runde'!AU17","v":7},{"$f":"'4. Runde'!X17","v":1},{"$f":"'4. Runde'!Y17","v":7},4,26,44,{"$f":"C132","v":0},{"$f":"D132","v":0},{"$f":"E132","v":0},{"$f":"C133","v":0},{"$f":"D133","v":0},{"$f":"E133","v":0},{"$f":"C134","v":0},{"$f":"D134","v":0},{"$f":"E134","v":0},{"$f":"'4. Runde'!AA46","v":-1},{"$f":"'4. Runde'!AB46","v":0},"45-46"]
[45,null,"Wisotzki","Sonja","Mühlhofen",null,null,{"$f":"'1. Runde'!AT17","v":1},{"$f":"'1. Runde'!AU17","v":6},{"$f":"'2. Runde'!AT17","v":1},{"$f":"'2. Runde'!AU17","v":8},{"$f":"'3. Runde'!AM17","v":0},{"$f":"'3. Runde'!AN17","v":-8},{"$f":"'4. Runde'!X17","v":1},{"$f":"'4. Runde'!Y17","v":7},3,13,45,{"$f":"C135","v":0},0,0,{"$f":"C136","v":0},0,0,{"$f":"C137","v":0},0,0,{"$f":"'4. Runde'!AA47","v":-1},{"$f":"'4. Runde'!AB47","v":0},"47-48"]
[46,16,"Urlacher","Thirry","Wissembourg",null,null,{"$f":"'1. Runde'!AM18","v":1},{"$f":"'1. Runde'!AN18","v":9},{"$f":"'2. Runde'!AT18","v":0},{"$f":"'2. Runde'!AU18","v":-8},{"$f":"'3. Runde'!AT18","v":1},{"$f":"'3. Runde'!AU18","v":8},{"$f":"'4. Runde'!X18","v":1},{"$f":"'4. Runde'!Y18","v":8},{"$f":"H48+J48+L48+N48","v":3},{"$f":"I48+K48+M48+O48","v":17},46,0,0,0,0,0,0,0,0,0,{"$f":"'4. Runde'!AA48","v":-1},{"$f":"'4. Runde'!AB48","v":0},"47-48"]
[47,null,"Haenel","Daniel","Wissembourg",null,null,{"$f":"'1. Runde'!AT18","v":1},{"$f":"'1. Runde'!AU18","v":1},{"$f":"'2. Runde'!AM18","v":0},{"$f":"'2. Runde'!AN18","v":-2},{"$f":"'3. Runde'!AT18","v":1},{"$f":"'3. Runde'!AU18","v":8},{"$f":"'4. Runde'!X18","v":1},{"$f":"'4. Runde'!Y18","v":8},3,15,47,0,0,0,0,0,0,0,0,0,{"$f":"'4. Runde'!AA49","v":-1},{"$f":"'4. Runde'!AB49","v":0},"49-50"]
[48,null,"Frenzel","Lukas","Schweighofen",null,null,{"$f":"'1. Runde'!AT18","v":1},{"$f":"'1. Runde'!AU18","v":1},{"$f":"'2. Runde'!AT18","v":0},{"$f":"'2. Runde'!AU18","v":-8},{"$f":"'3. Runde'!AM18","v":1},{"$f":"'3. Runde'!AN18","v":2},{"$f":"'4. Runde'!X18","v":1},{"$f":"'4. Runde'!Y18","v":8},3,3,48,0,0,0,0,0,0,0,0,0,{"$f":"'4. Runde'!AA50","v":-1},{"$f":"'4. Runde'!AB50","v":0},"49-50"]
[49,17,"Ellwanger","Martial","Hatten",null,null,{"$f":"'1. Runde'!AM19","v":0},{"$f":"'1. Runde'!AN19","v":-10},{"$f":"'2. Runde'!AT19","v":1},{"$f":"'2. Runde'!AU19","v":6},{"$f":"'3. Runde'!AT19","v":1},{"$f":"'3. Runde'!AU19","v":5},{"$f":"'4. Runde'!X19","v":1},{"$f":"'4. Runde'!Y19","v":5},3,6,49,{"$f":"C147","v":0},{"$f":"D147","v":0},{"$f":"E147","v":0},{"$f":"C148","v":0},{"$f":"D148","v":0},{"$f":"E148","v":0},{"$f":"C149","v":0},{"$f":"D149","v":0},{"$f":"E149","v":0},{"$f":"'4. Runde'!AA51","v":-1},{"$f":"'4. Runde'!AB51","v":0}]
[50,null,"Ellwanger","Kevin","Hatten",null,null,{"$f":"'1. Runde'!AT19","v":0},{"$f":"'1. Runde'!AU19","v":-12},{"$f":"'2. Runde'!AM19","v":0},{"$f":"'2. Runde'!AN19","v":-9},{"$f":"'3. Runde'!AT19","v":1},{"$f":"'3. Runde'!AU19","v":5},{"$f":"'4. Runde'!X19","v":1},{"$f":"'4. Runde'!Y19","v":5},2,-11,50,{"$f":"C150","v":0},{"$f":"D150","v":0},{"$f":"E150","v":0},{"$f":"C151","v":0},{"$f":"D151","v":0},{"$f":"E151","v":0},{"$f":"C152","v":0},{"$f":"D152","v":0},{"$f":"E152","v":0},{"$f":"'4. Runde'!AA52","v":0},{"$f":"'4. Runde'!AB52","v":-36}]
[51,null,"Ellwanger","Pauline","Hatten",null,null,{"$f":"'1. Runde'!AT19","v":0},{"$f":"'1. Runde'!AU19","v":-12},{"$f":"'2. Runde'!AT19","v":1},{"$f":"'2. Runde'!AU19","v":6},{"$f":"'3. Runde'!AM19","v":0},{"$f":"'3. Runde'!AN19","v":-4},{"$f":"'4. Runde'!X19","v":1},{"$f":"'4. Runde'!Y19","v":5},2,-5]
[52,18,"Sitt","Tanja","Schweighofen",null,null,{"$f":"'1. Runde'!AM20","v":0},{"$f":"'1. Runde'!AN20","v":-10},{"$f":"'2. Runde'!AT20","v":0},{"$f":"'2. Runde'!AU20","v":-7},{"$f":"'3. Runde'!AT20","v":1},{"$f":"'3. Runde'!AU20","v":12},{"$f":"'4. Runde'!X20","v":1},{"$f":"'4. Runde'!Y20","v":12},2,7]
[53,null,"Sitt","Uwe","Schweighofen",null,null,{"$f":"'1. Runde'!AT20","v":0},{"$f":"'1. Runde'!AU20","v":-2},{"$f":"'2. Runde'!AM20","v":0},{"$f":"'2. Runde'!AN20","v":-1},{"$f":"'3. Runde'!AT20","v":1},{"$f":"'3. Runde'!AU20","v":12},{"$f":"'4. Runde'!X20","v":1},{"$f":"'4. Runde'!Y20","v":12},2,21]
[54,null,"Nuss","Wilko","Schweighofen",null,null,{"$f":"'1. Runde'!AT20","v":0},{"$f":"'1. Runde'!AU20","v":-2},{"$f":"'2. Runde'!AT20","v":0},{"$f":"'2. Runde'!AU20","v":-7},{"$f":"'3. Runde'!AM20","v":1},{"$f":"'3. Runde'!AN20","v":10},{"$f":"'4. Runde'!X20","v":1},{"$f":"'4. Runde'!Y20","v":12},2,13]
[55,19,"Kauf","Chris","Essingen",null,null,{"$f":"'1. Runde'!AM21","v":1},{"$f":"'1. Runde'!AN21","v":6},{"$f":"'2. Runde'!AT21","v":0},{"$f":"'2. Runde'!AU21","v":-12},{"$f":"'3. Runde'!AT21","v":1},{"$f":"'3. Runde'!AU21","v":8},{"$f":"'4. Runde'!X21","v":0},{"$f":"'4. Runde'!Y21","v":-8},2,-6]
[56,null,"Böhm","Frank","Herxheim",null,null,{"$f":"'1. Runde'!AT21","v":1},{"$f":"'1. Runde'!AU21","v":9},{"$f":"'2. Runde'!AM21","v":0},{"$f":"'2. Runde'!AN21","v":-10},{"$f":"'3. Runde'!AT21","v":1},{"$f":"'3. Runde'!AU21","v":8},{"$f":"'4. Runde'!X21","v":0},{"$f":"'4. Runde'!Y21","v":-8},2,-1]
[57,null,"Ochsenreiter","Finn","Herxheim",null,null,{"$f":"'1. Runde'!AT21","v":1},{"$f":"'1. Runde'!AU21","v":9},{"$f":"'2. Runde'!AT21","v":0},{"$f":"'2. Runde'!AU21","v":-12},{"$f":"'3. Runde'!AM21","v":1},{"$f":"'3. Runde'!AN21","v":6},{"$f":"'4. Runde'!X21","v":0},{"$f":"'4. Runde'!Y21","v":-8},2,-5]
[58,20,"Rummel","Rainer","Rastatt",null,null,{"$f":"'1. Runde'!AM22","v":1},{"$f":"'1. Runde'!AN22","v":1},{"$f":"'2. Runde'!AT22","v":1},{"$f":"'2. Runde'!AU22","v":4},{"$f":"'3. Runde'!AT22","v":0},{"$f":"'3. Runde'!AU22","v":-4},{"$f":"'4. Runde'!X22","v":0},{"$f":"'4. Runde'!Y22","v":-4},2,-3]
[59,null,"Haas","Tom","Rastatt",null,null,{"$f":"'1. Runde'!AT22","v":1},{"$f":"'1. Runde'!AU22","v":7},{"$f":"'2. Runde'!AM22","v":1},{"$f":"'2. Runde'!AN22","v":11},{"$f":"'3. Runde'!AT22","v":0},{"$f":"'3. Runde'!AU22","v":-4},{"$f":"'4. Runde'!X22","v":0},{"$f":"'4. Runde'!Y22","v":-4},2,10]
[60,null,"Schmidt","Rainer","Rastatt",null,null,{"$f":"'1. Runde'!AT22","v":1},{"$f":"'1. Runde'!AU22","v":7},{"$f":"'2. Runde'!AT22","v":1},{"$f":"'2. Runde'!AU22","v":4},{"$f":"'3. Runde'!AM22","v":0},{"$f":"'3. Runde'!AN22","v":-5},{"$f":"'4. Runde'!X22","v":0},{"$f":"'4. Runde'!Y22","v":-4},2,2]
[61,21,"Weisgerber","Patrick","Reichshoffen",null,null,{"$f":"'1. Runde'!AM23","v":1},{"$f":"'1. Runde'!AN23","v":7},{"$f":"'2. Runde'!AT23","v":1},{"$f":"'2. Runde'!AU23","v":6},{"$f":"'3. Runde'!AT23","v":0},{"$f":"'3. Runde'!AU23","v":-8},{"$f":"'4. Runde'!X23","v":1},{"$f":"'4. Runde'!Y23","v":8},{"$f":"H63+J63+L63+N63","v":3},{"$f":"I63+K63+M63+O63","v":13}]
[62,null,"Rosenfelder","Pierre","Reichshoffen",null,null,{"$f":"'1. Runde'!AT23","v":1},{"$f":"'1. Runde'!AU23","v":8},{"$f":"'2. Runde'!AM23","v":1},{"$f":"'2. Runde'!AN23","v":6},{"$f":"'3. Runde'!AT23","v":0},{"$f":"'3. Runde'!AU23","v":-8},{"$f":"'4. Runde'!X23","v":1},{"$f":"'4. Runde'!Y23","v":8},3,14]
[63,null,"Richter","Denis","Reichshoffen",null,null,{"$f":"'1. Runde'!AT23","v":1},{"$f":"'1. Runde'!AU23","v":8},{"$f":"'2. Runde'!AT23","v":1},{"$f":"'2. Runde'!AU23","v":6},{"$f":"'3. Runde'!AM23","v":0},{"$f":"'3. Runde'!AN23","v":-6},{"$f":"'4. Runde'!X23","v":1},{"$f":"'4. Runde'!Y23","v":8},3,16]
[64,22,"Vonberg","Fabian","Malsch",null,null,{"$f":"'1. Runde'!AM24","v":0},{"$f":"'1. Runde'!AN24","v":-7},{"$f":"'2. Runde'!AT24","v":0},{"$f":"'2. Runde'!AU24","v":-2},{"$f":"'3. Runde'!AT24","v":0},{"$f":"'3. Runde'!AU24","v":-10},{"$f":"'4. Runde'!X24","v":0},{"$f":"'4. Runde'!Y24","v":-10},{"$f":"H66+J66+L66+N66","v":0},{"$f":"I66+K66+M66+O66","v":-29}]
[65,null,"Vonberg","Susanne","Bornheim",null,null,{"$f":"'1. Runde'!AT24","v":0},{"$f":"'1. Runde'!AU24","v":-8},{"$f":"'2. Runde'!AM24","v":0},{"$f":"'2. Runde'!AN24","v":-10},{"$f":"'3. Runde'!AT24","v":0},{"$f":"'3. Runde'!AU24","v":-10},{"$f":"'4. Runde'!X24","v":0},{"$f":"'4. Runde'!Y24","v":-10},0,-38]
[66,null,"Vonberg","Werner","Bornheim",null,null,{"$f":"'1. Runde'!AT24","v":0},{"$f":"'1. Runde'!AU24","v":-8},{"$f":"'2. Runde'!AT24","v":0},{"$f":"'2. Runde'!AU24","v":-2},{"$f":"'3. Runde'!AM24","v":1},{"$f":"'3. Runde'!AN24","v":2},{"$f":"'4. Runde'!X24","v":0},{"$f":"'4. Runde'!Y24","v":-10},1,-18]
[67,23,"Pfaff","Andreas","Neunkirchen",null,null,{"$f":"'1. Runde'!AM25","v":1},{"$f":"'1. Runde'!AN25","v":10},{"$f":"'2. Runde'!AT25","v":1},{"$f":"'2. Runde'!AU25","v":10},{"$f":"'3. Runde'!AT25","v":1},{"$f":"'3. Runde'!AU25","v":2},{"$f":"'4. Runde'!X25","v":1},{"$f":"'4. Runde'!Y25","v":2},4,24]
[68,null,"Bick","Michael","Neunkirchen",null,null,{"$f":"'1. Runde'!AT25","v":1},{"$f":"'1. Runde'!AU25","v":2},{"$f":"'2. Runde'!AM25","v":1},{"$f":"'2. Runde'!AN25","v":5},{"$f":"'3. Runde'!AT25","v":1},{"$f":"'3. Runde'!AU25","v":2},{"$f":"'4. Runde'!X25","v":1},{"$f":"'4. Runde'!Y25","v":2},4,11]
[69,null,"Brendel","Hans","Neunkirchen",null,null,{"$f":"'1. Runde'!AT25","v":1},{"$f":"'1. Runde'!AU25","v":2},{"$f":"'2. Runde'!AT25","v":1},{"$f":"'2. Runde'!AU25","v":10},{"$f":"'3. Runde'!AM25","v":1},{"$f":"'3. Runde'!AN25","v":10},{"$f":"'4. Runde'!X25","v":1},{"$f":"'4. Runde'!Y25","v":2},4,24]
[70,24,"Bassler","Theo","Bad Dürkheim",null,null,{"$f":"'1. Runde'!AM26","v":0},{"$f":"'1. Runde'!AN26","v":-2},{"$f":"'2. Runde'!AT26","v":1},{"$f":"'2. Runde'!AU26","v":9},{"$f":"'3. Runde'!AT26","v":1},{"$f":"'3. Runde'!AU26","v":10},{"$f":"'4. Runde'!X26","v":1},{"$f":"'4. Runde'!Y26","v":10},3,27]
[71,null,"Dietrich","Beate","Bad Dürkheim",null,null,{"$f":"'1. Runde'!AT26","v":0},{"$f":"'1. Runde'!AU26","v":-8},{"$f":"'2. Runde'!AM26","v":0},{"$f":"'2. Runde'!AN26","v":-1},{"$f":"'3. Runde'!AT26","v":1},{"$f":"'3. Runde'!AU26","v":10},{"$f":"'4. Runde'!X26","v":1},{"$f":"'4. Runde'!Y26","v":10},2,11]
[72,null,"Dreßler","Klaus","Bad Dürkheim",null,null,{"$f":"'1. Runde'!AT26","v":0},{"$f":"'1. Runde'!AU26","v":-8},{"$f":"'2. Runde'!AT26","v":1},{"$f":"'2. Runde'!AU26","v":9},{"$f":"'3. Runde'!AM26","v":0},{"$f":"'3. Runde'!AN26","v":-12},{"$f":"'4. Runde'!X26","v":1},{"$f":"'4. Runde'!Y26","v":10},2,-1]
[73,25,"Busch","Claudia","Weißenthurm",null,null,{"$f":"'1. Runde'!AM27","v":0},{"$f":"'1. Runde'!AN27","v":-5},{"$f":"'2. Runde'!AT27","v":1},{"$f":"'2. Runde'!AU27","v":8},{"$f":"'3. Runde'!AT27","v":0},{"$f":"'3. Runde'!AU27","v":-7},{"$f":"'4. Runde'!X27","v":0},{"$f":"'4. Runde'!Y27","v":-7},1,-11]
[74,null,"Lorig","Astrid","Trier",null,null,{"$f":"'1. Runde'!AT27","v":0},{"$f":"'1. Runde'!AU27","v":-4},{"$f":"'2. Runde'!AM27","v":1},{"$f":"'2. Runde'!AN27","v":2},{"$f":"'3. Runde'!AT27","v":0},{"$f":"'3. Runde'!AU27","v":-7},{"$f":"'4. Runde'!X27","v":0},{"$f":"'4. Runde'!Y27","v":-7},1,-16]
[75,null,"Sitt","Tanja","Schweighofen",null,null,{"$f":"'1. Runde'!AT27","v":0},{"$f":"'1. Runde'!AU27","v":-4},{"$f":"'2. Runde'!AT27","v":1},{"$f":"'2. Runde'!AU27","v":8},{"$f":"'3. Runde'!AM27","v":0},{"$f":"'3. Runde'!AN27","v":-1},{"$f":"'4. Runde'!X27","v":0},{"$f":"'4. Runde'!Y27","v":-7},1,-4]
[76,26,"Steinke","Mathias","Pforzheim",null,null,{"$f":"'1. Runde'!AM28","v":0},{"$f":"'1. Runde'!AN28","v":-9},{"$f":"'2. Runde'!AT28","v":0},{"$f":"'2. Runde'!AU28","v":-1},{"$f":"'3. Runde'!AT28","v":1},{"$f":"'3. Runde'!AU28","v":10},{"$f":"'4. Runde'!X28","v":1},{"$f":"'4. Runde'!Y28","v":10},2,10]
[77,null,"Weissert","Peter","Pforzheim",null,null,{"$f":"'1. Runde'!AT28","v":1},{"$f":"'1. Runde'!AU28","v":6},{"$f":"'2. Runde'!AM28","v":0},{"$f":"'2. Runde'!AN28","v":-9},{"$f":"'3. Runde'!AT28","v":1},{"$f":"'3. Runde'!AU28","v":10},{"$f":"'4. Runde'!X28","v":1},{"$f":"'4. Runde'!Y28","v":10},3,17]
[78,null,"Avdalyan","Azat","Pforzheim",null,null,{"$f":"'1. Runde'!AT28","v":1},{"$f":"'1. Runde'!AU28","v":6},{"$f":"'2. Runde'!AT28","v":0},{"$f":"'2. Runde'!AU28","v":-1},{"$f":"'3. Runde'!AM28","v":0},{"$f":"'3. Runde'!AN28","v":-2},{"$f":"'4. Runde'!X28","v":1},{"$f":"'4. Runde'!Y28","v":10},2,13]
[79,27,"Lechler","Günther","Brötzingen",null,null,{"$f":"'1. Runde'!AM29","v":1},{"$f":"'1. Runde'!AN29","v":4},{"$f":"'2. Runde'!AT29","v":0},{"$f":"'2. Runde'!AU29","v":-4},{"$f":"'3. Runde'!AT29","v":0},{"$f":"'3. Runde'!AU29","v":-9},{"$f":"'4. Runde'!X29","v":0},{"$f":"'4. Runde'!Y29","v":-9},1,-18]
[80,null,"Müller","Heiner","Brötzingen",null,null,{"$f":"'1. Runde'!AT29","v":0},{"$f":"'1. Runde'!AU29","v":-5},{"$f":"'2. Runde'!AM29","v":0},{"$f":"'2. Runde'!AN29","v":-11},{"$f":"'3. Runde'!AT29","v":0},{"$f":"'3. Runde'!AU29","v":-9},{"$f":"'4. Runde'!X29","v":0},{"$f":"'4. Runde'!Y29","v":-9},0,-34]
[81,null,"Klose","Stefan","Brötzingen",null,null,{"$f":"'1. Runde'!AT29","v":0},{"$f":"'1. Runde'!AU29","v":-5},{"$f":"'2. Runde'!AT29","v":0},{"$f":"'2. Runde'!AU29","v":-4},{"$f":"'3. Runde'!AM29","v":1},{"$f":"'3. Runde'!AN29","v":1},{"$f":"'4. Runde'!X29","v":0},{"$f":"'4. Runde'!Y29","v":-9},1,-17]
[82,28,"Werling","Artur","Freckenfeld",null,null,{"$f":"'1. Runde'!AM30","v":0},{"$f":"'1. Runde'!AN30","v":-3},{"$f":"'2. Runde'!AT30","v":1},{"$f":"'2. Runde'!AU30","v":5},{"$f":"'3. Runde'!AT30","v":0},{"$f":"'3. Runde'!AU30","v":-12},{"$f":"'4. Runde'!X30","v":0},{"$f":"'4. Runde'!Y30","v":-12},{"$f":"H84+J84+L84+N84","v":1},{"$f":"I84+K84+M84+O84","v":-22}]
[83,null,"Haus","Marc ","Schweighofen",null,null,{"$f":"'1. Runde'!AT30","v":0},{"$f":"'1. Runde'!AU30","v":-13},{"$f":"'2. Runde'!AM30","v":0},{"$f":"'2. Runde'!AN30","v":-4},{"$f":"'3. Runde'!AT30","v":0},{"$f":"'3. Runde'!AU30","v":-12},{"$f":"'4. Runde'!X30","v":0},{"$f":"'4. Runde'!Y30","v":-12},0,-41]
[84,null,"Hoffmann","Hans-Jürgen","Freckenfeld",null,null,{"$f":"'1. Runde'!AT30","v":0},{"$f":"'1. Runde'!AU30","v":-13},{"$f":"'2. Runde'!AT30","v":1},{"$f":"'2. Runde'!AU30","v":5},{"$f":"'3. Runde'!AM30","v":0},{"$f":"'3. Runde'!AN30","v":-10},{"$f":"'4. Runde'!X30","v":0},{"$f":"'4. Runde'!Y30","v":-12},1,-30]
[85,29,"Koch-Gerlach","Iris","Eggenstein",null,null,{"$f":"'1. Runde'!AM31","v":0},{"$f":"'1. Runde'!AN31","v":-11},{"$f":"'2. Runde'!AT31","v":0},{"$f":"'2. Runde'!AU31","v":-10},{"$f":"'3. Runde'!AT31","v":0},{"$f":"'3. Runde'!AU31","v":-13},{"$f":"'4. Runde'!X31","v":0},{"$f":"'4. Runde'!Y31","v":-13},0,-47]
[86,null,"Bock","Heinz","Eggenstein",null,null,{"$f":"'1. Runde'!AT31","v":0},{"$f":"'1. Runde'!AU31","v":-4},{"$f":"'2. Runde'!AM31","v":0},{"$f":"'2. Runde'!AN31","v":-5},{"$f":"'3. Runde'!AT31","v":0},{"$f":"'3. Runde'!AU31","v":-13},{"$f":"'4. Runde'!X31","v":0},{"$f":"'4. Runde'!Y31","v":-13},0,-35]
[87,null,"Bock","Walli","Eggenstein",null,null,{"$f":"'1. Runde'!AT31","v":0},{"$f":"'1. Runde'!AU31","v":-4},{"$f":"'2. Runde'!AT31","v":0},{"$f":"'2. Runde'!AU31","v":-10},{"$f":"'3. Runde'!AM31","v":0},{"$f":"'3. Runde'!AN31","v":-3},{"$f":"'4. Runde'!X31","v":0},{"$f":"'4. Runde'!Y31","v":-13},0,-30]
[88,30,"Brauch","Gerhard","Mühlhofen",null,null,{"$f":"'1. Runde'!AM32","v":0},{"$f":"'1. Runde'!AN32","v":-8},{"$f":"'2. Runde'!AT32","v":0},{"$f":"'2. Runde'!AU32","v":-8},{"$f":"'3. Runde'!AT32","v":1},{"$f":"'3. Runde'!AU32","v":11},{"$f":"'4. Runde'!X32","v":1},{"$f":"'4. Runde'!Y32","v":11},2,6]
[89,null,"Brauch","Beate","Mühlhofen",null,null,{"$f":"'1. Runde'!AT32","v":0},{"$f":"'1. Runde'!AU32","v":-6},{"$f":"'2. Runde'!AM32","v":0},{"$f":"'2. Runde'!AN32","v":-6},{"$f":"'3. Runde'!AT32","v":1},{"$f":"'3. Runde'!AU32","v":11},{"$f":"'4. Runde'!X32","v":1},{"$f":"'4. Runde'!Y32","v":11},2,10]
[90,null,"Rehmund","Uwe","Kapellen",null,null,{"$f":"'1. Runde'!AT32","v":0},{"$f":"'1. Runde'!AU32","v":-6},{"$f":"'2. Runde'!AT32","v":0},{"$f":"'2. Runde'!AU32","v":-8},{"$f":"'3. Runde'!AM32","v":0},{"$f":"'3. Runde'!AN32","v":-4},{"$f":"'4. Runde'!X32","v":1},{"$f":"'4. Runde'!Y32","v":11},1,-7]
[91,31,"Stadler","Günther","Eggenstein",null,null,{"$f":"'1. Runde'!AM33","v":1},{"$f":"'1. Runde'!AN33","v":12},{"$f":"'2. Runde'!AT33","v":1},{"$f":"'2. Runde'!O83","v":0},{"$f":"'3. Runde'!AT33","v":0},{"$f":"'3. Runde'!AU33","v":-2},{"$f":"'4. Runde'!X33","v":0},{"$f":"'4. Runde'!Y33","v":-2},2,8]
[92,null,"Seyfert","Wolfgang","Eggenstein",null,null,{"$f":"'1. Runde'!AT33","v":0},{"$f":"'1. Runde'!AU33","v":-10},{"$f":"'2. Runde'!AM33","v":1},{"$f":"'2. Runde'!AN33","v":8},{"$f":"'3. Runde'!AT33","v":0},{"$f":"'3. Runde'!AU33","v":-2},{"$f":"'4. Runde'!X33","v":0},{"$f":"'4. Runde'!Y33","v":-2},1,-6]
[93,null,"Schuster","Bernd","Eggenstein",null,null,{"$f":"'1. Runde'!AT33","v":0},{"$f":"'1. Runde'!AU33","v":-10},{"$f":"'2. Runde'!AT33","v":1},{"$f":"'2. Runde'!AU33","v":6},{"$f":"'3. Runde'!AM33","v":0},{"$f":"'3. Runde'!AN33","v":-10},{"$f":"'4. Runde'!X33","v":0},{"$f":"'4. Runde'!Y33","v":-2},1,-16]
[94,32,"Ranft","Willi","Neunkirchen",null,null,{"$f":"'1. Runde'!AM34","v":1},{"$f":"'1. Runde'!AN34","v":1},{"$f":"'2. Runde'!AT34","v":1},{"$f":"'2. Runde'!AU34","v":7},{"$f":"'3. Runde'!AT34","v":1},{"$f":"'3. Runde'!AU34","v":1},{"$f":"'4. Runde'!X34","v":1},{"$f":"'4. Runde'!Y34","v":1},4,10]
[95,null,"Niehren","Isabelle","Neunkirchen",null,null,{"$f":"'1. Runde'!AT34","v":0},{"$f":"'1. Runde'!AU34","v":-9},{"$f":"'2. Runde'!AM34","v":0},{"$f":"'2. Runde'!AN34","v":-8},{"$f":"'3. Runde'!AT34","v":1},{"$f":"'3. Runde'!AU34","v":1},{"$f":"'4. Runde'!X34","v":1},{"$f":"'4. Runde'!Y34","v":1},2,-15]
[96,null,"Rick","Michael","Neunkirchen",null,null,{"$f":"'1. Runde'!AT34","v":0},{"$f":"'1. Runde'!AU34","v":-9},{"$f":"'2. Runde'!AT34","v":1},{"$f":"'2. Runde'!AU34","v":7},{"$f":"'3. Runde'!AM34","v":1},{"$f":"'3. Runde'!AN34","v":9},{"$f":"'4. Runde'!X34","v":1},{"$f":"'4. Runde'!Y34","v":1},3,8]
[97,33,"Brodrick","Ulli","Neunkirchen",null,null,{"$f":"'1. Runde'!AM35","v":1},{"$f":"'1. Runde'!AN35","v":10},{"$f":"'2. Runde'!AT35","v":0},{"$f":"'2. Runde'!AU35","v":-7},{"$f":"'3. Runde'!AT35","v":1},{"$f":"'3. Runde'!AU35","v":4},{"$f":"'4. Runde'!X35","v":1},{"$f":"'4. Runde'!Y35","v":4},3,11]
[98,null,"Friedrich","Roger","Neunkirchen",null,null,{"$f":"'1. Runde'!AT35","v":1},{"$f":"'1. Runde'!AU35","v":12},{"$f":"'2. Runde'!AM35","v":1},{"$f":"'2. Runde'!AN35","v":8},{"$f":"'3. Runde'!AT35","v":1},{"$f":"'3. Runde'!AU35","v":4},{"$f":"'4. Runde'!X35","v":1},{"$f":"'4. Runde'!Y35","v":4},4,28]
[99,null,"Brodrick","Uwe","Neunkirchen",null,null,{"$f":"'1. Runde'!AT35","v":1},{"$f":"'1. Runde'!AU35","v":12},{"$f":"'2. Runde'!AT35","v":0},{"$f":"'2. Runde'!AU35","v":-7},{"$f":"'3. Runde'!AM35","v":1},{"$f":"'3. Runde'!AN35","v":11},{"$f":"'4. Runde'!X35","v":1},{"$f":"'4. Runde'!Y35","v":4},3,20]
[100,34,"Busch","Detlef","Weißenthurm",null,null,{"$f":"'1. Runde'!AM36","v":0},{"$f":"'1. Runde'!AN36","v":-12},{"$f":"'2. Runde'!AT36","v":1},{"$f":"'2. Runde'!AU36","v":2},{"$f":"'3. Runde'!AT36","v":1},{"$f":"'3. Runde'!AU36","v":13},{"$f":"'4. Runde'!X36","v":1},{"$f":"'4. Runde'!Y36","v":13},3,16]
[101,null,"Girnstein","Jupp","Weißenthurm",null,null,{"$f":"'1. Runde'!AT36","v":1},{"$f":"'1. Runde'!AU36","v":10},{"$f":"'2. Runde'!AM36","v":1},{"$f":"'2. Runde'!AN36","v":10},{"$f":"'3. Runde'!AT36","v":1},{"$f":"'3. Runde'!AU36","v":13},{"$f":"'4. Runde'!X36","v":1},{"$f":"'4. Runde'!Y36","v":13},4,46]
[102,null,"Diether","Toni","Weißenthurm",null,null,{"$f":"'1. Runde'!AT36","v":1},{"$f":"'1. Runde'!AU36","v":10},{"$f":"'2. Runde'!AT36","v":1},{"$f":"'2. Runde'!AU36","v":2},{"$f":"'3. Runde'!AM36","v":1},{"$f":"'3. Runde'!AN36","v":3},{"$f":"'4. Runde'!X36","v":1},{"$f":"'4. Runde'!Y36","v":13},4,28]
[103,35,"Stadler","Peter","Eggenstein",null,null,{"$f":"'1. Runde'!AM37","v":1},{"$f":"'1. Runde'!AN37","v":2},{"$f":"'2. Runde'!AT37","v":1},{"$f":"'2. Runde'!AU37","v":12},{"$f":"'3. Runde'!AT37","v":0},{"$f":"'3. Runde'!AU37","v":-5},{"$f":"'4. Runde'!X37","v":0},{"$f":"'4. Runde'!Y37","v":-5},2,4]
[104,null,"Gerber","Annette","Eggenstein",null,null,{"$f":"'1. Runde'!AT37","v":1},{"$f":"'1. Runde'!AU37","v":8},{"$f":"'2. Runde'!AM37","v":1},{"$f":"'2. Runde'!AN37","v":10},{"$f":"'3. Runde'!AT37","v":0},{"$f":"'3. Runde'!AU37","v":-5},{"$f":"'4. Runde'!X37","v":0},{"$f":"'4. Runde'!Y37","v":-5},2,8]
[105,null,"Oberacker","Jürgen","Eggenstein",null,null,{"$f":"'1. Runde'!AT37","v":1},{"$f":"'1. Runde'!AU37","v":8},{"$f":"'2. Runde'!AT37","v":1},{"$f":"'2. Runde'!AU37","v":12},{"$f":"'3. Runde'!AM37","v":1},{"$f":"'3. Runde'!AN37","v":4},{"$f":"'4. Runde'!X37","v":0},{"$f":"'4. Runde'!Y37","v":-5},3,19]
[106,36,"Heine","Thomas","Eggenstein",null,null,{"$f":"'1. Runde'!AM38","v":0},{"$f":"'1. Runde'!AN38","v":-1},{"$f":"'2. Runde'!AT38","v":0},{"$f":"'2. Runde'!AU38","v":-5},{"$f":"'3. Runde'!AT38","v":1},{"$f":"'3. Runde'!AU38","v":9},{"$f":"'4. Runde'!X38","v":1},{"$f":"'4. Runde'!Y38","v":9},2,12]
[107,null,"Heine","Annika","Eggenstein",null,null,{"$f":"'1. Runde'!AT38","v":1},{"$f":"'1. Runde'!AU38","v":9},{"$f":"'2. Runde'!AM38","v":1},{"$f":"'2. Runde'!AN38","v":4},{"$f":"'3. Runde'!AT38","v":1},{"$f":"'3. Runde'!P438","v":0},{"$f":"'4. Runde'!X38","v":1},{"$f":"'4. Runde'!Y38","v":9},4,22]
[108,null,"Fucec","Katharina","Eggenstein",null,null,{"$f":"'1. Runde'!AT38","v":1},{"$f":"'1. Runde'!AU38","v":9},{"$f":"'2. Runde'!AT38","v":0},{"$f":"'2. Runde'!AU38","v":-5},{"$f":"'3. Runde'!AM38","v":0},{"$f":"'3. Runde'!AN38","v":-1},{"$f":"'4. Runde'!X38","v":1},{"$f":"'4. Runde'!Y38","v":9},2,12]
[109,37,"Petzold","Rainer","Käfertal",null,null,{"$f":"'1. Runde'!AM$39","v":1},{"$f":"'1. Runde'!AN$39","v":8},{"$f":"'2. Runde'!AT$39","v":0},{"$f":"'2. Runde'!AU$39","v":-10},{"$f":"'3. Runde'!AT$39","v":0},{"$f":"'3. Runde'!AU$39","v":-1},{"$f":"'4. Runde'!X$39","v":0},{"$f":"'4. Runde'!Y$39","v":-1},1,-4]
[110,null,"Petzold","Bianca","Käfertal",null,null,{"$f":"'1. Runde'!AT$39","v":0},{"$f":"'1. Runde'!AU$39","v":-7},{"$f":"'2. Runde'!AM$39","v":1},{"$f":"'2. Runde'!AN$39","v":2},{"$f":"'3. Runde'!AT$39","v":0},{"$f":"'3. Runde'!AU$39","v":-1},{"$f":"'4. Runde'!X$39","v":0},{"$f":"'4. Runde'!Y$39","v":-1},1,-7]
[111,null,"Kämmle","Ursula","Käfertal",null,null,{"$f":"'1. Runde'!AT$39","v":0},{"$f":"'1. Runde'!AU$39","v":-7},{"$f":"'2. Runde'!AT$39","v":0},{"$f":"'2. Runde'!AU$39","v":-10},{"$f":"'3. Runde'!AM$39","v":0},{"$f":"'3. Runde'!AN$39","v":-9},{"$f":"'4. Runde'!X$39","v":0},{"$f":"'4. Runde'!Y$39","v":-1},0,-27]
[112,38,"Krizman","Suzana","Trier",null,null,{"$f":"'1. Runde'!AM$40","v":1},{"$f":"'1. Runde'!AN$40","v":9},{"$f":"'2. Runde'!AT$40","v":0},{"$f":"'2. Runde'!AU$40","v":-8},{"$f":"'3. Runde'!AT$40","v":1},{"$f":"'3. Runde'!AU$40","v":6},{"$f":"'4. Runde'!X$40","v":1},{"$f":"'4. Runde'!Y$40","v":6},3,13]
[113,null,"Koch","Bianca","Rockenhausen",null,null,{"$f":"'1. Runde'!AT$40","v":0},{"$f":"'1. Runde'!AU$40","v":-6},{"$f":"'2. Runde'!AM$40","v":0},{"$f":"'2. Runde'!AN$40","v":-7},{"$f":"'3. Runde'!AT$40","v":1},{"$f":"'3. Runde'!AU$40","v":6},{"$f":"'4. Runde'!X$40","v":1},{"$f":"'4. Runde'!Y$40","v":6},2,-1]
[114,null,"Ackermann-Bühler","Gabriele","Freckenfeld",null,null,{"$f":"'1. Runde'!AT$40","v":0},{"$f":"'1. Runde'!AU$40","v":-6},{"$f":"'2. Runde'!AT$40","v":0},{"$f":"'2. Runde'!AU$40","v":-8},{"$f":"'3. Runde'!AM$40","v":1},{"$f":"'3. Runde'!AN$40","v":8},{"$f":"'4. Runde'!X$40","v":1},{"$f":"'4. Runde'!Y$40","v":6},2,0]
[115,39,"Leibl","Jochen","Ludwigshafen VSK",null,null,{"$f":"'1. Runde'!AM$41","v":0},{"$f":"'1. Runde'!AN$41","v":-4},{"$f":"'2. Runde'!AT$41","v":1},{"$f":"'2. Runde'!AU$41","v":7},{"$f":"'3. Runde'!AT$41","v":0},{"$f":"'3. Runde'!AU$41","v":-11},{"$f":"'4. Runde'!X$41","v":0},{"$f":"'4. Runde'!Y$41","v":-11},1,-19]
[116,null,"Stadler","Iris","Ludwigshafen Tricolore",null,null,{"$f":"'1. Runde'!AT$41","v":1},{"$f":"'1. Runde'!AU$41","v":5},{"$f":"'2. Runde'!AM$41","v":1},{"$f":"'2. Runde'!AN$41","v":1},{"$f":"'3. Runde'!AT$41","v":0},{"$f":"'3. Runde'!AU$41","v":-11},{"$f":"'4. Runde'!X$41","v":0},{"$f":"'4. Runde'!Y$41","v":-11},2,-16]
[117,null,"Georges","Irmgard","Kapellen",null,null,{"$f":"'1. Runde'!AT$41","v":1},{"$f":"'1. Runde'!AU$41","v":5},{"$f":"'2. Runde'!AT$41","v":1},{"$f":"'2. Runde'!AU$41","v":7},{"$f":"'3. Runde'!AM$41","v":1},{"$f":"'3. Runde'!AN$41","v":4},{"$f":"'4. Runde'!X$41","v":0},{"$f":"'4. Runde'!Y$41","v":-11},3,5]
[118,40,"Bernauer","Werner","Ötisheim",null,null,{"$f":"'1. Runde'!AM$42","v":1},{"$f":"'1. Runde'!AN$42","v":2},{"$f":"'2. Runde'!AT$42","v":0},{"$f":"'2. Runde'!AU$42","v":-5},{"$f":"'3. Runde'!AT$42","v":0},{"$f":"'3. Runde'!AU$42","v":-5},{"$f":"'4. Runde'!X$42","v":0},{"$f":"'4. Runde'!Y$42","v":-5},1,-13]
[119,null,"Böhme","Ellen","Ötisheim",null,null,{"$f":"'1. Runde'!AT$42","v":0},{"$f":"'1. Runde'!AU$42","v":-10},{"$f":"'2. Runde'!AM$42","v":1},{"$f":"'2. Runde'!AN$42","v":4},{"$f":"'3. Runde'!AT$42","v":0},{"$f":"'3. Runde'!AU$42","v":-5},{"$f":"'4. Runde'!X$42","v":0},{"$f":"'4. Runde'!Y$42","v":-5},1,-16]
[120,null,"Raible","Stefan","Ötisheim",null,null,{"$f":"'1. Runde'!AT$42","v":0},{"$f":"'1. Runde'!AU$42","v":-10},{"$f":"'2. Runde'!AT$42","v":0},{"$f":"'2. Runde'!AU$42","v":-5},{"$f":"'3. Runde'!AM$42","v":1},{"$f":"'3. Runde'!AN$42","v":4},{"$f":"'4. Runde'!X$42","v":0},{"$f":"'4. Runde'!Y$42","v":-5},1,-16]
[121,41,"Krizman","Suzana","Trier",null,null,{"$f":"'1. Runde'!AM$43","v":1},{"$f":"'1. Runde'!AN$43","v":3},{"$f":"'2. Runde'!AT$43","v":1},{"$f":"'2. Runde'!AU$43","v":5},{"$f":"'3. Runde'!AT$43","v":0},{"$f":"'3. Runde'!AU$43","v":-8},{"$f":"'4. Runde'!X$43","v":0},{"$f":"'4. Runde'!Y$43","v":-8},{"$f":"H123+J123+L123+N123","v":2},{"$f":"I123+K123+M123+O123","v":-8}]
[122,null,"Koch","Bianca","Rockenhausen",null,null,{"$f":"'1. Runde'!AT$43","v":1},{"$f":"'1. Runde'!AU$43","v":13},{"$f":"'2. Runde'!AM$43","v":0},{"$f":"'2. Runde'!AN$43","v":-4},{"$f":"'3. Runde'!AT$43","v":0},{"$f":"'3. Runde'!AU$43","v":-8},{"$f":"'4. Runde'!X$43","v":0},{"$f":"'4. Runde'!Y$43","v":-8},1,-7]
[123,null,"Ackermann-Bühler","Gabriele","Freckenfeld",null,null,{"$f":"'1. Runde'!AT$43","v":1},{"$f":"'1. Runde'!AU$43","v":13},{"$f":"'2. Runde'!AT$43","v":1},{"$f":"'2. Runde'!AU$43","v":5},{"$f":"'3. Runde'!AM$43","v":0},{"$f":"'3. Runde'!AN$43","v":-2},{"$f":"'4. Runde'!X$43","v":0},{"$f":"'4. Runde'!Y$43","v":-8},2,8]
[124,42,null,null,null,null,null,{"$f":"'1. Runde'!AM$44","v":0},{"$f":"'1. Runde'!AN$44","v":0},{"$f":"'2. Runde'!AT$44","v":0},{"$f":"'2. Runde'!AU$44","v":0},{"$f":"'3. Runde'!AT$44","v":0},{"$f":"'3. Runde'!AU$44","v":0},{"$f":"'4. Runde'!X$44","v":0},{"$f":"'4. Runde'!Y$44","v":0},0,0]
[125,null,null,null,null,null,null,{"$f":"'1. Runde'!AT$44","v":0},{"$f":"'1. Runde'!AU$44","v":0},{"$f":"'2. Runde'!AM$44","v":0},{"$f":"'2. Runde'!AN$44","v":0},{"$f":"'3. Runde'!AT$44","v":0},{"$f":"'3. Runde'!AU$44","v":0},{"$f":"'4. Runde'!X$44","v":0},{"$f":"'4. Runde'!Y$44","v":0},0,0]
[126,null,null,null,null,null,null,{"$f":"'1. Runde'!AT$44","v":0},{"$f":"'1. Runde'!AU$44","v":0},{"$f":"'2. Runde'!AT$44","v":0},{"$f":"'2. Runde'!AU$44","v":0},{"$f":"'3. Runde'!AM$44","v":0},{"$f":"'3. Runde'!AN$44","v":0},{"$f":"'4. Runde'!X$44","v":0},{"$f":"'4. Runde'!Y$44","v":0},0,0]
[127,43,null,null,null,null,null,{"$f":"'1. Runde'!AM$45","v":0},{"$f":"'1. Runde'!AN$45","v":0},{"$f":"'2. Runde'!AT$45","v":0},{"$f":"'2. Runde'!AU$45","v":0},{"$f":"'3. Runde'!AT$45","v":0},{"$f":"'3. Runde'!AU$45","v":0},{"$f":"'4. Runde'!X$45","v":0},{"$f":"'4. Runde'!Y$45","v":0},0,0]
[128,null,null,null,null,null,null,{"$f":"'1. Runde'!AT$45","v":0},{"$f":"'1. Runde'!AU$45","v":0},{"$f":"'2. Runde'!AM$45","v":0},{"$f":"'2. Runde'!AN$45","v":0},{"$f":"'3. Runde'!AT$45","v":0},{"$f":"'3. Runde'!AU$45","v":0},{"$f":"'4. Runde'!X$45","v":0},{"$f":"'4. Runde'!Y$45","v":0},0,0]
[129,null,null,null,null,null,null,{"$f":"'1. Runde'!AT$45","v":0},{"$f":"'1. Runde'!AU$45","v":0},{"$f":"'2. Runde'!AT$45","v":0},{"$f":"'2. Runde'!AU$45","v":0},{"$f":"'3. Runde'!AM$45","v":0},{"$f":"'3. Runde'!AN$45","v":0},{"$f":"'4. Runde'!X$45","v":0},{"$f":"'4. Runde'!Y$45","v":0},0,0]
[130,44,null,null,null,null,null,{"$f":"'1. Runde'!AM$46","v":0},{"$f":"'1. Runde'!AN$46","v":0},{"$f":"'2. Runde'!AT$46","v":0},{"$f":"'2. Runde'!AU$46","v":0},{"$f":"'3. Runde'!AT$46","v":0},{"$f":"'3. Runde'!AU$46","v":0},{"$f":"'4. Runde'!X$46","v":0},{"$f":"'4. Runde'!Y$46","v":0},0,0]
[131,null,null,null,null,null,null,{"$f":"'1. Runde'!AT$46","v":0},{"$f":"'1. Runde'!AU$46","v":0},{"$f":"'2. Runde'!AM$46","v":0},{"$f":"'2. Runde'!AN$46","v":0},{"$f":"'3. Runde'!AT$46","v":0},{"$f":"'3. Runde'!AU$46","v":0},{"$f":"'4. Runde'!X$46","v":0},{"$f":"'4. Runde'!Y$46","v":0},0,0]
[132,null,null,null,null,null,null,{"$f":"'1. Runde'!AT$46","v":0},{"$f":"'1. Runde'!AU$46","v":0},{"$f":"'2. Runde'!AT$46","v":0},{"$f":"'2. Runde'!AU$46","v":0},{"$f":"'3. Runde'!AM$46","v":0},{"$f":"'3. Runde'!AN$46","v":0},{"$f":"'4. Runde'!X$46","v":0},{"$f":"'4. Runde'!Y$46","v":0},0,0]
[133,45,null,null,null,null,null,{"$f":"'1. Runde'!AM$47","v":0},{"$f":"'1. Runde'!AN$47","v":0},{"$f":"'2. Runde'!AT$47","v":0},{"$f":"'2. Runde'!AU$47","v":0},{"$f":"'3. Runde'!AT$47","v":0},{"$f":"'3. Runde'!AU$47","v":0},{"$f":"'4. Runde'!X$47","v":0},{"$f":"'4. Runde'!Y$47","v":0},0,0]
[134,null,null,null,null,null,null,{"$f":"'1. Runde'!AT$47","v":0},{"$f":"'1. Runde'!AU$47","v":0},{"$f":"'2. Runde'!AM$47","v":0},{"$f":"'2. Runde'!AN$47","v":0},{"$f":"'3. Runde'!AT$47","v":0},{"$f":"'3. Runde'!AU$47","v":0},{"$f":"'4. Runde'!X$47","v":0},{"$f":"'4. Runde'!Y$47","v":0},0,0]
[135,null,null,null,null,null,null,{"$f":"'1. Runde'!AT$47","v":0},{"$f":"'1. Runde'!AU$47","v":0},{"$f":"'2. Runde'!AT$47","v":0},{"$f":"'2. Runde'!AU$47","v":0},{"$f":"'3. Runde'!AM$47","v":0},{"$f":"'3. Runde'!AN$47","v":0},{"$f":"'4. Runde'!X$47","v":0},{"$f":"'4. Runde'!Y$47","v":0},0,0]
[136,46,null,null,null,null,null,{"$f":"'1. Runde'!AM$48","v":0},{"$f":"'1. Runde'!AN$48","v":0},{"$f":"'2. Runde'!AT$48","v":0},{"$f":"'2. Runde'!AU$48","v":0},{"$f":"'3. Runde'!AT$48","v":0},{"$f":"'3. Runde'!AU$48","v":0},{"$f":"'4. Runde'!X$48","v":0},{"$f":"'4. Runde'!Y$48","v":0},0,0]
[137,null,null,null,null,null,null,{"$f":"'1. Runde'!AT$48","v":0},{"$f":"'1. Runde'!AU$48","v":0},{"$f":"'2. Runde'!AM$48","v":0},{"$f":"'2. Runde'!AN$48","v":0},{"$f":"'3. Runde'!AT$48","v":0},{"$f":"'3. Runde'!AU$48","v":0},{"$f":"'4. Runde'!X$48","v":0},{"$f":"'4. Runde'!Y$48","v":0},0,0]
[138,null,null,null,null,null,null,{"$f":"'1. Runde'!AT$48","v":0},{"$f":"'1. Runde'!AU$48","v":0},{"$f":"'2. Runde'!AT$48","v":0},{"$f":"'2. Runde'!AU$48","v":0},{"$f":"'3. Runde'!AM$48","v":0},{"$f":"'3. Runde'!AN$48","v":0},{"$f":"'4. Runde'!X$48","v":0},{"$f":"'4. Runde'!Y$48","v":0},0,0]
[139,47,null,null,null,null,null,{"$f":"'1. Runde'!AM$49","v":0},{"$f":"'1. Runde'!AN$49","v":0},{"$f":"'2. Runde'!AT$49","v":0},{"$f":"'2. Runde'!AU$49","v":0},{"$f":"'3. Runde'!AT$49","v":0},{"$f":"'3. Runde'!AU$49","v":0},{"$f":"'4. Runde'!X$49","v":0},{"$f":"'4. Runde'!Y$49","v":0},0,0]
[140,null,null,null,null,null,null,{"$f":"'1. Runde'!AT$49","v":0},{"$f":"'1. Runde'!AU$49","v":0},{"$f":"'2. Runde'!AM$49","v":0},{"$f":"'2. Runde'!AN$49","v":0},{"$f":"'3. Runde'!AT$49","v":0},{"$f":"'3. Runde'!AU$49","v":0},{"$f":"'4. Runde'!X$49","v":0},{"$f":"'4. Runde'!Y$49","v":0},0,0]
[141,null,null,null,null,null,null,{"$f":"'1. Runde'!AT$49","v":0},{"$f":"'1. Runde'!AU$49","v":0},{"$f":"'2. Runde'!AT$49","v":0},{"$f":"'2. Runde'!AU$49","v":0},{"$f":"'3. Runde'!AM$49","v":0},{"$f":"'3. Runde'!AN$49","v":0},{"$f":"'4. Runde'!X$49","v":0},{"$f":"'4. Runde'!Y$49","v":0},0,0]
[142,48,null,null,null,null,null,{"$f":"'1. Runde'!AM$50","v":0},{"$f":"'1. Runde'!AN$50","v":0},{"$f":"'2. Runde'!AT$50","v":0},{"$f":"'2. Runde'!AU$50","v":0},{"$f":"'3. Runde'!AT$50","v":0},{"$f":"'3. Runde'!AU$50","v":0},{"$f":"'4. Runde'!X$50","v":0},{"$f":"'4. Runde'!Y$50","v":0},0,0]
[143,null,null,null,null,null,null,{"$f":"'1. Runde'!AT$50","v":0},{"$f":"'1. Runde'!AU$50","v":0},{"$f":"'2. Runde'!AM$50","v":0},{"$f":"'2. Runde'!AN$50","v":0},{"$f":"'3. Runde'!AT$50","v":0},{"$f":"'3. Runde'!AU$50","v":0},{"$f":"'4. Runde'!X$50","v":0},{"$f":"'4. Runde'!Y$50","v":0},0,0]
[144,null,null,null,null,null,null,{"$f":"'1. Runde'!AT$50","v":0},{"$f":"'1. Runde'!AU$50","v":0},{"$f":"'2. Runde'!AT$50","v":0},{"$f":"'2. Runde'!AU$50","v":0},{"$f":"'3. Runde'!AM$50","v":0},{"$f":"'3. Runde'!AN$50","v":0},{"$f":"'4. Runde'!X$50","v":0},{"$f":"'4. Runde'!Y$50","v":0},0,0]
[145,49,null,null,null,null,null,{"$f":"'1. Runde'!AM$51","v":0},{"$f":"'1. Runde'!AN$51","v":0},{"$f":"'2. Runde'!AT$51","v":0},{"$f":"'2. Runde'!AU$51","v":0},{"$f":"'3. Runde'!AT$51","v":0},{"$f":"'3. Runde'!AU$51","v":0},{"$f":"'4. Runde'!X$51","v":0},{"$f":"'4. Runde'!Y$51","v":0},0,0]
[146,null,null,null,null,null,null,{"$f":"'1. Runde'!AT$51","v":0},{"$f":"'1. Runde'!AU$51","v":0},{"$f":"'2. Runde'!AM$51","v":0},{"$f":"'2. Runde'!AN$51","v":0},{"$f":"'3. Runde'!AT$51","v":0},{"$f":"'3. Runde'!AU$51","v":0},{"$f":"'4. Runde'!X$51","v":0},{"$f":"'4. Runde'!Y$51","v":0},0,0]
[147,null,null,null,null,null,null,{"$f":"'1. Runde'!AT$51","v":0},{"$f":"'1. Runde'!AU$51","v":0},{"$f":"'2. Runde'!AT$51","v":0},{"$f":"'2. Runde'!AU$51","v":0},{"$f":"'3. Runde'!AM$51","v":0},{"$f":"'3. Runde'!AN$51","v":0},{"$f":"'4. Runde'!X$51","v":0},{"$f":"'4. Runde'!Y$51","v":0},0,0]
[148,50,null,null,null,null,null,{"$f":"'1. Runde'!AM$52","v":0},{"$f":"'1. Runde'!AN$52","v":-6},{"$f":"'2. Runde'!AT$52","v":0},{"$f":"'2. Runde'!AU$52","v":-6},{"$f":"'3. Runde'!AT$52","v":0},{"$f":"'3. Runde'!AU$52","v":-6},{"$f":"'4. Runde'!X$52","v":0},{"$f":"'4. Runde'!Y$52","v":0},0,-18]
[149,null,null,null,null,null,null,{"$f":"'1. Runde'!AT$52","v":0},{"$f":"'1. Runde'!AU$52","v":-6},{"$f":"'2. Runde'!AM$52","v":0},{"$f":"'2. Runde'!AN$52","v":-6},{"$f":"'3. Runde'!AT$52","v":0},{"$f":"'3. Runde'!AU$52","v":-6},{"$f":"'4. Runde'!X$52","v":0},{"$f":"'4. Runde'!Y$52","v":0},0,-18]
[150,null,null,null,null,null,null,{"$f":"'1. Runde'!AT$52","v":0},{"$f":"'1. Runde'!AU$52","v":-6},{"$f":"'2. Runde'!AT$52","v":0},{"$f":"'2. Runde'!AU$52","v":-6},{"$f":"'3. Runde'!AM$52","v":0},{"$f":"'3. Runde'!AN$52","v":-6},{"$f":"'4. Runde'!X$52","v":0},{"$f":"'4. Runde'!Y$52","v":0},0,-18]
[{"$f":"ISODD(A1)","v":true}]
["5-6"]
["5-6"]
["7-8"]
["7-8"]
["9-10"]
["9-10"]
["11-12"]
["11-12"]
["13-14"]
["13-14"]
["15-16"]
["15-16"]
["17-18"]
["17-18"]
["19-20"]
["19-20"]
["21-22"]
["21-22"]
["23-24"]
["23-24"]
["25-26"]
["25-26"]
["27-28"]
["27-28"]
["29-30"]
["29-30"]
["31-32"]
["31-32"]
["33-34"]
["33-34"]
["35-36"]
["35-36"]
["37-38"]
["37-38"]
["39-40"]
["39-40"]
["41-42"]
["41-42"]
["43-44"]
["43-44"]
["45-46"]
["45-46"]
["47-48"]
["47-48"]
["49-50"]
["49-50"]

{"sheet":"Einzellwertung","index":7,"n_rows":153,"n_cols":14,"rows_kept":153,"cut":false,"hidden":false,"merged":[[0,10,0,13],[0,2,0,5],[0,7,0,9],[1,10,1,11],[1,12,1,13],[1,1,2,2],[1,3,2,3],[1,4,1,5],[1,6,1,7],[1,8,1,9]]}
[null,{"$f":"Start!B3","v":"011."},{"$f":"Start!F3","v":"TeamCup Testversion"},null,null,null,null,{"$f":"Start!AO3","v":"2021-09-25"},{"$f":"Start!AQ3","v":"00:00:00"},{"$f":"Start!AR3","v":"00:00:00"},"Einzelwertung"]
[{"$f":"Meldeliste!A1","v":41},"Namen",null,"Ort","Runde 1",null,"Runde 2",null,"Runde 3",null,"Runde 4",null,"GESAMT"]
[{"$f":"Meldeliste!A2","v":123},null,null,null,"Siege","Punkte","Siege","Punkte","Siege","Punkte","Siege","Punkte","Siege","Punkte"]
[1,"Girnstein","Jupp","Weißenthurm",1,10,1,10,1,13,1,13,4,46]
[2,"Birk","Christian","Ottweiler",1,11,1,9,1,9,1,9,4,38]
[3,"Movant","Didier","Mühlhofen",1,6,1,8,1,7,1,7,4,28]
[4,"Friedrich","Roger","Neunkirchen",1,12,1,8,1,4,1,4,4,28]
[5,"Diether","Toni","Weißenthurm",1,10,1,2,1,3,1,13,4,28]
[6,"Barthel","Eric ","Ottweiler",1,11,1,1,1,6,1,9,4,27]
[7,"Weis","Jürgen","Mühlhofen",1,6,1,6,1,7,1,7,4,26]
[8,"Pfaff","Andreas","Neunkirchen",1,10,1,10,1,2,1,2,4,24]
[9,"Brendel","Hans","Neunkirchen",1,2,1,10,1,10,1,2,4,24]
[10,"Nonat","Rosita","Eggenstein",1,4,1,9,1,5,1,5,4,23]
[11,"Heine","Annika","Eggenstein",1,9,1,4,1,0,1,9,4,22]
[12,"Bick","Michael","Neunkirchen",1,2,1,5,1,2,1,2,4,11]
[13,"Ranft","Willi","Neunkirchen",1,1,1,7,1,1,1,1,4,10]
[14,"Bassler","Theo","Bad Dürkheim",0,-2,1,9,1,10,1,10,3,27]
[15,"Ackermann-Buhler","Gabi","Freckenfeld",0,-1,1,10,1,6,1,6,3,21]
[16,"Weimer","Holger","Kandel",0,-1,1,10,1,6,1,6,3,21]
[17,"Pellegrino","Lorenzo","Brötzingen",1,6,1,11,1,9,0,-6,3,20]
[18,"Brodrick","Uwe","Neunkirchen",1,12,0,-7,1,11,1,4,3,20]
[19,"Oberacker","Jürgen","Eggenstein",1,8,1,12,1,4,0,-5,3,19]
[20,"Urlacher","Thirry","Wissembourg",1,9,0,-8,1,8,1,8,3,17]
[21,"Weissert","Peter","Pforzheim",1,6,0,-9,1,10,1,10,3,17]
[22,"Richter","Denis","Reichshoffen",1,8,1,6,0,-6,1,8,3,16]
[23,"Busch","Detlef","Weißenthurm",0,-12,1,2,1,13,1,13,3,16]
[24,"Bischoff","Lisa","Ottweiler",0,-4,1,1,1,9,1,9,3,15]
[25,"Haenel","Daniel","Wissembourg",1,1,0,-2,1,8,1,8,3,15]
[26,"Halter","David","Hoerdt",1,5,0,-5,1,7,1,7,3,14]
[27,"Rosenfelder","Pierre","Reichshoffen",1,8,1,6,0,-8,1,8,3,14]
[28,"Centner","Peter","Kandel",0,-9,1,10,1,6,1,6,3,13]
[29,"Wisotzki","Sonja","Mühlhofen",1,6,1,8,0,-8,1,7,3,13]
[30,"Weisgerber","Patrick","Reichshoffen",1,7,1,6,0,-8,1,8,3,13]
[31,"Krizman","Suzana","Trier",1,9,0,-8,1,6,1,6,3,13]
[32,"Brodrick","Ulli","Neunkirchen",1,10,0,-7,1,4,1,4,3,11]
[33,"Krauss","Karin","Mühlhofen",1,4,1,4,1,12,0,-10,3,10]
[34,"Bodin","Herve","Hoerdt",1,5,0,-4,1,1,1,7,3,9]
[35,"Stadler","Günter","Eggenstein",1,5,0,-6,1,5,1,5,3,9]
[36,"Leibfried","Marion","Neunkirchen",1,4,1,8,0,-8,1,4,3,8]
[37,"Rick","Michael","Neunkirchen",0,-9,1,7,1,9,1,1,3,8]
[38,"Niehren","Isabelle","Neunkirchen",0,-11,1,8,1,5,1,4,3,6]
[39,"Ellwanger","Martial","Hatten",0,-10,1,6,1,5,1,5,3,6]
[40,"Georges","Irmgard","Kapellen",1,5,1,7,1,4,0,-11,3,5]
[41,"Frenzel","Lukas","Schweighofen",1,1,0,-8,1,2,1,8,3,3]
[42,"Sitt","Uwe","Schweighofen",0,-2,0,-1,1,12,1,12,2,21]
[43,"Ranft","Willi","Neunkirchen",0,-1,1,12,1,8,0,-4,2,15]
[44,"Nuss","Wilko","Schweighofen",0,-2,0,-7,1,10,1,12,2,13]
[45,"Avdalyan","Azat","Pforzheim",1,6,0,-1,0,-2,1,10,2,13]
[46,"Heine","Thomas","Eggenstein",0,-1,0,-5,1,9,1,9,2,12]
[47,"Fucec","Katharina","Eggenstein",1,9,0,-5,0,-1,1,9,2,12]
[48,"Dietrich","Beate","Bad Dürkheim",0,-8,0,-1,1,10,1,10,2,11]
[49,"Haas","Tom","Rastatt",1,7,1,11,0,-4,0,-4,2,10]
[50,"Steinke","Mathias","Pforzheim",0,-9,0,-1,1,10,1,10,2,10]
[51,"Brauch","Beate","Mühlhofen",0,-6,0,-6,1,11,1,11,2,10]
[52,"Sallaoui","Ali","Freckenfeld",0,-1,0,-2,1,6,1,6,2,9]
[53,"Stadler","Günther","Eggenstein",1,12,1,0,0,-2,0,-2,2,8]
[54,"Gerber","Annette","Eggenstein",1,8,1,10,0,-5,0,-5,2,8]
[55,"Ackermann-Bühler","Gabriele","Freckenfeld",1,13,1,5,0,-2,0,-8,2,8]
[56,"Lechler","Günther","Brötzingen",1,8,1,11,0,-6,0,-6,2,7]
[57,"Sitt","Tanja","Schweighofen",0,-10,0,-7,1,12,1,12,2,7]
[58,"Heyl","Oliver","Hoerdt",0,-4,0,-4,1,7,1,7,2,6]
[59,"Brauch","Gerhard","Mühlhofen",0,-8,0,-8,1,11,1,11,2,6]
[60,"Müller","Stefan","Queichheim",1,10,0,-6,1,8,0,-7,2,5]
[61,"Stadler","Peter","Eggenstein",1,2,1,12,0,-5,0,-5,2,4]
[62,"Schmidt","Rainer","Rastatt",1,7,1,4,0,-5,0,-4,2,2]
[63,"Haus","Marc ","Schweighofen",1,7,1,1,0,-4,0,-4,2,0]
[64,"Rödel","Klaus","Kandel",0,-7,1,10,0,-9,1,6,2,0]
[65,"Ackermann-Bühler","Gabriele","Freckenfeld",0,-6,0,-8,1,8,1,6,2,0]
[66,"Brodrick","Uwe","Neunkirchen",1,5,0,-10,1,8,0,-4,2,-1]
[67,"Krämer","Wolfgang","Eggenstein",1,4,0,-6,0,-4,1,5,2,-1]
[68,"Böhm","Frank","Herxheim",1,9,0,-10,1,8,0,-8,2,-1]
[69,"Dreßler","Klaus","Bad Dürkheim",0,-8,1,9,0,-12,1,10,2,-1]
[70,"Koch","Bianca","Rockenhausen",0,-6,0,-7,1,6,1,6,2,-1]
[71,"Rummel","Rainer","Rastatt",1,1,1,4,0,-4,0,-4,2,-3]
[72,"Kämmle","Ursula","Käfertal",1,1,1,9,0,-8,0,-6,2,-4]
[73,"Petzold","Bianca","Käfertal",1,1,1,6,0,-6,0,-6,2,-5]
[74,"Thierry","Sepp","Mühlhofen",1,11,1,4,0,-10,0,-10,2,-5]
[75,"Ellwanger","Pauline","Hatten",0,-12,1,6,0,-4,1,5,2,-5]
[76,"Ochsenreiter","Finn","Herxheim",1,9,0,-12,1,6,0,-8,2,-5]
[77,"Kauf","Chris","Essingen",1,6,0,-12,1,8,0,-8,2,-6]
[78,"Brecht","Ute","Germersheim",0,-6,0,-9,1,4,1,4,2,-7]
[79,"Schafberg","Helga","Germersheim",0,-9,0,-6,1,4,1,4,2,-7]
[80,"Lensch","Leo","Kandel",0,-7,0,-12,1,6,1,6,2,-7]
[81,"Niehren","Ben","Neunkirchen",0,-11,1,7,0,-8,1,4,2,-8]
[82,"Krizman","Suzana","Trier",1,3,1,5,0,-8,0,-8,2,-8]
[83,"Zimmermann","Bernd","Germersheim",0,-9,0,-9,1,5,1,4,2,-9]
[84,"Blaettner","Peter","Mühlhofen",1,4,1,5,0,-10,0,-10,2,-11]
[85,"Ellwanger","Kevin","Hatten",0,-12,0,-9,1,5,1,5,2,-11]
[86,"Niehren","Isabelle","Neunkirchen",0,-9,0,-8,1,1,1,1,2,-15]
[87,"Stadler","Iris","Ludwigshafen Tricolore",1,5,1,1,0,-11,0,-11,2,-16]
[88,"Sitt","Tanja","Schweighofen",0,-4,1,8,0,-1,0,-7,1,-4]
[89,"Petzold","Rainer","Käfertal",1,8,0,-10,0,-1,0,-1,1,-4]
[90,"Seyfert","Wolfgang","Eggenstein",0,-10,1,8,0,-2,0,-2,1,-6]
[91,"Rehmund","Uwe","Kapellen",0,-6,0,-8,0,-4,1,11,1,-7]
[92,"Petzold","Bianca","Käfertal",0,-7,1,2,0,-1,0,-1,1,-7]
[93,"Koch","Bianca","Rockenhausen",1,13,0,-4,0,-8,0,-8,1,-7]
[94,"Petzold","Rainer","Käfertal",0,-5,1,9,0,-6,0,-6,1,-8]
[95,"Müller","Heiner","Pfinztal",1,6,0,-4,0,-6,0,-6,1,-10]
[96,"Busch","Claudia","Weißenthurm",0,-5,1,8,0,-7,0,-7,1,-11]
[97,"König","Markus","Queichheim",1,10,0,-8,0,-7,0,-7,1,-12]
[98,"Bernauer","Werner","Ötisheim",1,2,0,-5,0,-5,0,-5,1,-13]
[99,"Lorig","Astrid","Trier",0,-4,1,2,0,-7,0,-7,1,-16]
[100,"Schuster","Bernd","Eggenstein",0,-10,1,6,0,-10,0,-2,1,-16]
[101,"Böhme","Ellen","Ötisheim",0,-10,1,4,0,-5,0,-5,1,-16]
[102,"Raible","Stefan","Ötisheim",0,-10,0,-5,1,4,0,-5,1,-16]
[103,"Hoffmann","Hans-Jürgen","Freckenfeld",1,7,0,-9,0,-11,0,-4,1,-17]
[104,"Klose","Stefan","Brötzingen",0,-5,0,-4,1,1,0,-9,1,-17]
[105,"Vonberg","Werner","Bornheim",0,-8,0,-2,1,2,0,-10,1,-18]
[106,"Lechler","Günther","Brötzingen",1,4,0,-4,0,-9,0,-9,1,-18]
[107,"Brauch","Beate","Mühlhofen",0,-5,1,4,0,-9,0,-9,1,-19]
[108,"Leibl","Jochen","Ludwigshafen VSK",0,-4,1,7,0,-11,0,-11,1,-19]
[109,"Werling","Artur","Freckenfeld",0,-3,1,5,0,-12,0,-12,1,-22]
[110,"Van Durme","Henry","Mühlhofen",1,4,0,-11,0,-9,0,-9,1,-25]
[111,"Hoffmann","Hans-Jürgen","Freckenfeld",0,-13,1,5,0,-10,0,-12,1,-30]
[112,"Friedrich ","Roger","Neunkirchen",0,-1,0,-10,0,-5,0,-4,0,-20]
[113,"Müller","Silvia","Queichheim",0,-2,0,-6,0,-7,0,-7,0,-22]
[114,"Werling","Artur","Freckenfeld",0,-8,0,-9,0,-4,0,-4,0,-25]
[115,"Kämmle","Ursula","Käfertal",0,-7,0,-10,0,-9,0,-1,0,-27]
[116,"Vonberg","Fabian","Malsch",0,-7,0,-2,0,-10,0,-10,0,-29]
[117,"Bock","Walli","Eggenstein",0,-4,0,-10,0,-3,0,-13,0,-30]
[118,"Brauch","Gerhard","Mühlhofen",0,-5,0,-11,0,-6,0,-9,0,-31]
[119,"Müller","Heiner","Brötzingen",0,-5,0,-11,0,-9,0,-9,0,-34]
[120,"Bock","Heinz","Eggenstein",0,-4,0,-5,0,-13,0,-13,0,-35]
[121,"Vonberg","Susanne","Bornheim",0,-8,0,-10,0,-10,0,-10,0,-38]
[122,"Haus","Marc ","Schweighofen",0,-13,0,-4,0,-12,0,-12,0,-41]
[123,"Koch-Gerlach","Iris","Eggenstein",0,-11,0,-10,0,-13,0,-13,0,-47]
[124]
[125]
[126]
[127]
[128]
[129]
[130]
[131]
[132]
[133]
[134]
[135]
[136]
[137]
[138]
[139]
[140]
[141]
[142]
[143]
[144]
[145]
[146]
[147]
[148]
[149]
[150]

{"sheet":"2021","index":8,"n_rows":327,"n_cols":17,"rows_kept":327,"cut":false,"hidden":false,"merged":[[0,0,0,14],[1,0,2,0],[1,1,2,2],[1,3,2,3],[1,4,1,5],[1,6,1,7],[1,8,1,9],[1,10,1,11],[1,12,1,13]]}
["3er Team Cup Kapellen Jahresauswertung 2021"]
["Rang","Namen",null,"Ort","Runde 1",null,"Runde 2",null,"Runde 3",null,"Runde 4",null,"GESAMT",null,"Spieler",null,"Hier die Daten aus der \"Einzelwertung\" ab B4 bis Nx je nach Anzahl der Teilnehmer"]
[null,null,null,null,"Siege","Punkte","Siege","Punkte","Siege","Punkte","Siege","Punkte","Siege","Punkte",{"$f":"SUM(O4:O327)","v":327},null,"einfach unten anhängen. Nach Namen (Spalte B und C) Sortieren und doppelte Namen"]
[1,"Haus","Marc","Schweighofen",1,7,0,-8,1,9,1,7,14,85,4,null,"händisch suchen. Siege, Punkte und Spielteilnahme (Spalte M, N und O) bei doppelten "]
[2,"Stadler","Günther","Eggenstein",1,1,1,10,1,5,1,8,11,70,3,null,"Namen zusammenzählen, die zweite Dopplung löschen und nach Siege und Punkte"]
[3,"Riedl","Jürgen","Bornheim",1,7,1,6,1,12,0,-6,11,56,4,null,"neu sortieren. Fertig ist die Turnierserienauswertung."]
[4,"Werling","Artur","Freckenfeld",0,-3,1,8,1,4,1,13,11,51,4]
[5,"Seeber","Wolfgang","Venningen",1,5,1,5,0,-9,1,4,11,32,4,null,"Hier sind die Daten von TeamCup 140, 141, 142 und 143 erfasst."]
[6,"Garibal","Patrice","Böbingen",1,5,1,5,1,13,1,4,10,46,3]
[7,"Hoffmann","Hans Jürgen","Freckenfeld",0,-7,1,4,1,8,1,2,10,43,4]
[8,"Kauf","Chris ","Essingen",1,3,0,-4,1,10,1,4,10,27,4]
[9,"Staudt","Wolfgang","Böbingen",0,-6,1,5,1,13,1,4,10,21,4]
[10,"Brauch","Gerhard","Mühlhofen",1,10,1,1,0,-9,1,2,10,15,4]
[11,"Blaettner","Peter","Böbingen",1,12,1,5,1,9,1,5,9,48,3]
[12,"Sitt","Tanja","Schweighofen",1,2,1,12,1,5,0,-10,9,39,3]
[13,"Brodrick","Uwe","Neunkirchen",1,7,0,-6,1,9,1,4,9,35,3]
[14,"Ranft","Willi","Neunkirchen",1,5,1,5,0,-4,0,-5,9,6,4]
[15,"Buhler","Vincent","Schweighofen",1,9,1,3,1,12,1,8,8,56,2]
[16,"Schuster","Bernd","Eggenstein",0,-7,1,10,1,7,1,8,8,33,3]
[17,"Rehmund","Uwe","Kapellen",1,1,1,1,0,-5,1,2,8,19,3]
[18,"Weis","Jürgen","Mühlhofen",1,11,0,-9,0,-9,0,-4,8,8,4]
[19,"Stadler","Nico","Eggenstein",1,4,1,8,0,-5,1,13,7,27,2]
[20,"Georges","Irmgard","Kapellen",0,-2,0,-8,1,2,1,11,7,22,3]
[21,"Stadler","Iris","Ludwigshafen",1,7,1,8,0,-12,1,5,7,7,3]
[22,"König","Markus","Queichheim",1,4,1,1,0,-6,1,9,7,6,3]
[23,"Leibl","Jochen","Ludwigshafen",1,2,0,-8,1,7,1,11,7,2,3]
[24,"Wisotzki","Sonja","Mühlhofen",0,-8,0,-1,0,-10,0,-4,7,-9,4]
[25,"Brauch","Beate","Mühlhofen",1,1,0,-8,0,-9,1,2,7,-45,4]
[26,"Ackermann-Buhler","Gabriele","Freckenfeld",0,-8,0,-1,1,8,1,11,6,42,2]
[27,"Rosenfelder","Pierre","Morsbronn",1,8,1,6,0,-3,1,6,6,37,2]
[28,"Raible","Stefan","Ötisheim",1,2,1,9,1,1,0,-4,6,29,2]
[29,"Stegner","Helmut","Freckenfeld",1,12,1,3,1,9,1,7,6,10,3]
[30,"Petzold","Rainer","Käfertal",1,4,0,-1,1,4,0,-11,6,-2,3]
[31,"Petzold","Bianca","Käfertal",0,-12,1,8,1,4,0,-11,6,-4,3]
[32,"Brodrick","Ulli","Neunkirchen",0,-10,0,-6,0,-13,1,4,6,-9,3]
[33,"Friedrich","Roger","Neunkirchen",1,7,1,2,0,-13,1,4,6,-17,3]
[34,"Mourvant","Didier","Mühlhofen",1,13,0,-12,0,-3,1,4,6,-19,4]
[35,"Klipfel","Yann","Laubach",0,-6,1,6,1,11,1,6,5,50,2]
[36,"Bernauer","Werner","Ötisheim",0,-2,1,9,1,6,0,-4,5,28,2]
[37,"Pfaff","Andreas","Neunkirchen",0,-5,1,10,1,11,1,8,5,23,2]
[38,"Zehentner","Rainer","Mühlhofen",1,9,1,3,0,-10,1,7,5,20,2]
[39,"Ball","Raphael","Aschbach",0,-5,1,4,0,-8,0,-2,5,19,2]
[40,"Clemens","Frederic","Neunkirchen",1,3,1,10,0,-2,1,6,5,18,2]
[41,"Grossholtz","Christian","Aschbach",0,-5,1,7,1,6,0,-2,5,11,2]
[42,"Thiery","Sepp","Mühlhofen",1,12,0,-12,1,4,1,5,5,8,2]
[43,"Busch","Detlef","Weißenthurm",0,-4,1,6,1,10,1,4,5,7,2]
[44,"Seyfert","Wolfgang","Eggenstein",0,-7,1,2,1,5,1,8,5,7,2]
[45,"Bletzacker","David","Aschbach",1,5,1,1,1,4,0,-7,5,5,2]
[46,"Lutz","Benjamin","Essingen",0,-13,1,11,1,3,1,8,5,5,2]
[47,"Sallaoui","Ali","Freckenfeld",0,-8,0,-5,1,7,1,11,5,-3,3]
[48,"Wind","Birte","Bad Bergzabern",0,-5,0,-11,0,-6,1,1,5,-23,3]
[49,"Herrmann","Nicole","Essingen",0,-5,0,-4,1,3,1,4,5,-32,4]
[50,"Van Durme","Henri","Mühlhofen",0,-11,0,-12,1,3,1,10,5,-35,3]
[51,"Margrander","Marco","Eggenstein",1,12,1,11,1,7,1,4,4,34,1]
[52,"Klipfel","Anthony","Laubach",1,8,1,8,1,11,1,6,4,33,1]
[53,"Geiger","Helmut","Essingen",1,8,1,8,1,8,1,6,4,30,1]
[54,"Haas","Thomas","Rastatt",1,7,1,8,1,7,1,6,4,28,1]
[55,"Krämer","Wolfgang","Eggenstein",1,6,1,12,1,3,1,7,4,28,1]
[56,"Muller","Freddy","Achern",1,8,1,8,1,5,1,5,4,26,1]
[57,"Schneider","Werner","Bornheim",1,7,1,6,1,5,1,4,4,22,1]
[58,"Busch","Claudia","Weißenthurm",1,13,1,12,1,9,0,-10,4,18,2]
[59,"Leibfried","Bernd","Neunkirchen",1,9,0,-10,0,-3,0,-1,4,16,2]
[60,"Dörr","Wolfgang","Essingen",1,8,0,-4,0,-2,1,6,4,9,2]
[61,"Heft","Thorsten","Mühlhofen",1,9,0,-6,0,-10,1,7,4,9,2]
[62,"Walter","Albert","Queichheim",1,5,0,-1,1,8,0,-7,4,8,2]
[63,"Kauf","Dieter","Essingen",0,-5,0,-4,1,8,1,6,4,7,2]
[64,"Schmitt","Rudolf","Mühlhofen",0,-4,0,-12,1,9,1,5,4,5,2]
[65,"Böhme","Ellen","Ötisheim",1,2,0,-8,1,6,0,-4,4,0,2]
[66,"Motz","Gerard","Aschbach",1,5,1,5,0,-9,0,-7,4,-1,2]
[67,"Kamm","Manuel","Mühlhofen",0,-7,1,1,0,-6,1,9,4,-9,2]
[68,"Heß","Klaus","Mühlhofen",0,-7,1,1,1,3,1,9,4,-15,2]
[69,"Vegelhan","Roland","Aschbach",1,2,1,1,0,-9,0,-7,4,-15,2]
[70,"Diether","Toni","Weißenthurm",0,-12,1,6,1,5,1,4,4,-19,2]
[71,"Muvray","Eric","Aschbach",1,11,0,-4,1,11,1,6,3,24,1]
[72,"Saimen","Manfred","Essingen",1,10,1,10,1,12,0,-8,3,24,1]
[73,"Weschler","Claude","Freckenfeld",1,6,0,-1,1,7,1,11,3,23,1]
[74,"Krizman","Suzana","Trier",0,-5,1,10,1,3,1,11,3,19,1]
[75,"Zimmer","Michael","Wiesloch",0,-1,1,4,1,4,1,10,3,17,1]
[76,"Eberhardt","Werner","Überherrn",1,6,1,6,1,7,0,-3,3,16,1]
[77,"Krämer","Marco","Eggenstein",1,6,1,12,0,-11,1,7,3,14,1]
[78,"Wilhelm","Janet","Neunkirchen",0,-10,1,10,1,6,1,8,3,14,1]
[79,"Houdier","Thierry","Achern",0,-3,1,8,1,3,1,5,3,13,1]
[80,"Koch","Bianca","Rockenhausen",1,4,0,-5,1,3,1,11,3,13,1]
[81,"Ochsenreiter","Fin","Herxheim",1,3,1,6,1,8,0,-4,3,13,1]
[82,"Richter","Denis","Dürenbach",1,6,1,2,0,-7,1,12,3,13,1]
[83,"Wilhelm","Stefan","Neunkirchen",0,-10,1,4,1,11,1,8,3,13,1]
[84,"Walter","Joseph","Aschbach",1,6,1,6,1,4,0,-5,3,11,1]
[85,"Lossert","Alex","Sandhofen",1,2,1,1,0,-3,1,8,3,8,1]
[86,"Schenk","Reiner","Bornheim",1,5,1,6,0,-7,1,4,3,8,1]
[87,"Weiss ","Sébastien","Aschbach",1,4,0,-4,1,2,1,6,3,8,1]
[88,"Bick","Michael","Neunkirchen",0,-5,1,7,1,3,1,1,3,6,1]
[89,"Willer","Jutta","Böbingen",1,5,1,1,1,4,0,-4,3,6,1]
[90,"Steinke","Mathias","Pforzheim",1,4,0,-9,1,3,1,3,3,1,1]
[91,"Schneider","Tim","Bornheim",1,1,1,8,0,-1,0,-4,3,0,2]
[92,"Bühler","Erwin","Brühl",0,-13,1,0,1,4,1,6,3,-3,1]
[93,"Schehr","Sven","Mühlhofen",0,-2,1,3,0,-10,1,7,3,-6,2]
[94,"Bock","Heinz","Eggenstein",1,7,1,5,0,-3,0,-6,3,-14,2]
[95,"Girnstein","Jupp","Weißenthurm",0,-12,0,-2,1,10,1,4,3,-18,2]
[96,"Bock","Walli","Eggenstein",1,7,0,-10,0,-4,0,-6,3,-19,2]
[97,"Heine","Thomas","Eggenstein",1,2,0,-10,1,6,0,-11,3,-28,2]
[98,"Klein","Susanne","Essingen",0,-7,1,1,0,-6,0,-13,3,-30,2]
[99,"Haupenthal","Tobias","Neunkirchen",1,9,0,-4,0,-3,0,-1,3,-31,3]
[100,"Köhler-Sandner","Nicole","Mühlhofen",1,1,0,-12,0,-9,1,5,3,-31,2]
[101,"Niehren","Isabelle","Neunkirchen",0,-8,1,3,0,-4,0,-5,3,-35,3]
[102,"Kalentzi","Michael","Altlußheim",0,-1,1,12,0,-2,1,3,2,12,1]
[103,"Herrmann","Stephan","Kapellen",0,-5,1,13,0,-5,1,8,2,11,1]
[104,"Bühler","Pascal","Brühl",0,-2,1,10,0,-4,1,6,2,10,1]
[105,"Müller","Heiner","Brötzingen",1,8,1,8,0,-4,0,-3,2,9,1]
[106,"Rummel","Rainer","Rastatt",0,-2,1,8,0,-4,1,6,2,8,1]
[107,"Frey","Werner","Rüsselsheim",1,12,0,-5,1,8,0,-8,2,7,1]
[108,"Landes","Torsten","Straubenhardt",0,-1,1,11,0,-7,1,3,2,6,1]
[109,"Becker","Martina","Beiertheim",1,10,1,4,0,-3,0,-6,2,5,1]
[110,"Metenier","Jean-Louis","Aschbach",0,-3,1,4,1,6,0,-2,2,5,1]
[111,"Simon","Michael","Rüsselsheim",1,12,0,-5,1,6,0,-8,2,5,1]
[112,"Sitt","Uwe","Schweighofen",1,9,0,-2,0,-8,1,6,2,5,1]
[113,"Frey","Wolfgang","Mühlhofen",0,-5,0,-3,1,3,1,8,2,3,1]
[114,"Köberle","Gebhard","Ötisheim",0,-4,1,9,1,2,0,-4,2,3,1]
[115,"Geikowski","Gabi","Ötisheim",1,5,1,9,0,-8,0,-4,2,2,1]
[116,"Geis","Philipp","Sandhofen",1,2,0,-1,0,-7,1,8,2,2,1]
[117,"Riedel","Patrick","Brühl",0,-2,0,-6,1,4,1,6,2,2,1]
[118,"Becker","Ludger","Beiertheim",1,10,0,-8,1,5,0,-6,2,1,1]
[119,"Otto","Dirk","Nußloch",1,6,1,6,0,-9,0,-2,2,1,1]
[120,"Garcia","France","Eggenstein",0,-5,1,10,0,-8,1,3,2,0,1]
[121,"Müller","Heidi","Kapellen",1,9,0,-12,0,-5,1,8,2,0,1]
[122,"Müller","Silvia","Queichheim",1,6,0,-1,1,2,0,-7,2,0,1]
[123,"Steinkönig","Gerhard","Mühlhofen",1,4,0,-6,1,6,0,-4,2,0,1]
[124,"Eberhardt","Stefanie","Überherrn",0,-7,1,4,0,-4,1,6,2,-1,1]
[125,"Kaufmann","Jan","Wagshurst",1,3,1,8,0,-8,0,-4,2,-1,1]
[126,"Müller","Uwe","Rüsselsheim",1,4,0,-5,1,8,0,-8,2,-1,1]
[127,"Nuss","Wilko","Mühlhofen",1,4,0,-6,0,-5,1,6,2,-1,1]
[128,"Pelegrino","Lorenzo","Beiertheim",0,-4,1,4,1,5,0,-6,2,-1,1]
[129,"Vohberg","Fabian","Malsch",1,3,1,6,0,-6,0,-4,2,-1,1]
[130,"Arnolds","Johannes","Straubenhardt",0,-10,1,12,0,-7,1,3,2,-2,1]
[131,"Bodin","Herve","Hoerdt",0,-3,0,-9,1,5,1,5,2,-2,1]
[132,"Brouwer","Paul","Mühlhofen",1,3,0,-12,0,-4,1,10,2,-3,1]
[133,"Pollich","Sabiene","Rastatt",1,7,0,-12,0,-4,1,6,2,-3,1]
[134,"Lorig","Astrid","Trier",1,2,0,-5,1,9,0,-10,2,-4,1]
[135,"Rick","Michael","Neunkirchen",0,-8,1,5,1,4,0,-5,2,-4,1]
[136,"Riga","Hans-Jörg","Überherrn",0,-10,1,4,0,-4,1,6,2,-4,1]
[137,"Schön","Ruben","Oppau",1,3,1,2,0,-6,0,-4,2,-5,1]
[138,"Lösch","Francis","Queichheim",1,5,0,-6,1,2,0,-7,2,-6,1]
[139,"Bolz","Gerhard","Schöntal",0,-6,1,6,1,1,0,-8,2,-7,1]
[140,"Simon","Fabian","Essingen",1,10,1,2,0,-6,0,-13,2,-7,1]
[141,"Richtsteig","Eva","Bornheim",0,-12,1,6,1,4,0,-6,2,-8,1]
[142,"Weissert","Peter","Pforzheim",0,-10,0,-4,1,3,1,3,2,-8,1]
[143,"Gomez","Rafael","Brötzingen",0,-4,0,-10,1,1,1,4,2,-9,1]
[144,"Hebel","Norbert","Sandhofen",0,-11,1,1,0,-7,1,8,2,-9,1]
[145,"Schmitt","Monika","Kapellen",0,-12,1,6,1,3,0,-6,2,-9,1]
[146,"Avdalyan","Azat","Pforzheim",0,-10,0,-9,1,4,1,3,2,-12,1]
[147,"Gerber","Annette","Eggenstein",0,-6,0,-3,0,-5,1,4,2,-20,2]
[148,"Kämmle","Ursula","Käfertal",0,-12,0,-1,0,-3,0,-11,2,-26,2]
[149,"Stadler","Peter","Eggenstein",0,-3,0,-5,0,-5,1,4,2,-26,2]
[150,"Keuerleber","Bärbel","Brötzingen",0,-3,0,-10,0,-7,1,4,2,-32,2]
[151,"Oberacker","Jürgen","Eggenstein",0,-6,0,-5,1,3,1,4,2,-40,2]
[152,"Notarrigo","Filippo","Neunkirchen",1,6,0,-4,0,-1,0,-4,1,-3,1]
[153,"Center","Peter","Freckenfeld",1,5,0,-1,0,-4,0,-7,1,-7,1]
[154,"Federkeil","Uwe","Neunkirchen",0,-5,1,4,0,-2,0,-5,1,-8,1]
[155,"Janes","Martin","Neunkirchen",1,5,0,-3,0,-6,0,-4,1,-8,1]
[156,"Bassler","Theo","Bad Dürkheim",1,6,0,-2,0,-5,0,-9,1,-10,1]
[157,"Buß","Achim","Nußloch",1,6,0,-10,0,-4,0,-2,1,-10,1]
[158,"Heine","Annika","Eggenstein",0,-3,0,-2,1,6,0,-11,1,-10,1]
[159,"Kunze","Philipp","Bornheim",0,-9,1,8,0,-5,0,-4,1,-10,1]
[160,"Herrmann","Heiko","Bornheim",1,5,0,-8,0,-3,0,-5,1,-11,1]
[161,"Schulz","Lisa","Überherrn",1,6,0,-10,0,-4,0,-3,1,-11,1]
[162,"Clemens","Ilona","Neunkirchen",0,-6,1,9,0,-7,0,-8,1,-12,1]
[163,"Eberhardt","Timo","Überherrn",0,-11,1,6,0,-4,0,-3,1,-12,1]
[164,"Geikowski","Ralf","Ötisheim",0,-4,1,4,0,-8,0,-4,1,-12,1]
[165,"Kannicht","Andreas","Schöntal",0,-6,0,-3,1,5,0,-8,1,-12,1]
[166,"Mathäß","Harry","Ludwigshafen",0,-2,1,2,0,-8,0,-4,1,-12,1]
[167,"Riga","Jutta","Überherrn",0,-7,0,-9,0,-4,1,6,1,-14,4]
[168,"Velten","Frank","Queichheim",0,-6,0,-8,1,6,0,-6,1,-14,1]
[169,"Leibfried","Marion","Neunkirchen",0,-1,0,-10,0,-3,0,-1,1,-16,2]
[170,"de Rossi","Umberto","Wachenheim",0,-7,0,-3,1,1,0,-8,1,-17,1]
[171,"Otto","Silke","Nußloch",1,3,0,-10,0,-9,0,-2,1,-18,1]
[172,"Ries","Jörg","Neunkirchen",0,-12,0,-6,1,7,0,-8,1,-19,1]
[173,"Kistner","Barbara","Eggenstein",0,-9,0,-10,1,10,0,-13,1,-22,1]
[174,"Klose","Stefan","Brötzingen",1,8,0,-9,0,-7,0,-3,1,-30,2]
[175,"Keuerleber","Rudi","Brötzingen",0,-4,0,-11,0,-7,1,4,1,-42,2]
[176,"Munz","Melanie","Neunkirchen",0,-12,0,-13,0,-10,0,-8,1,-91,3]
[177,"Leicht","Hermann","Etlingenweier",0,-5,0,-1,0,-4,0,0,0,-10,1]
[178,"Rasche","Wolfgang","Etlingenweier",0,-5,0,-9,0,-5,0,0,0,-19,1]
[179,"Clemens","Bernhard","Neunkirchen",0,-4,0,-3,0,-7,0,-8,0,-22,1]
[180,"Dreßler","Klaus","Bad Dürkheim",0,-5,0,-2,0,-7,0,-9,0,-23,1]
[181,"Koch-Gerlach","Iris","Eggenstein",0,-4,0,-10,0,-3,0,-6,0,-23,1]
[182,"Krauß","Karin","Mühlhofen",0,-9,0,-8,0,-6,0,-1,0,-24,1]
[183,"Federkeil","Patrick","Neunkirchen",0,-5,0,-10,0,-5,0,-5,0,-25,1]
[184,"Dietrich","Beate","Bad Dürkheim",0,-5,0,-8,0,-5,0,-9,0,-27,1]
[185,"Fucec","Katharina","Eggenstein",0,-3,0,-10,0,-3,0,-11,0,-27,1]
[186,"Lechler","Günther","Brötzingen",0,-11,0,-9,0,-4,0,-3,0,-27,1]
[187,"Schöfberger","Manfred","Mühlhofen",0,-9,0,-7,0,-11,0,-1,0,-28,1]
[188,"Niehren","Ben ","Eggenstein",0,-8,0,-13,0,-2,0,-8,0,-31,1]
[189,"Pfaff","Elke","Neunkirchen",0,-7,0,-6,0,-10,0,-8,0,-31,1]
[190,"Stadler","Anita","Eggenstein",0,-5,0,-7,0,-8,0,-11,0,-31,1]
[191,"Gomez","Rafael","Brözingen",0,-11,0,-4,0,-8,0,-12,0,-35,1]
[192,"Hauf","Adi","Linkenheim",0,-8,0,-13,0,-8,0,-8,0,-37,1]
[193]
[194]
[195]
[196]
[197]
[198]
[199]
[200]
[201]
[202]
[203]
[204]
[205]
[206]
[207]
[208]
[209]
[210]
[211]
[212]
[213]
[214]
[215]
[216]
[217]
[218]
[219]
[220]
[221]
[222]
[223]
[224]
[225]
[226]
[227]
[228]
[229]
[230]
[231]
[232]
[233]
[234]
[235]
[236]
[237]
[238]
[239]
[240]
[241]
[242]
[243]
[244]
[245]
[246]
[247]
[248]
[249]
[250]
[251]
[252]
[253]
[254]
[255]
[256]
[257]
[258]
[259]
[260]
[261]
[262]
[263]
[264]
[265]
[266]
[267]
[268]
[269]
[270]
[271]
[272]
[273]
[274]
[275]
[276]
[277]
[278]
[279]
[280]
[281]
[282]
[283]
[284]
[285]
[286]
[287]
[288]
[289]
[290]
[291]
[292]
[293]
[294]
[295]
[296]
[297]
[298]
[299]
[300]
[301]
[302]
[303]
[304]
[305]
[306]
[307]
[308]
[309]
[310]
[311]
[312]
[313]
[314]
[315]
[316]
[317]
[318]
[319]
[320]
[321]
[322]
[323]
[324]

{"sheet":"5-6","index":9,"n_rows":108,"n_cols":23,"rows_kept":108,"cut":false,"hidden":false,"merged":[[82,0,82,4],[82,6,82,10],[82,12,82,16],[82,18,82,22],[8,0,8,4],[8,6,8,10],[8,12,8,16],[8,18,8,22],[55,0,55,4],[55,6,55,10],[55,12,55,16],[55,18,55,22],[0,0,0,10],[0,12,0,22],[1,0,1,4],[1,6,1,10],[1,12,1,16],[1,18,1,22]]}
["wer gegen wen",null,null,null,null,null,null,null,null,null,null,null,"wer gegen wen"]
["Runde 1",null,null,null,null,6,"Runde 2",null,null,null,null,null,"Runde 1",null,null,null,null,5,"Runde 2"]
[5,null,":",null,2,null,4,null,":",null,5,null,5,null,":",null,2,null,4,null,":",null,5]
[1,null,":",null,4,null,3,null,":",null,1,null,1,null,":",null,4,null,3,null,":",null,1]
[3,null,":",null,6,null,6,null,":",null,2,null,3,null,":",null,"FL",null,"FL",null,":",null,2]
[]
[]
[]
["Runde 3",null,null,null,null,6,"Runde 4",null,null,null,null,null,"Runde 3",null,null,null,null,5,"Runde 4"]
[5,null,":",null,6,null,6,null,":",null,1,null,5,null,":",null,"FL",null,"FL",null,":",null,1]
[2,null,":",null,1,null,2,null,":",null,4,null,2,null,":",null,1,null,2,null,":",null,4]
[3,null,":",null,4,null,3,null,":",null,5,null,3,null,":",null,4,null,3,null,":",null,5]
[]
[]
[]
[]
[]
[]
[]
[]
[]
[]
[]
[]
[]
[]
[]
[]
[]
[]
[]
[]
[]
[]
[]
[]
[]
[]
[]
[]
[]
[]
[]
[]
[]
[]
[]
[]
[]
[]
[]
[]
[]
[]
[]
["Runde 1 ohne FL",null,null,null,null,null,"Runde 2 ohne FL",null,null,null,null,null,"Runde 1 mit FL",null,null,null,null,null,"Runde 2 mit FL"]
[5,null,":",null,2,null,4,null,":",null,5,null,5,null,":",null,2,null,4,null,":",null,5]
[1,null,":",null,4,null,3,null,":",null,1,null,1,null,":",null,4,null,3,null,":",null,1]
[3,null,":",null,6,null,6,null,":",null,2,null,3,null,":",null,"FL",null,"FL",null,":",null,2]
[null,null,":",null,null,4,null,null,":",null,null,null,null,null,":",null,null,4,null,null,":"]
[null,null,":",null,null,5,null,null,":",null,null,null,null,null,":",null,null,5,null,null,":"]
[null,null,":",null,null,6,null,null,":",null,null,null,null,null,":",null,null,6,null,null,":"]
[null,null,":",null,null,7,null,null,":",null,null,null,null,null,":",null,null,7,null,null,":"]
[null,null,":",null,null,8,null,null,":",null,null,null,null,null,":",null,null,8,null,null,":"]
[null,null,":",null,null,9,null,null,":",null,null,null,null,null,":",null,null,9,null,null,":"]
[null,null,":",null,null,10,null,null,":",null,null,null,null,null,":",null,null,10,null,null,":"]
[null,null,":",null,null,11,null,null,":",null,null,null,null,null,":",null,null,11,null,null,":"]
[null,null,":",null,null,12,null,null,":",null,null,null,null,null,":",null,null,12,null,null,":"]
[null,null,":",null,null,13,null,null,":",null,null,null,null,null,":",null,null,13,null,null,":"]
[null,null,":",null,null,14,null,null,":",null,null,null,null,null,":",null,null,14,null,null,":"]
[null,null,":",null,null,15,null,null,":",null,null,null,null,null,":",null,null,15,null,null,":"]
[null,null,":",null,null,16,null,null,":",null,null,null,null,null,":",null,null,16,null,null,":"]
[null,null,":",null,null,17,null,null,":",null,null,null,null,null,":",null,null,17,null,null,":"]
[null,null,":",null,null,18,null,null,":",null,null,null,null,null,":",null,null,18,null,null,":"]
[null,null,":",null,null,19,null,null,":",null,null,null,null,null,":",null,null,19,null,null,":"]
[null,null,":",null,null,20,null,null,":",null,null,null,null,null,":",null,null,20,null,null,":"]
[null,null,":",null,null,21,null,null,":",null,null,null,null,null,":",null,null,21,null,null,":"]
[null,null,":",null,null,22,null,null,":",null,null,null,null,null,":",null,null,22,null,null,":"]
[null,null,":",null,null,23,null,null,":",null,null,null,null,null,":",null,null,23,null,null,":"]
[null,null,":",null,null,24,null,null,":",null,null,null,null,null,":",null,null,24,null,null,":"]
[null,null,":",null,null,25,null,null,":",null,null,null,null,null,":",null,null,25,null,null,":"]
[]
["Runde 3 ohne FL",null,null,null,null,null,"Runde 4 ohne FL",null,null,null,null,null,"Runde 3 mit FL",null,null,null,null,null,"Runde 4 mit FL"]
[5,null,":",null,6,null,6,null,":",null,1,null,5,null,":",null,"FL",null,"FL",null,":",null,1]
[2,null,":",null,1,null,2,null,":",null,4,null,2,null,":",null,1,null,2,null,":",null,4]
[3,null,":",null,4,null,3,null,":",null,5,null,3,null,":",null,4,null,3,null,":",null,5]
[null,null,":",null,null,4,null,null,":",null,null,null,null,null,":",null,null,4,null,null,":"]
[null,null,":",null,null,5,null,null,":",null,null,null,null,null,":",null,null,5,null,null,":"]
[null,null,":",null,null,6,null,null,":",null,null,null,null,null,":",null,null,6,null,null,":"]
[null,null,":",null,null,7,null,null,":",null,null,null,null,null,":",null,null,7,null,null,":"]
[null,null,":",null,null,8,null,null,":",null,null,null,null,null,":",null,null,8,null,null,":"]
[null,null,":",null,null,9,null,null,":",null,null,null,null,null,":",null,null,9,null,null,":"]
[null,null,":",null,null,10,null,null,":",null,null,null,null,null,":",null,null,10,null,null,":"]
[null,null,":",null,null,11,null,null,":",null,null,null,null,null,":",null,null,11,null,null,":"]
[null,null,":",null,null,12,null,null,":",null,null,null,null,null,":",null,null,12,null,null,":"]
[null,null,":",null,null,13,null,null,":",null,null,null,null,null,":",null,null,13,null,null,":"]
[null,null,":",null,null,14,null,null,":",null,null,null,null,null,":",null,null,14,null,null,":"]
[null,null,":",null,null,15,null,null,":",null,null,null,null,null,":",null,null,15,null,null,":"]
[null,null,":",null,null,16,null,null,":",null,null,null,null,null,":",null,null,16,null,null,":"]
[null,null,":",null,null,17,null,null,":",null,null,null,null,null,":",null,null,17,null,null,":"]
[null,null,":",null,null,18,null,null,":",null,null,null,null,null,":",null,null,18,null,null,":"]
[null,null,":",null,null,19,null,null,":",null,null,null,null,null,":",null,null,19,null,null,":"]
[null,null,":",null,null,20,null,null,":",null,null,null,null,null,":",null,null,20,null,null,":"]
[null,null,":",null,null,21,null,null,":",null,null,null,null,null,":",null,null,21,null,null,":"]
[null,null,":",null,null,22,null,null,":",null,null,null,null,null,":",null,null,22,null,null,":"]
[null,null,":",null,null,23,null,null,":",null,null,null,null,null,":",null,null,23,null,null,":"]
[null,null,":",null,null,24,null,null,":",null,null,null,null,null,":",null,null,24,null,null,":"]
[null,null,":",null,null,25,null,null,":",null,null,null,null,null,":",null,null,25,null,null,":"]

{"sheet":"7-8","index":10,"n_rows":108,"n_cols":23,"rows_kept":108,"cut":false,"hidden":false,"merged":[[55,0,55,4],[55,6,55,10],[55,12,55,16],[55,18,55,22],[82,0,82,4],[82,6,82,10],[82,12,82,16],[82,18,82,22],[6,0,6,4],[6,6,6,10],[6,12,6,16],[6,18,6,22],[7,0,7,4],[7,6,7,10],[7,12,7,16],[7,18,7,22],[0,0,0,10],[0,12,0,22],[1,0,1,4],[1,6,1,10],[1,12,1,16],[1,18,1,22]]}
["wer gegen wen",null,null,null,null,null,null,null,null,null,null,null,"wer gegen wen"]
["Runde 1",null,null,null,null,8,"Runde 2",null,null,null,null,null,"Runde 1",null,null,null,null,7,"Runde 2"]
[2,null,":",null,6,null,1,null,":",null,8,null,2,null,":",null,6,null,1,null,":",null,"FL"]
[4,null,":",null,8,null,3,null,":",null,4,null,4,null,":",null,"FL",null,3,null,":",null,4]
[3,null,":",null,7,null,2,null,":",null,5,null,3,null,":",null,7,null,2,null,":",null,5]
[1,null,":",null,5,null,6,null,":",null,7,null,1,null,":",null,5,null,6,null,":",null,7]
[]
["Runde 3",null,null,null,null,8,"Runde 4",null,null,null,null,null,"Runde 3",null,null,null,null,7,"Runde 4"]
[3,null,":",null,8,null,3,null,":",null,5,null,3,null,":",null,"FL",null,3,null,":",null,5]
[4,null,":",null,1,null,4,null,":",null,6,null,4,null,":",null,1,null,4,null,":",null,6]
[5,null,":",null,6,null,7,null,":",null,8,null,5,null,":",null,6,null,7,null,":",null,"FL"]
[2,null,":",null,7,null,2,null,":",null,1,null,2,null,":",null,7,null,2,null,":",null,1]
[]
[]
[]
[]
[]
[]
[]
[]
[]
[]
[]
[]
[]
[]
[]
[]
[]
[]
[]
[]
[]
[]
[]
[]
[]
[]
[]
[]
[]
[]
[]
[]
[]
[]
[]
[]
[]
[]
[]
[]
[]
[]
[]
["Runde 1 ohne FL",null,null,null,null,null,"Runde 2 ohne FL",null,null,null,null,null,"Runde 1 mit FL",null,null,null,null,null,"Runde 2 mit FL"]
[2,null,":",null,6,null,1,null,":",null,8,null,2,null,":",null,6,null,1,null,":",null,"FL"]
[4,null,":",null,8,null,3,null,":",null,4,null,4,null,":",null,"FL",null,3,null,":",null,4]
[3,null,":",null,7,null,2,null,":",null,5,null,3,null,":",null,7,null,2,null,":",null,5]
[1,null,":",null,5,null,6,null,":",null,7,null,1,null,":",null,5,null,6,null,":",null,7]
[null,null,":",null,null,5,null,null,":",null,null,null,null,null,":",null,null,5,null,null,":"]
[null,null,":",null,null,6,null,null,":",null,null,null,null,null,":",null,null,6,null,null,":"]
[null,null,":",null,null,7,null,null,":",null,null,null,null,null,":",null,null,7,null,null,":"]
[null,null,":",null,null,8,null,null,":",null,null,null,null,null,":",null,null,8,null,null,":"]
[null,null,":",null,null,9,null,null,":",null,null,null,null,null,":",null,null,9,null,null,":"]
[null,null,":",null,null,10,null,null,":",null,null,null,null,null,":",null,null,10,null,null,":"]
[null,null,":",null,null,11,null,null,":",null,null,null,null,null,":",null,null,11,null,null,":"]
[null,null,":",null,null,12,null,null,":",null,null,null,null,null,":",null,null,12,null,null,":"]
[null,null,":",null,null,13,null,null,":",null,null,null,null,null,":",null,null,13,null,null,":"]
[null,null,":",null,null,14,null,null,":",null,null,null,null,null,":",null,null,14,null,null,":"]
[null,null,":",null,null,15,null,null,":",null,null,null,null,null,":",null,null,15,null,null,":"]
[null,null,":",null,null,16,null,null,":",null,null,null,null,null,":",null,null,16,null,null,":"]
[null,null,":",null,null,17,null,null,":",null,null,null,null,null,":",null,null,17,null,null,":"]
[null,null,":",null,null,18,null,null,":",null,null,null,null,null,":",null,null,18,null,null,":"]
[null,null,":",null,null,19,null,null,":",null,null,null,null,null,":",null,null,19,null,null,":"]
[null,null,":",null,null,20,null,null,":",null,null,null,null,null,":",null,null,20,null,null,":"]
[null,null,":",null,null,21,null,null,":",null,null,null,null,null,":",null,null,21,null,null,":"]
[null,null,":",null,null,22,null,null,":",null,null,null,null,null,":",null,null,22,null,null,":"]
[null,null,":",null,null,23,null,null,":",null,null,null,null,null,":",null,null,23,null,null,":"]
[null,null,":",null,null,24,null,null,":",null,null,null,null,null,":",null,null,24,null,null,":"]
[null,null,":",null,null,25,null,null,":",null,null,null,null,null,":",null,null,25,null,null,":"]
[]
["Runde 3 ohne FL",null,null,null,null,null,"Runde 4 ohne FL",null,null,null,null,null,"Runde 3 mit FL",null,null,null,null,null,"Runde 4 mit FL"]
[3,null,":",null,8,null,3,null,":",null,5,null,3,null,":",null,"FL",null,3,null,":",null,5]
[4,null,":",null,1,null,4,null,":",null,6,null,4,null,":",null,1,null,4,null,":",null,6]
[5,null,":",null,6,null,7,null,":",null,8,null,5,null,":",null,6,null,7,null,":",null,"FL"]
[2,null,":",null,7,null,2,null,":",null,1,null,2,null,":",null,7,null,2,null,":",null,1]
[null,null,":",null,null,5,null,null,":",null,null,null,null,null,":",null,null,5,null,null,":"]
[null,null,":",null,null,6,null,null,":",null,null,null,null,null,":",null,null,6,null,null,":"]
[null,null,":",null,null,7,null,null,":",null,null,null,null,null,":",null,null,7,null,null,":"]
[null,null,":",null,null,8,null,null,":",null,null,null,null,null,":",null,null,8,null,null,":"]
[null,null,":",null,null,9,null,null,":",null,null,null,null,null,":",null,null,9,null,null,":"]
[null,null,":",null,null,10,null,null,":",null,null,null,null,null,":",null,null,10,null,null,":"]
[null,null,":",null,null,11,null,null,":",null,null,null,null,null,":",null,null,11,null,null,":"]
[null,null,":",null,null,12,null,null,":",null,null,null,null,null,":",null,null,12,null,null,":"]
[null,null,":",null,null,13,null,null,":",null,null,null,null,null,":",null,null,13,null,null,":"]
[null,null,":",null,null,14,null,null,":",null,null,null,null,null,":",null,null,14,null,null,":"]
[null,null,":",null,null,15,null,null,":",null,null,null,null,null,":",null,null,15,null,null,":"]
[null,null,":",null,null,16,null,null,":",null,null,null,null,null,":",null,null,16,null,null,":"]
[null,null,":",null,null,17,null,null,":",null,null,null,null,null,":",null,null,17,null,null,":"]
[null,null,":",null,null,18,null,null,":",null,null,null,null,null,":",null,null,18,null,null,":"]
[null,null,":",null,null,19,null,null,":",null,null,null,null,null,":",null,null,19,null,null,":"]
[null,null,":",null,null,20,null,null,":",null,null,null,null,null,":",null,null,20,null,null,":"]
[null,null,":",null,null,21,null,null,":",null,null,null,null,null,":",null,null,21,null,null,":"]
[null,null,":",null,null,22,null,null,":",null,null,null,null,null,":",null,null,22,null,null,":"]
[null,null,":",null,null,23,null,null,":",null,null,null,null,null,":",null,null,23,null,null,":"]
[null,null,":",null,null,24,null,null,":",null,null,null,null,null,":",null,null,24,null,null,":"]
[null,null,":",null,null,25,null,null,":",null,null,null,null,null,":",null,null,25,null,null,":"]

{"sheet":"9-10","index":11,"n_rows":108,"n_cols":23,"rows_kept":108,"cut":false,"hidden":false,"merged":[[82,0,82,4],[82,6,82,10],[82,12,82,16],[82,18,82,22],[8,0,8,4],[8,6,8,10],[8,12,8,16],[8,18,8,22],[55,0,55,4],[55,6,55,10],[55,12,55,16],[55,18,55,22],[0,0,0,10],[0,12,0,22],[1,0,1,4],[1,6,1,10],[1,12,1,16],[1,18,1,22]]}
["wer gegen wen",null,null,null,null,null,null,null,null,null,null,null,"wer gegen wen"]
["Runde 1",null,null,null,null,10,"Runde 2",null,null,null,null,null,"Runde 1",null,null,null,null,9,"Runde 2"]
[2,null,":",null,7,null,6,null,":",null,4,null,2,null,":",null,7,null,6,null,":",null,4]
[4,null,":",null,9,null,2,null,":",null,9,null,4,null,":",null,9,null,2,null,":",null,9]
[5,null,":",null,10,null,3,null,":",null,10,null,5,null,":",null,"FL",null,3,null,":",null,"FL"]
[3,null,":",null,8,null,1,null,":",null,5,null,3,null,":",null,8,null,1,null,":",null,5]
[1,null,":",null,6,null,7,null,":",null,8,null,1,null,":",null,6,null,7,null,":",null,8]
[]
["Runde 3",null,null,null,null,10,"Runde 4",null,null,null,null,null,"Runde 3",null,null,null,null,9,"Runde 4"]
[6,null,":",null,5,null,8,null,":",null,9,null,6,null,":",null,5,null,8,null,":",null,9]
[1,null,":",null,7,null,7,null,":",null,10,null,1,null,":",null,7,null,7,null,":",null,"FL"]
[3,null,":",null,9,null,1,null,":",null,4,null,3,null,":",null,9,null,1,null,":",null,4]
[4,null,":",null,10,null,2,null,":",null,5,null,4,null,":",null,"FL",null,2,null,":",null,5]
[2,null,":",null,8,null,6,null,":",null,3,null,2,null,":",null,8,null,6,null,":",null,3]
[]
[]
[]
[]
[]
[]
[]
[]
[]
[]
[]
[]
[]
[]
[]
[]
[]
[]
[]
[]
[]
[]
[]
[]
[]
[]
[]
[]
[]
[]
[]
[]
[]
[]
[]
[]
[]
[]
[]
[]
[]
["Runde 1 ohne FL",null,null,null,null,null,"Runde 2 ohne FL",null,null,null,null,null,"Runde 1 mit FL",null,null,null,null,null,"Runde 2 mit FL"]
[2,null,":",null,7,null,6,null,":",null,4,null,2,null,":",null,7,null,6,null,":",null,4]
[4,null,":",null,9,null,2,null,":",null,9,null,4,null,":",null,9,null,2,null,":",null,9]
[5,null,":",null,10,null,3,null,":",null,10,null,5,null,":",null,"FL",null,3,null,":",null,"FL"]
[3,null,":",null,8,null,1,null,":",null,5,null,3,null,":",null,8,null,1,null,":",null,5]
[1,null,":",null,6,null,7,null,":",null,8,null,1,null,":",null,6,null,7,null,":",null,8]
[null,null,":",null,null,6,null,null,":",null,null,null,null,null,":",null,null,6,null,null,":"]
[null,null,":",null,null,7,null,null,":",null,null,null,null,null,":",null,null,7,null,null,":"]
[null,null,":",null,null,8,null,null,":",null,null,null,null,null,":",null,null,8,null,null,":"]
[null,null,":",null,null,9,null,null,":",null,null,null,null,null,":",null,null,9,null,null,":"]
[null,null,":",null,null,10,null,null,":",null,null,null,null,null,":",null,null,10,null,null,":"]
[null,null,":",null,null,11,null,null,":",null,null,null,null,null,":",null,null,11,null,null,":"]
[null,null,":",null,null,12,null,null,":",null,null,null,null,null,":",null,null,12,null,null,":"]
[null,null,":",null,null,13,null,null,":",null,null,null,null,null,":",null,null,13,null,null,":"]
[null,null,":",null,null,14,null,null,":",null,null,null,null,null,":",null,null,14,null,null,":"]
[null,null,":",null,null,15,null,null,":",null,null,null,null,null,":",null,null,15,null,null,":"]
[null,null,":",null,null,16,null,null,":",null,null,null,null,null,":",null,null,16,null,null,":"]
[null,null,":",null,null,17,null,null,":",null,null,null,null,null,":",null,null,17,null,null,":"]
[null,null,":",null,null,18,null,null,":",null,null,null,null,null,":",null,null,18,null,null,":"]
[null,null,":",null,null,19,null,null,":",null,null,null,null,null,":",null,null,19,null,null,":"]
[null,null,":",null,null,20,null,null,":",null,null,null,null,null,":",null,null,20,null,null,":"]
[null,null,":",null,null,21,null,null,":",null,null,null,null,null,":",null,null,21,null,null,":"]
[null,null,":",null,null,22,null,null,":",null,null,null,null,null,":",null,null,22,null,null,":"]
[null,null,":",null,null,23,null,null,":",null,null,null,null,null,":",null,null,23,null,null,":"]
[null,null,":",null,null,24,null,null,":",null,null,null,null,null,":",null,null,24,null,null,":"]
[null,null,":",null,null,25,null,null,":",null,null,null,null,null,":",null,null,25,null,null,":"]
[]
["Runde 3 ohne FL",null,null,null,null,null,"Runde 4 ohne FL",null,null,null,null,null,"Runde 3 mit FL",null,null,null,null,null,"Runde 4 mit FL"]
[6,null,":",null,5,null,8,null,":",null,9,null,6,null,":",null,5,null,8,null,":",null,9]
[1,null,":",null,7,null,7,null,":",null,10,null,1,null,":",null,7,null,7,null,":",null,"FL"]
[3,null,":",null,9,null,1,null,":",null,4,null,3,null,":",null,9,null,1,null,":",null,4]
[4,null,":",null,10,null,2,null,":",null,5,null,4,null,":",null,"FL",null,2,null,":",null,5]
[2,null,":",null,8,null,6,null,":",null,3,null,2,null,":",null,8,null,6,null,":",null,3]
[null,null,":",null,null,6,null,null,":",null,null,null,null,null,":",null,null,6,null,null,":"]
[null,null,":",null,null,7,null,null,":",null,null,null,null,null,":",null,null,7,null,null,":"]
[null,null,":",null,null,8,null,null,":",null,null,null,null,null,":",null,null,8,null,null,":"]
[null,null,":",null,null,9,null,null,":",null,null,null,null,null,":",null,null,9,null,null,":"]
[null,null,":",null,null,10,null,null,":",null,null,null,null,null,":",null,null,10,null,null,":"]
[null,null,":",null,null,11,null,null,":",null,null,null,null,null,":",null,null,11,null,null,":"]
[null,null,":",null,null,12,null,null,":",null,null,null,null,null,":",null,null,12,null,null,":"]
[null,null,":",null,null,13,null,null,":",null,null,null,null,null,":",null,null,13,null,null,":"]
[null,null,":",null,null,14,null,null,":",null,null,null,null,null,":",null,null,14,null,null,":"]
[null,null,":",null,null,15,null,null,":",null,null,null,null,null,":",null,null,15,null,null,":"]
[null,null,":",null,null,16,null,null,":",null,null,null,null,null,":",null,null,16,null,null,":"]
[null,null,":",null,null,17,null,null,":",null,null,null,null,null,":",null,null,17,null,null,":"]
[null,null,":",null,null,18,null,null,":",null,null,null,null,null,":",null,null,18,null,null,":"]
[null,null,":",null,null,19,null,null,":",null,null,null,null,null,":",null,null,19,null,null,":"]
[null,null,":",null,null,20,null,null,":",null,null,null,null,null,":",null,null,20,null,null,":"]
[null,null,":",null,null,21,null,null,":",null,null,null,null,null,":",null,null,21,null,null,":"]
[null,null,":",null,null,22,null,null,":",null,null,null,null,null,":",null,null,22,null,null,":"]
[null,null,":",null,null,23,null,null,":",null,null,null,null,null,":",null,null,23,null,null,":"]
[null,null,":",null,null,24,null,null,":",null,null,null,null,null,":",null,null,24,null,null,":"]
[null,null,":",null,null,25,null,null,":",null,null,null,null,null,":",null,null,25,null,null,":"]

{"sheet":"11-12","index":12,"n_rows":108,"n_cols":23,"rows_kept":108,"cut":false,"hidden":false,"merged":[[82,0,82,4],[82,6,82,10],[82,12,82,16],[82,18,82,22],[8,0,8,4],[8,6,8,10],[8,12,8,16],[8,18,8,22],[55,0,55,4],[55,6,55,10],[55,12,55,16],[55,18,55,22],[0,0,0,10],[0,12,0,22],[1,0,1,4],[1,6,1,10],[1,12,1,16],[1,18,1,22]]}
["wer gegen wen",null,null,null,null,null,null,null,null,null,null,null,"wer gegen wen"]
["Runde 1",null,null,null,null,12,"Runde 2",null,null,null,null,null,"Runde 1",null,null,null,null,11,"Runde 2"]
[2,null,":",null,8,null,10,null,":",null,3,null,2,null,":",null,8,null,10,null,":",null,3]
[6,null,":",null,12,null,7,null,":",null,12,null,6,null,":",null,"FL",null,7,null,":",null,"FL"]
[5,null,":",null,11,null,6,null,":",null,11,null,5,null,":",null,11,null,6,null,":",null,11]
[1,null,":",null,7,null,9,null,":",null,1,null,1,null,":",null,7,null,9,null,":",null,1]
[4,null,":",null,10,null,4,null,":",null,8,null,4,null,":",null,10,null,4,null,":",null,8]
[3,null,":",null,9,null,2,null,":",null,5,null,3,null,":",null,9,null,2,null,":",null,5]
["Runde 3",null,null,null,null,12,"Runde 4",null,null,null,null,null,"Runde 3",null,null,null,null,11,"Runde 4"]
[8,null,":",null,10,null,11,null,":",null,3,null,8,null,":",null,10,null,11,null,":",null,3]
[4,null,":",null,6,null,4,null,":",null,9,null,4,null,":",null,6,null,4,null,":",null,9]
[2,null,":",null,12,null,2,null,":",null,7,null,2,null,":",null,"FL",null,2,null,":",null,7]
[7,null,":",null,9,null,10,null,":",null,6,null,7,null,":",null,9,null,10,null,":",null,6]
[5,null,":",null,3,null,5,null,":",null,8,null,5,null,":",null,3,null,5,null,":",null,8]
[1,null,":",null,11,null,1,null,":",null,12,null,1,null,":",null,11,null,1,null,":",null,"FL"]
[]
[]
[]
[]
[]
[]
[]
[]
[]
[]
[]
[]
[]
[]
[]
[]
[]
[]
[]
[]
[]
[]
[]
[]
[]
[]
[]
[]
[]
[]
[]
[]
[]
[]
[]
[]
[]
[]
[]
[]
["Runde 1 ohne FL",null,null,null,null,null,"Runde 2 ohne FL",null,null,null,null,null,"Runde 1 mit FL",null,null,null,null,null,"Runde 2 mit FL"]
[2,null,":",null,8,null,10,null,":",null,3,null,2,null,":",null,8,null,10,null,":",null,3]
[6,null,":",null,12,null,7,null,":",null,12,null,6,null,":",null,"FL",null,7,null,":",null,"FL"]
[5,null,":",null,11,null,6,null,":",null,11,null,5,null,":",null,11,null,6,null,":",null,11]
[1,null,":",null,7,null,9,null,":",null,1,null,1,null,":",null,7,null,9,null,":",null,1]
[4,null,":",null,10,null,4,null,":",null,8,null,4,null,":",null,10,null,4,null,":",null,8]
[3,null,":",null,9,null,2,null,":",null,5,null,3,null,":",null,9,null,2,null,":",null,5]
[null,null,":",null,null,7,null,null,":",null,null,null,null,null,":",null,null,7,null,null,":"]
[null,null,":",null,null,8,null,null,":",null,null,null,null,null,":",null,null,8,null,null,":"]
[null,null,":",null,null,9,null,null,":",null,null,null,null,null,":",null,null,9,null,null,":"]
[null,null,":",null,null,10,null,null,":",null,null,null,null,null,":",null,null,10,null,null,":"]
[null,null,":",null,null,11,null,null,":",null,null,null,null,null,":",null,null,11,null,null,":"]
[null,null,":",null,null,12,null,null,":",null,null,null,null,null,":",null,null,12,null,null,":"]
[null,null,":",null,null,13,null,null,":",null,null,null,null,null,":",null,null,13,null,null,":"]
[null,null,":",null,null,14,null,null,":",null,null,null,null,null,":",null,null,14,null,null,":"]
[null,null,":",null,null,15,null,null,":",null,null,null,null,null,":",null,null,15,null,null,":"]
[null,null,":",null,null,16,null,null,":",null,null,null,null,null,":",null,null,16,null,null,":"]
[null,null,":",null,null,17,null,null,":",null,null,null,null,null,":",null,null,17,null,null,":"]
[null,null,":",null,null,18,null,null,":",null,null,null,null,null,":",null,null,18,null,null,":"]
[null,null,":",null,null,19,null,null,":",null,null,null,null,null,":",null,null,19,null,null,":"]
[null,null,":",null,null,20,null,null,":",null,null,null,null,null,":",null,null,20,null,null,":"]
[null,null,":",null,null,21,null,null,":",null,null,null,null,null,":",null,null,21,null,null,":"]
[null,null,":",null,null,22,null,null,":",null,null,null,null,null,":",null,null,22,null,null,":"]
[null,null,":",null,null,23,null,null,":",null,null,null,null,null,":",null,null,23,null,null,":"]
[null,null,":",null,null,24,null,null,":",null,null,null,null,null,":",null,null,24,null,null,":"]
[null,null,":",null,null,25,null,null,":",null,null,null,null,null,":",null,null,25,null,null,":"]
[]
["Runde 3 ohne FL",null,null,null,null,null,"Runde 4 ohne FL",null,null,null,null,null,"Runde 3 mit FL",null,null,null,null,null,"Runde 4 mit FL"]
[8,null,":",null,10,null,11,null,":",null,3,null,8,null,":",null,10,null,11,null,":",null,3]
[4,null,":",null,6,null,4,null,":",null,9,null,4,null,":",null,6,null,4,null,":",null,9]
[2,null,":",null,12,null,2,null,":",null,7,null,2,null,":",null,"FL",null,2,null,":",null,7]
[7,null,":",null,9,null,10,null,":",null,6,null,7,null,":",null,9,null,10,null,":",null,6]
[5,null,":",null,3,null,5,null,":",null,8,null,5,null,":",null,3,null,5,null,":",null,8]
[1,null,":",null,11,null,1,null,":",null,12,null,1,null,":",null,11,null,1,null,":",null,"FL"]
[null,null,":",null,null,7,null,null,":",null,null,null,null,null,":",null,null,7,null,null,":"]
[null,null,":",null,null,8,null,null,":",null,null,null,null,null,":",null,null,8,null,null,":"]
[null,null,":",null,null,9,null,null,":",null,null,null,null,null,":",null,null,9,null,null,":"]
[null,null,":",null,null,10,null,null,":",null,null,null,null,null,":",null,null,10,null,null,":"]
[null,null,":",null,null,11,null,null,":",null,null,null,null,null,":",null,null,11,null,null,":"]
[null,null,":",null,null,12,null,null,":",null,null,null,null,null,":",null,null,12,null,null,":"]
[null,null,":",null,null,13,null,null,":",null,null,null,null,null,":",null,null,13,null,null,":"]
[null,null,":",null,null,14,null,null,":",null,null,null,null,null,":",null,null,14,null,null,":"]
[null,null,":",null,null,15,null,null,":",null,null,null,null,null,":",null,null,15,null,null,":"]
[null,null,":",null,null,16,null,null,":",null,null,null,null,null,":",null,null,16,null,null,":"]
[null,null,":",null,null,17,null,null,":",null,null,null,null,null,":",null,null,17,null,null,":"]
[null,null,":",null,null,18,null,null,":",null,null,null,null,null,":",null,null,18,null,null,":"]
[null,null,":",null,null,19,null,null,":",null,null,null,null,null,":",null,null,19,null,null,":"]
[null,null,":",null,null,20,null,null,":",null,null,null,null,null,":",null,null,20,null,null,":"]
[null,null,":",null,null,21,null,null,":",null,null,null,null,null,":",null,null,21,null,null,":"]
[null,null,":",null,null,22,null,null,":",null,null,null,null,null,":",null,null,22,null,null,":"]
[null,null,":",null,null,23,null,null,":",null,null,null,null,null,":",null,null,23,null,null,":"]
[null,null,":",null,null,24,null,null,":",null,null,null,null,null,":",null,null,24,null,null,":"]
[null,null,":",null,null,25,null,null,":",null,null,null,null,null,":",null,null,25,null,null,":"]

{"sheet":"13-14","index":13,"n_rows":108,"n_cols":23,"rows_kept":108,"cut":false,"hidden":false,"merged":[[82,0,82,4],[82,6,82,10],[82,12,82,16],[82,18,82,22],[9,0,9,4],[9,6,9,10],[9,12,9,16],[9,18,9,22],[55,0,55,4],[55,6,55,10],[55,12,55,16],[55,18,55,22],[0,0,0,10],[0,12,0,22],[1,0,1,4],[1,6,1,10],[1,12,1,16],[1,18,1,22]]}
["wer gegen wen",null,null,null,null,null,null,null,null,null,null,null,"wer gegen wen"]
["Runde 1",null,null,null,null,14,"Runde 2",null,null,null,null,null,"Runde 1",null,null,null,null,13,"Runde 2"]
[7,null,":",null,14,null,3,null,":",null,7,null,7,null,":",null,"FL",null,3,null,":",null,7]
[4,null,":",null,11,null,14,null,":",null,4,null,4,null,":",null,11,null,"FL",null,":",null,4]
[3,null,":",null,10,null,13,null,":",null,10,null,3,null,":",null,10,null,13,null,":",null,10]
[6,null,":",null,13,null,2,null,":",null,6,null,6,null,":",null,13,null,2,null,":",null,6]
[5,null,":",null,12,null,1,null,":",null,5,null,5,null,":",null,12,null,1,null,":",null,5]
[1,null,":",null,8,null,11,null,":",null,8,null,1,null,":",null,8,null,11,null,":",null,8]
[2,null,":",null,9,null,12,null,":",null,9,null,2,null,":",null,9,null,12,null,":",null,9]
["Runde 3",null,null,null,null,14,"Runde 4",null,null,null,null,null,"Runde 3",null,null,null,null,13,"Runde 4"]
[1,null,":",null,10,null,10,null,":",null,2,null,1,null,":",null,10,null,10,null,":",null,2]
[13,null,":",null,8,null,8,null,":",null,6,null,13,null,":",null,8,null,8,null,":",null,6]
[2,null,":",null,11,null,11,null,":",null,1,null,2,null,":",null,11,null,11,null,":",null,1]
[5,null,":",null,7,null,14,null,":",null,5,null,5,null,":",null,7,null,"FL",null,":",null,5]
[4,null,":",null,6,null,13,null,":",null,3,null,4,null,":",null,6,null,13,null,":",null,3]
[14,null,":",null,9,null,9,null,":",null,7,null,"FL",null,":",null,9,null,9,null,":",null,7]
[3,null,":",null,12,null,12,null,":",null,4,null,3,null,":",null,12,null,12,null,":",null,4]
[]
[]
[]
[]
[]
[]
[]
[]
[]
[]
[]
[]
[]
[]
[]
[]
[]
[]
[]
[]
[]
[]
[]
[]
[]
[]
[]
[]
[]
[]
[]
[]
[]
[]
[]
[]
[]
[]
["Runde 1 ohne FL",null,null,null,null,null,"Runde 2 ohne FL",null,null,null,null,null,"Runde 1 mit FL",null,null,null,null,null,"Runde 2 mit FL"]
[7,null,":",null,14,null,3,null,":",null,7,null,7,null,":",null,"FL",null,3,null,":",null,7]
[4,null,":",null,11,null,14,null,":",null,4,null,4,null,":",null,11,null,"FL",null,":",null,4]
[3,null,":",null,10,null,13,null,":",null,10,null,3,null,":",null,10,null,13,null,":",null,10]
[6,null,":",null,13,null,2,null,":",null,6,null,6,null,":",null,13,null,2,null,":",null,6]
[5,null,":",null,12,null,1,null,":",null,5,null,5,null,":",null,12,null,1,null,":",null,5]
[1,null,":",null,8,null,11,null,":",null,8,null,1,null,":",null,8,null,11,null,":",null,8]
[2,null,":",null,9,null,12,null,":",null,9,null,2,null,":",null,9,null,12,null,":",null,9]
[null,null,":",null,null,8,null,null,":",null,null,null,null,null,":",null,null,8,null,null,":"]
[null,null,":",null,null,9,null,null,":",null,null,null,null,null,":",null,null,9,null,null,":"]
[null,null,":",null,null,10,null,null,":",null,null,null,null,null,":",null,null,10,null,null,":"]
[null,null,":",null,null,11,null,null,":",null,null,null,null,null,":",null,null,11,null,null,":"]
[null,null,":",null,null,12,null,null,":",null,null,null,null,null,":",null,null,12,null,null,":"]
[null,null,":",null,null,13,null,null,":",null,null,null,null,null,":",null,null,13,null,null,":"]
[null,null,":",null,null,14,null,null,":",null,null,null,null,null,":",null,null,14,null,null,":"]
[null,null,":",null,null,15,null,null,":",null,null,null,null,null,":",null,null,15,null,null,":"]
[null,null,":",null,null,16,null,null,":",null,null,null,null,null,":",null,null,16,null,null,":"]
[null,null,":",null,null,17,null,null,":",null,null,null,null,null,":",null,null,17,null,null,":"]
[null,null,":",null,null,18,null,null,":",null,null,null,null,null,":",null,null,18,null,null,":"]
[null,null,":",null,null,19,null,null,":",null,null,null,null,null,":",null,null,19,null,null,":"]
[null,null,":",null,null,20,null,null,":",null,null,null,null,null,":",null,null,20,null,null,":"]
[null,null,":",null,null,21,null,null,":",null,null,null,null,null,":",null,null,21,null,null,":"]
[null,null,":",null,null,22,null,null,":",null,null,null,null,null,":",null,null,22,null,null,":"]
[null,null,":",null,null,23,null,null,":",null,null,null,null,null,":",null,null,23,null,null,":"]
[null,null,":",null,null,24,null,null,":",null,null,null,null,null,":",null,null,24,null,null,":"]
[null,null,":",null,null,25,null,null,":",null,null,null,null,null,":",null,null,25,null,null,":"]
[]
["Runde 3 ohne FL",null,null,null,null,null,"Runde 4 ohne FL",null,null,null,null,null,"Runde 3 mit FL",null,null,null,null,null,"Runde 4 mit FL"]
[1,null,":",null,10,null,10,null,":",null,2,null,1,null,":",null,10,null,10,null,":",null,2]
[13,null,":",null,8,null,8,null,":",null,6,null,13,null,":",null,8,null,8,null,":",null,6]
[2,null,":",null,11,null,11,null,":",null,1,null,2,null,":",null,11,null,11,null,":",null,1]
[5,null,":",null,7,null,14,null,":",null,5,null,5,null,":",null,7,null,"FL",null,":",null,5]
[4,null,":",null,6,null,13,null,":",null,3,null,4,null,":",null,6,null,13,null,":",null,3]
[14,null,":",null,9,null,9,null,":",null,7,null,"FL",null,":",null,9,null,9,null,":",null,7]
[3,null,":",null,12,null,12,null,":",null,4,null,3,null,":",null,12,null,12,null,":",null,4]
[null,null,":",null,null,8,null,null,":",null,null,null,null,null,":",null,null,8,null,null,":"]
[null,null,":",null,null,9,null,null,":",null,null,null,null,null,":",null,null,9,null,null,":"]
[null,null,":",null,null,10,null,null,":",null,null,null,null,null,":",null,null,10,null,null,":"]
[null,null,":",null,null,11,null,null,":",null,null,null,null,null,":",null,null,11,null,null,":"]
[null,null,":",null,null,12,null,null,":",null,null,null,null,null,":",null,null,12,null,null,":"]
[null,null,":",null,null,13,null,null,":",null,null,null,null,null,":",null,null,13,null,null,":"]
[null,null,":",null,null,14,null,null,":",null,null,null,null,null,":",null,null,14,null,null,":"]
[null,null,":",null,null,15,null,null,":",null,null,null,null,null,":",null,null,15,null,null,":"]
[null,null,":",null,null,16,null,null,":",null,null,null,null,null,":",null,null,16,null,null,":"]
[null,null,":",null,null,17,null,null,":",null,null,null,null,null,":",null,null,17,null,null,":"]
[null,null,":",null,null,18,null,null,":",null,null,null,null,null,":",null,null,18,null,null,":"]
[null,null,":",null,null,19,null,null,":",null,null,null,null,null,":",null,null,19,null,null,":"]
[null,null,":",null,null,20,null,null,":",null,null,null,null,null,":",null,null,20,null,null,":"]
[null,null,":",null,null,21,null,null,":",null,null,null,null,null,":",null,null,21,null,null,":"]
[null,null,":",null,null,22,null,null,":",null,null,null,null,null,":",null,null,22,null,null,":"]
[null,null,":",null,null,23,null,null,":",null,null,null,null,null,":",null,null,23,null,null,":"]
[null,null,":",null,null,24,null,null,":",null,null,null,null,null,":",null,null,24,null,null,":"]
[null,null,":",null,null,25,null,null,":",null,null,null,null,null,":",null,null,25,null,null,":"]

{"sheet":"15-16","index":14,"n_rows":108,"n_cols":23,"rows_kept":108,"cut":false,"hidden":false,"merged":[[82,0,82,4],[82,6,82,10],[82,12,82,16],[82,18,82,22],[10,0,10,4],[10,6,10,10],[10,12,10,16],[10,18,10,22],[55,0,55,4],[55,6,55,10],[55,12,55,16],[55,18,55,22],[0,0,0,10],[0,12,0,22],[1,0,1,4],[1,6,1,10],[1,12,1,16],[1,18,1,22]]}
["wer gegen wen",null,null,null,null,null,null,null,null,null,null,null,"wer gegen wen"]
["Runde 1",null,null,null,null,16,"Runde 2",null,null,null,null,null,"Runde 1",null,null,null,null,15,"Runde 2"]
[11,null,":",null,6,null,9,null,":",null,4,null,11,null,":",null,6,null,9,null,":",null,4]
[15,null,":",null,2,null,13,null,":",null,15,null,15,null,":",null,2,null,13,null,":",null,15]
[9,null,":",null,8,null,7,null,":",null,6,null,9,null,":",null,8,null,7,null,":",null,6]
[13,null,":",null,4,null,11,null,":",null,2,null,13,null,":",null,4,null,11,null,":",null,2]
[3,null,":",null,14,null,1,null,":",null,12,null,3,null,":",null,14,null,1,null,":",null,12]
[5,null,":",null,12,null,3,null,":",null,10,null,5,null,":",null,12,null,3,null,":",null,10]
[7,null,":",null,10,null,5,null,":",null,8,null,7,null,":",null,10,null,5,null,":",null,8]
[1,null,":",null,16,null,16,null,":",null,14,null,1,null,":",null,"FL",null,"FL",null,":",null,14]
["Runde 3",null,null,null,null,16,"Runde 4",null,null,null,null,null,"Runde 3",null,null,null,null,15,"Runde 4"]
[1,null,":",null,8,null,16,null,":",null,6,null,1,null,":",null,8,null,"FL",null,":",null,6]
[16,null,":",null,10,null,14,null,":",null,8,null,"FL",null,":",null,10,null,14,null,":",null,8]
[14,null,":",null,12,null,12,null,":",null,10,null,14,null,":",null,12,null,12,null,":",null,10]
[3,null,":",null,6,null,1,null,":",null,4,null,3,null,":",null,6,null,1,null,":",null,4]
[7,null,":",null,2,null,5,null,":",null,15,null,7,null,":",null,2,null,5,null,":",null,15]
[9,null,":",null,15,null,7,null,":",null,13,null,9,null,":",null,15,null,7,null,":",null,13]
[11,null,":",null,13,null,9,null,":",null,11,null,11,null,":",null,13,null,9,null,":",null,11]
[5,null,":",null,4,null,3,null,":",null,2,null,5,null,":",null,4,null,3,null,":",null,2]
[]
[]
[]
[]
[]
[]
[]
[]
[]
[]
[]
[]
[]
[]
[]
[]
[]
[]
[]
[]
[]
[]
[]
[]
[]
[]
[]
[]
[]
[]
[]
[]
[]
[]
[]
[]
["Runde 1 ohne FL",null,null,null,null,null,"Runde 2 ohne FL",null,null,null,null,null,"Runde 1 mit FL",null,null,null,null,null,"Runde 2 mit FL"]
[11,null,":",null,6,null,9,null,":",null,4,null,11,null,":",null,6,null,9,null,":",null,4]
[15,null,":",null,2,null,13,null,":",null,15,null,15,null,":",null,2,null,13,null,":",null,15]
[9,null,":",null,8,null,7,null,":",null,6,null,9,null,":",null,8,null,7,null,":",null,6]
[13,null,":",null,4,null,11,null,":",null,2,null,13,null,":",null,4,null,11,null,":",null,2]
[3,null,":",null,14,null,1,null,":",null,12,null,3,null,":",null,14,null,1,null,":",null,12]
[5,null,":",null,12,null,3,null,":",null,10,null,5,null,":",null,12,null,3,null,":",null,10]
[7,null,":",null,10,null,5,null,":",null,8,null,7,null,":",null,10,null,5,null,":",null,8]
[1,null,":",null,16,null,16,null,":",null,14,null,1,null,":",null,"FL",null,"FL",null,":",null,14]
[null,null,":",null,null,9,null,null,":",null,null,null,null,null,":",null,null,9,null,null,":"]
[null,null,":",null,null,10,null,null,":",null,null,null,null,null,":",null,null,10,null,null,":"]
[null,null,":",null,null,11,null,null,":",null,null,null,null,null,":",null,null,11,null,null,":"]
[null,null,":",null,null,12,null,null,":",null,null,null,null,null,":",null,null,12,null,null,":"]
[null,null,":",null,null,13,null,null,":",null,null,null,null,null,":",null,null,13,null,null,":"]
[null,null,":",null,null,14,null,null,":",null,null,null,null,null,":",null,null,14,null,null,":"]
[null,null,":",null,null,15,null,null,":",null,null,null,null,null,":",null,null,15,null,null,":"]
[null,null,":",null,null,16,null,null,":",null,null,null,null,null,":",null,null,16,null,null,":"]
[null,null,":",null,null,17,null,null,":",null,null,null,null,null,":",null,null,17,null,null,":"]
[null,null,":",null,null,18,null,null,":",null,null,null,null,null,":",null,null,18,null,null,":"]
[null,null,":",null,null,19,null,null,":",null,null,null,null,null,":",null,null,19,null,null,":"]
[null,null,":",null,null,20,null,null,":",null,null,null,null,null,":",null,null,20,null,null,":"]
[null,null,":",null,null,21,null,null,":",null,null,null,null,null,":",null,null,21,null,null,":"]
[null,null,":",null,null,22,null,null,":",null,null,null,null,null,":",null,null,22,null,null,":"]
[null,null,":",null,null,23,null,null,":",null,null,null,null,null,":",null,null,23,null,null,":"]
[null,null,":",null,null,24,null,null,":",null,null,null,null,null,":",null,null,24,null,null,":"]
[null,null,":",null,null,25,null,null,":",null,null,null,null,null,":",null,null,25,null,null,":"]
[]
["Runde 3 ohne FL",null,null,null,null,null,"Runde 4 ohne FL",null,null,null,null,null,"Runde 3 mit FL",null,null,null,null,null,"Runde 4 mit FL"]
[1,null,":",null,8,null,16,null,":",null,6,null,1,null,":",null,8,null,"FL",null,":",null,6]
[16,null,":",null,10,null,14,null,":",null,8,null,"FL",null,":",null,10,null,14,null,":",null,8]
[14,null,":",null,12,null,12,null,":",null,10,null,14,null,":",null,12,null,12,null,":",null,10]
[3,null,":",null,6,null,1,null,":",null,4,null,3,null,":",null,6,null,1,null,":",null,4]
[7,null,":",null,2,null,5,null,":",null,15,null,7,null,":",null,2,null,5,null,":",null,15]
[9,null,":",null,15,null,7,null,":",null,13,null,9,null,":",null,15,null,7,null,":",null,13]
[11,null,":",null,13,null,9,null,":",null,11,null,11,null,":",null,13,null,9,null,":",null,11]
[5,null,":",null,4,null,3,null,":",null,2,null,5,null,":",null,4,null,3,null,":",null,2]
[null,null,":",null,null,9,null,null,":",null,null,null,null,null,":",null,null,9,null,null,":"]
[null,null,":",null,null,10,null,null,":",null,null,null,null,null,":",null,null,10,null,null,":"]
[null,null,":",null,null,11,null,null,":",null,null,null,null,null,":",null,null,11,null,null,":"]
[null,null,":",null,null,12,null,null,":",null,null,null,null,null,":",null,null,12,null,null,":"]
[null,null,":",null,null,13,null,null,":",null,null,null,null,null,":",null,null,13,null,null,":"]
[null,null,":",null,null,14,null,null,":",null,null,null,null,null,":",null,null,14,null,null,":"]
[null,null,":",null,null,15,null,null,":",null,null,null,null,null,":",null,null,15,null,null,":"]
[null,null,":",null,null,16,null,null,":",null,null,null,null,null,":",null,null,16,null,null,":"]
[null,null,":",null,null,17,null,null,":",null,null,null,null,null,":",null,null,17,null,null,":"]
[null,null,":",null,null,18,null,null,":",null,null,null,null,null,":",null,null,18,null,null,":"]
[null,null,":",null,null,19,null,null,":",null,null,null,null,null,":",null,null,19,null,null,":"]
[null,null,":",null,null,20,null,null,":",null,null,null,null,null,":",null,null,20,null,null,":"]
[null,null,":",null,null,21,null,null,":",null,null,null,null,null,":",null,null,21,null,null,":"]
[null,null,":",null,null,22,null,null,":",null,null,null,null,null,":",null,null,22,null,null,":"]
[null,null,":",null,null,23,null,null,":",null,null,null,null,null,":",null,null,23,null,null,":"]
[null,null,":",null,null,24,null,null,":",null,null,null,null,null,":",null,null,24,null,null,":"]
[null,null,":",null,null,25,null,null,":",null,null,null,null,null,":",null,null,25,null,null,":"]

{"sheet":"17-18","index":15,"n_rows":108,"n_cols":23,"rows_kept":108,"cut":false,"hidden":false,"merged":[[82,0,82,4],[82,6,82,10],[82,12,82,16],[82,18,82,22],[11,0,11,4],[11,6,11,10],[11,12,11,16],[11,18,11,22],[55,0,55,4],[55,6,55,10],[55,12,55,16],[55,18,55,22],[0,0,0,10],[0,12,0,22],[1,0,1,4],[1,6,1,10],[1,12,1,16],[1,18,1,22]]}
["wer gegen wen",null,null,null,null,null,null,null,null,null,null,null,"wer gegen wen"]
["Runde 1",null,null,null,null,18,"Runde 2",null,null,null,null,null,"Runde 1",null,null,null,null,17,"Runde 2"]
[15,null,":",null,4,null,13,null,":",null,2,null,15,null,":",null,4,null,13,null,":",null,2]
[9,null,":",null,10,null,7,null,":",null,8,null,9,null,":",null,10,null,7,null,":",null,8]
[5,null,":",null,14,null,3,null,":",null,12,null,5,null,":",null,14,null,3,null,":",null,12]
[13,null,":",null,6,null,11,null,":",null,4,null,13,null,":",null,6,null,11,null,":",null,4]
[7,null,":",null,12,null,5,null,":",null,10,null,7,null,":",null,12,null,5,null,":",null,10]
[17,null,":",null,2,null,15,null,":",null,17,null,17,null,":",null,2,null,15,null,":",null,17]
[1,null,":",null,18,null,18,null,":",null,16,null,1,null,":",null,"FL",null,"FL",null,":",null,16]
[3,null,":",null,16,null,1,null,":",null,14,null,3,null,":",null,16,null,1,null,":",null,14]
[11,null,":",null,8,null,9,null,":",null,6,null,11,null,":",null,8,null,9,null,":",null,6]
["Runde 3",null,null,null,null,18,"Runde 4",null,null,null,null,null,"Runde 3",null,null,null,null,17,"Runde 4"]
[9,null,":",null,2,null,7,null,":",null,17,null,9,null,":",null,2,null,7,null,":",null,17]
[3,null,":",null,8,null,1,null,":",null,6,null,3,null,":",null,8,null,1,null,":",null,6]
[7,null,":",null,4,null,5,null,":",null,2,null,7,null,":",null,4,null,5,null,":",null,2]
[13,null,":",null,15,null,11,null,":",null,13,null,13,null,":",null,15,null,11,null,":",null,13]
[18,null,":",null,12,null,16,null,":",null,10,null,"FL",null,":",null,12,null,16,null,":",null,10]
[5,null,":",null,6,null,3,null,":",null,4,null,5,null,":",null,6,null,3,null,":",null,4]
[11,null,":",null,17,null,9,null,":",null,15,null,11,null,":",null,17,null,9,null,":",null,15]
[16,null,":",null,14,null,14,null,":",null,12,null,16,null,":",null,14,null,14,null,":",null,12]
[1,null,":",null,10,null,18,null,":",null,8,null,1,null,":",null,10,null,"FL",null,":",null,8]
[]
[]
[]
[]
[]
[]
[]
[]
[]
[]
[]
[]
[]
[]
[]
[]
[]
[]
[]
[]
[]
[]
[]
[]
[]
[]
[]
[]
[]
[]
[]
[]
[]
[]
["Runde 1 ohne FL",null,null,null,null,null,"Runde 2 ohne FL",null,null,null,null,null,"Runde 1 mit FL",null,null,null,null,null,"Runde 2 mit FL"]
[15,null,":",null,4,null,13,null,":",null,2,null,15,null,":",null,4,null,13,null,":",null,2]
[9,null,":",null,10,null,7,null,":",null,8,null,9,null,":",null,10,null,7,null,":",null,8]
[5,null,":",null,14,null,3,null,":",null,12,null,5,null,":",null,14,null,3,null,":",null,12]
[13,null,":",null,6,null,11,null,":",null,4,null,13,null,":",null,6,null,11,null,":",null,4]
[7,null,":",null,12,null,5,null,":",null,10,null,7,null,":",null,12,null,5,null,":",null,10]
[17,null,":",null,2,null,15,null,":",null,17,null,17,null,":",null,2,null,15,null,":",null,17]
[1,null,":",null,18,null,18,null,":",null,16,null,1,null,":",null,"FL",null,"FL",null,":",null,16]
[3,null,":",null,16,null,1,null,":",null,14,null,3,null,":",null,16,null,1,null,":",null,14]
[11,null,":",null,8,null,9,null,":",null,6,null,11,null,":",null,8,null,9,null,":",null,6]
[null,null,":",null,null,10,null,null,":",null,null,null,null,null,":",null,null,10,null,null,":"]
[null,null,":",null,null,11,null,null,":",null,null,null,null,null,":",null,null,11,null,null,":"]
[null,null,":",null,null,12,null,null,":",null,null,null,null,null,":",null,null,12,null,null,":"]
[null,null,":",null,null,13,null,null,":",null,null,null,null,null,":",null,null,13,null,null,":"]
[null,null,":",null,null,14,null,null,":",null,null,null,null,null,":",null,null,14,null,null,":"]
[null,null,":",null,null,15,null,null,":",null,null,null,null,null,":",null,null,15,null,null,":"]
[null,null,":",null,null,16,null,null,":",null,null,null,null,null,":",null,null,16,null,null,":"]
[null,null,":",null,null,17,null,null,":",null,null,null,null,null,":",null,null,17,null,null,":"]
[null,null,":",null,null,18,null,null,":",null,null,null,null,null,":",null,null,18,null,null,":"]
[null,null,":",null,null,19,null,null,":",null,null,null,null,null,":",null,null,19,null,null,":"]
[null,null,":",null,null,20,null,null,":",null,null,null,null,null,":",null,null,20,null,null,":"]
[null,null,":",null,null,21,null,null,":",null,null,null,null,null,":",null,null,21,null,null,":"]
[null,null,":",null,null,22,null,null,":",null,null,null,null,null,":",null,null,22,null,null,":"]
[null,null,":",null,null,23,null,null,":",null,null,null,null,null,":",null,null,23,null,null,":"]
[null,null,":",null,null,24,null,null,":",null,null,null,null,null,":",null,null,24,null,null,":"]
[null,null,":",null,null,25,null,null,":",null,null,null,null,null,":",null,null,25,null,null,":"]
[]
["Runde 3 ohne FL",null,null,null,null,null,"Runde 4 ohne FL",null,null,null,null,null,"Runde 3 mit FL",null,null,null,null,null,"Runde 4 mit FL"]
[9,null,":",null,2,null,7,null,":",null,17,null,9,null,":",null,2,null,7,null,":",null,17]
[3,null,":",null,8,null,1,null,":",null,6,null,3,null,":",null,8,null,1,null,":",null,6]
[7,null,":",null,4,null,5,null,":",null,2,null,7,null,":",null,4,null,5,null,":",null,2]
[13,null,":",null,15,null,11,null,":",null,13,null,13,null,":",null,15,null,11,null,":",null,13]
[18,null,":",null,12,null,16,null,":",null,10,null,"FL",null,":",null,12,null,16,null,":",null,10]
[5,null,":",null,6,null,3,null,":",null,4,null,5,null,":",null,6,null,3,null,":",null,4]
[11,null,":",null,17,null,9,null,":",null,15,null,11,null,":",null,17,null,9,null,":",null,15]
[16,null,":",null,14,null,14,null,":",null,12,null,16,null,":",null,14,null,14,null,":",null,12]
[1,null,":",null,10,null,18,null,":",null,8,null,1,null,":",null,10,null,"FL",null,":",null,8]
[null,null,":",null,null,10,null,null,":",null,null,null,null,null,":",null,null,10,null,null,":"]
[null,null,":",null,null,11,null,null,":",null,null,null,null,null,":",null,null,11,null,null,":"]
[null,null,":",null,null,12,null,null,":",null,null,null,null,null,":",null,null,12,null,null,":"]
[null,null,":",null,null,13,null,null,":",null,null,null,null,null,":",null,null,13,null,null,":"]
[null,null,":",null,null,14,null,null,":",null,null,null,null,null,":",null,null,14,null,null,":"]
[null,null,":",null,null,15,null,null,":",null,null,null,null,null,":",null,null,15,null,null,":"]
[null,null,":",null,null,16,null,null,":",null,null,null,null,null,":",null,null,16,null,null,":"]
[null,null,":",null,null,17,null,null,":",null,null,null,null,null,":",null,null,17,null,null,":"]
[null,null,":",null,null,18,null,null,":",null,null,null,null,null,":",null,null,18,null,null,":"]
[null,null,":",null,null,19,null,null,":",null,null,null,null,null,":",null,null,19,null,null,":"]
[null,null,":",null,null,20,null,null,":",null,null,null,null,null,":",null,null,20,null,null,":"]
[null,null,":",null,null,21,null,null,":",null,null,null,null,null,":",null,null,21,null,null,":"]
[null,null,":",null,null,22,null,null,":",null,null,null,null,null,":",null,null,22,null,null,":"]
[null,null,":",null,null,23,null,null,":",null,null,null,null,null,":",null,null,23,null,null,":"]
[null,null,":",null,null,24,null,null,":",null,null,null,null,null,":",null,null,24,null,null,":"]
[null,null,":",null,null,25,null,null,":",null,null,null,null,null,":",null,null,25,null,null,":"]

{"sheet":"19-20","index":16,"n_rows":108,"n_cols":23,"rows_kept":108,"cut":false,"hidden":false,"merged":[[82,0,82,4],[82,6,82,10],[82,12,82,16],[82,18,82,22],[12,0,12,4],[12,6,12,10],[12,12,12,16],[12,18,12,22],[55,0,55,4],[55,6,55,10],[55,12,55,16],[55,18,55,22],[0,0,0,10],[0,12,0,22],[1,0,1,4],[1,6,1,10],[1,12,1,16],[1,18,1,22]]}
["wer gegen wen",null,null,null,null,null,null,null,null,null,null,null,"wer gegen wen"]
["Runde 1",null,null,null,null,20,"Runde 2",null,null,null,null,null,"Runde 1",null,null,null,null,19,"Runde 2"]
[17,null,":",null,4,null,15,null,":",null,2,null,17,null,":",null,4,null,15,null,":",null,2]
[7,null,":",null,14,null,5,null,":",null,12,null,7,null,":",null,14,null,5,null,":",null,12]
[13,null,":",null,8,null,11,null,":",null,6,null,13,null,":",null,8,null,11,null,":",null,6]
[9,null,":",null,12,null,7,null,":",null,10,null,9,null,":",null,12,null,7,null,":",null,10]
[1,null,":",null,20,null,20,null,":",null,18,null,1,null,":",null,"FL",null,"FL",null,":",null,18]
[3,null,":",null,18,null,1,null,":",null,16,null,3,null,":",null,18,null,1,null,":",null,16]
[19,null,":",null,2,null,17,null,":",null,19,null,19,null,":",null,2,null,17,null,":",null,19]
[5,null,":",null,16,null,3,null,":",null,14,null,5,null,":",null,16,null,3,null,":",null,14]
[15,null,":",null,6,null,13,null,":",null,4,null,15,null,":",null,6,null,13,null,":",null,4]
[11,null,":",null,10,null,9,null,":",null,8,null,11,null,":",null,10,null,9,null,":",null,8]
["Runde 3",null,null,null,null,20,"Runde 4",null,null,null,null,null,"Runde 3",null,null,null,null,19,"Runde 4"]
[3,null,":",null,10,null,1,null,":",null,8,null,3,null,":",null,10,null,1,null,":",null,8]
[20,null,":",null,14,null,18,null,":",null,12,null,"FL",null,":",null,14,null,18,null,":",null,12]
[13,null,":",null,19,null,11,null,":",null,17,null,13,null,":",null,19,null,11,null,":",null,17]
[18,null,":",null,16,null,16,null,":",null,14,null,18,null,":",null,16,null,16,null,":",null,14]
[11,null,":",null,2,null,9,null,":",null,19,null,11,null,":",null,2,null,9,null,":",null,19]
[9,null,":",null,4,null,7,null,":",null,2,null,9,null,":",null,4,null,7,null,":",null,2]
[15,null,":",null,17,null,13,null,":",null,15,null,15,null,":",null,17,null,13,null,":",null,15]
[5,null,":",null,8,null,3,null,":",null,6,null,5,null,":",null,8,null,3,null,":",null,6]
[7,null,":",null,6,null,5,null,":",null,4,null,7,null,":",null,6,null,5,null,":",null,4]
[1,null,":",null,12,null,20,null,":",null,10,null,1,null,":",null,12,null,"FL",null,":",null,10]
[]
[]
[]
[]
[]
[]
[]
[]
[]
[]
[]
[]
[]
[]
[]
[]
[]
[]
[]
[]
[]
[]
[]
[]
[]
[]
[]
[]
[]
[]
[]
[]
["Runde 1 ohne FL",null,null,null,null,null,"Runde 2 ohne FL",null,null,null,null,null,"Runde 1 mit FL",null,null,null,null,null,"Runde 2 mit FL"]
[17,null,":",null,4,null,15,null,":",null,2,null,17,null,":",null,4,null,15,null,":",null,2]
[7,null,":",null,14,null,5,null,":",null,12,null,7,null,":",null,14,null,5,null,":",null,12]
[13,null,":",null,8,null,11,null,":",null,6,null,13,null,":",null,8,null,11,null,":",null,6]
[9,null,":",null,12,null,7,null,":",null,10,null,9,null,":",null,12,null,7,null,":",null,10]
[1,null,":",null,20,null,20,null,":",null,18,null,1,null,":",null,"FL",null,"FL",null,":",null,18]
[3,null,":",null,18,null,1,null,":",null,16,null,3,null,":",null,18,null,1,null,":",null,16]
[19,null,":",null,2,null,17,null,":",null,19,null,19,null,":",null,2,null,17,null,":",null,19]
[5,null,":",null,16,null,3,null,":",null,14,null,5,null,":",null,16,null,3,null,":",null,14]
[15,null,":",null,6,null,13,null,":",null,4,null,15,null,":",null,6,null,13,null,":",null,4]
[11,null,":",null,10,null,9,null,":",null,8,null,11,null,":",null,10,null,9,null,":",null,8]
[null,null,":",null,null,11,null,null,":",null,null,null,null,null,":",null,null,11,null,null,":"]
[null,null,":",null,null,12,null,null,":",null,null,null,null,null,":",null,null,12,null,null,":"]
[null,null,":",null,null,13,null,null,":",null,null,null,null,null,":",null,null,13,null,null,":"]
[null,null,":",null,null,14,null,null,":",null,null,null,null,null,":",null,null,14,null,null,":"]
[null,null,":",null,null,15,null,null,":",null,null,null,null,null,":",null,null,15,null,null,":"]
[null,null,":",null,null,16,null,null,":",null,null,null,null,null,":",null,null,16,null,null,":"]
[null,null,":",null,null,17,null,null,":",null,null,null,null,null,":",null,null,17,null,null,":"]
[null,null,":",null,null,18,null,null,":",null,null,null,null,null,":",null,null,18,null,null,":"]
[null,null,":",null,null,19,null,null,":",null,null,null,null,null,":",null,null,19,null,null,":"]
[null,null,":",null,null,20,null,null,":",null,null,null,null,null,":",null,null,20,null,null,":"]
[null,null,":",null,null,21,null,null,":",null,null,null,null,null,":",null,null,21,null,null,":"]
[null,null,":",null,null,22,null,null,":",null,null,null,null,null,":",null,null,22,null,null,":"]
[null,null,":",null,null,23,null,null,":",null,null,null,null,null,":",null,null,23,null,null,":"]
[null,null,":",null,null,24,null,null,":",null,null,null,null,null,":",null,null,24,null,null,":"]
[null,null,":",null,null,25,null,null,":",null,null,null,null,null,":",null,null,25,null,null,":"]
[]
["Runde 3 ohne FL",null,null,null,null,null,"Runde 4 ohne FL",null,null,null,null,null,"Runde 3 mit FL",null,null,null,null,null,"Runde 4 mit FL"]
[3,null,":",null,10,null,1,null,":",null,8,null,3,null,":",null,10,null,1,null,":",null,8]
[20,null,":",null,14,null,18,null,":",null,12,null,"FL",null,":",null,14,null,18,null,":",null,12]
[13,null,":",null,19,null,11,null,":",null,17,null,13,null,":",null,19,null,11,null,":",null,17]
[18,null,":",null,16,null,16,null,":",null,14,null,18,null,":",null,16,null,16,null,":",null,14]
[11,null,":",null,2,null,9,null,":",null,19,null,11,null,":",null,2,null,9,null,":",null,19]
[9,null,":",null,4,null,7,null,":",null,2,null,9,null,":",null,4,null,7,null,":",null,2]
[15,null,":",null,17,null,13,null,":",null,15,null,15,null,":",null,17,null,13,null,":",null,15]
[5,null,":",null,8,null,3,null,":",null,6,null,5,null,":",null,8,null,3,null,":",null,6]
[7,null,":",null,6,null,5,null,":",null,4,null,7,null,":",null,6,null,5,null,":",null,4]
[1,null,":",null,12,null,20,null,":",null,10,null,1,null,":",null,12,null,"FL",null,":",null,10]
[null,null,":",null,null,11,null,null,":",null,null,null,null,null,":",null,null,11,null,null,":"]
[null,null,":",null,null,12,null,null,":",null,null,null,null,null,":",null,null,12,null,null,":"]
[null,null,":",null,null,13,null,null,":",null,null,null,null,null,":",null,null,13,null,null,":"]
[null,null,":",null,null,14,null,null,":",null,null,null,null,null,":",null,null,14,null,null,":"]
[null,null,":",null,null,15,null,null,":",null,null,null,null,null,":",null,null,15,null,null,":"]
[null,null,":",null,null,16,null,null,":",null,null,null,null,null,":",null,null,16,null,null,":"]
[null,null,":",null,null,17,null,null,":",null,null,null,null,null,":",null,null,17,null,null,":"]
[null,null,":",null,null,18,null,null,":",null,null,null,null,null,":",null,null,18,null,null,":"]
[null,null,":",null,null,19,null,null,":",null,null,null,null,null,":",null,null,19,null,null,":"]
[null,null,":",null,null,20,null,null,":",null,null,null,null,null,":",null,null,20,null,null,":"]
[null,null,":",null,null,21,null,null,":",null,null,null,null,null,":",null,null,21,null,null,":"]
[null,null,":",null,null,22,null,null,":",null,null,null,null,null,":",null,null,22,null,null,":"]
[null,null,":",null,null,23,null,null,":",null,null,null,null,null,":",null,null,23,null,null,":"]
[null,null,":",null,null,24,null,null,":",null,null,null,null,null,":",null,null,24,null,null,":"]
[null,null,":",null,null,25,null,null,":",null,null,null,null,null,":",null,null,25,null,null,":"]

{"sheet":"21-22","index":17,"n_rows":108,"n_cols":23,"rows_kept":108,"cut":false,"hidden":false,"merged":[[82,0,82,4],[82,6,82,10],[82,12,82,16],[82,18,82,22],[14,0,14,4],[14,6,14,10],[14,11,14,16],[14,18,14,22],[55,0,55,4],[55,6,55,10],[55,12,55,16],[55,18,55,22],[0,0,0,10],[0,12,0,22],[1,0,1,4],[1,6,1,10],[1,12,1,16],[1,18,1,22]]}
["wer gegen wen",null,null,null,null,null,null,null,null,null,null,null,"wer gegen wen"]
["Runde 1",null,null,null,null,22,"Runde 2",null,null,null,null,null,"Runde 1",null,null,null,null,21,"Runde 2"]
[21,null,":",null,2,null,19,null,":",null,21,null,21,null,":",null,2,null,19,null,":",null,21]
[15,null,":",null,8,null,13,null,":",null,6,null,15,null,":",null,8,null,13,null,":",null,6]
[3,null,":",null,20,null,1,null,":",null,18,null,3,null,":",null,20,null,1,null,":",null,18]
[11,null,":",null,12,null,9,null,":",null,10,null,11,null,":",null,12,null,9,null,":",null,10]
[5,null,":",null,18,null,3,null,":",null,16,null,5,null,":",null,18,null,3,null,":",null,16]
[7,null,":",null,16,null,5,null,":",null,14,null,7,null,":",null,16,null,5,null,":",null,14]
[13,null,":",null,10,null,11,null,":",null,8,null,13,null,":",null,10,null,11,null,":",null,8]
[1,null,":",null,22,null,22,null,":",null,20,null,1,null,":",null,"FL",null,"FL",null,":",null,20]
[19,null,":",null,4,null,17,null,":",null,2,null,19,null,":",null,4,null,17,null,":",null,2]
[17,null,":",null,6,null,15,null,":",null,4,null,17,null,":",null,6,null,15,null,":",null,4]
[9,null,":",null,14,null,7,null,":",null,12,null,9,null,":",null,14,null,7,null,":",null,12]
[]
["Runde 3",null,null,null,null,22,"Runde 4",null,null,null,null,"Runde 3",null,null,null,null,null,21,"Runde 4"]
[1,null,":",null,14,null,22,null,":",null,12,null,1,null,":",null,14,null,"FL",null,":",null,12]
[15,null,":",null,21,null,13,null,":",null,19,null,15,null,":",null,21,null,13,null,":",null,19]
[7,null,":",null,8,null,5,null,":",null,6,null,7,null,":",null,8,null,5,null,":",null,6]
[9,null,":",null,6,null,7,null,":",null,4,null,9,null,":",null,6,null,7,null,":",null,4]
[17,null,":",null,19,null,15,null,":",null,17,null,17,null,":",null,19,null,15,null,":",null,17]
[11,null,":",null,4,null,9,null,":",null,2,null,11,null,":",null,4,null,9,null,":",null,2]
[20,null,":",null,18,null,18,null,":",null,16,null,20,null,":",null,18,null,18,null,":",null,16]
[3,null,":",null,12,null,1,null,":",null,10,null,3,null,":",null,12,null,1,null,":",null,10]
[5,null,":",null,10,null,3,null,":",null,8,null,5,null,":",null,10,null,3,null,":",null,8]
[22,null,":",null,16,null,20,null,":",null,14,null,"FL",null,":",null,16,null,20,null,":",null,14]
[13,null,":",null,2,null,11,null,":",null,21,null,13,null,":",null,2,null,11,null,":",null,21]
[]
[]
[]
[]
[]
[]
[]
[]
[]
[]
[]
[]
[]
[]
[]
[]
[]
[]
[]
[]
[]
[]
[]
[]
[]
[]
[]
[]
[]
["Runde 1 ohne FL",null,null,null,null,null,"Runde 2 ohne FL",null,null,null,null,null,"Runde 1 mit FL",null,null,null,null,null,"Runde 2 mit FL"]
[21,null,":",null,2,null,19,null,":",null,21,null,21,null,":",null,2,null,19,null,":",null,21]
[15,null,":",null,8,null,13,null,":",null,6,null,15,null,":",null,8,null,13,null,":",null,6]
[3,null,":",null,20,null,1,null,":",null,18,null,3,null,":",null,20,null,1,null,":",null,18]
[11,null,":",null,12,null,9,null,":",null,10,null,11,null,":",null,12,null,9,null,":",null,10]
[5,null,":",null,18,null,3,null,":",null,16,null,5,null,":",null,18,null,3,null,":",null,16]
[7,null,":",null,16,null,5,null,":",null,14,null,7,null,":",null,16,null,5,null,":",null,14]
[13,null,":",null,10,null,11,null,":",null,8,null,13,null,":",null,10,null,11,null,":",null,8]
[1,null,":",null,22,null,22,null,":",null,20,null,1,null,":",null,"FL",null,"FL",null,":",null,20]
[19,null,":",null,4,null,17,null,":",null,2,null,19,null,":",null,4,null,17,null,":",null,2]
[17,null,":",null,6,null,15,null,":",null,4,null,17,null,":",null,6,null,15,null,":",null,4]
[9,null,":",null,14,null,7,null,":",null,12,null,9,null,":",null,14,null,7,null,":",null,12]
[null,null,":",null,null,12,null,null,":",null,null,null,null,null,":",null,null,12,null,null,":"]
[null,null,":",null,null,13,null,null,":",null,null,null,null,null,":",null,null,13,null,null,":"]
[null,null,":",null,null,14,null,null,":",null,null,null,null,null,":",null,null,14,null,null,":"]
[null,null,":",null,null,15,null,null,":",null,null,null,null,null,":",null,null,15,null,null,":"]
[null,null,":",null,null,16,null,null,":",null,null,null,null,null,":",null,null,16,null,null,":"]
[null,null,":",null,null,17,null,null,":",null,null,null,null,null,":",null,null,17,null,null,":"]
[null,null,":",null,null,18,null,null,":",null,null,null,null,null,":",null,null,18,null,null,":"]
[null,null,":",null,null,19,null,null,":",null,null,null,null,null,":",null,null,19,null,null,":"]
[null,null,":",null,null,20,null,null,":",null,null,null,null,null,":",null,null,20,null,null,":"]
[null,null,":",null,null,21,null,null,":",null,null,null,null,null,":",null,null,21,null,null,":"]
[null,null,":",null,null,22,null,null,":",null,null,null,null,null,":",null,null,22,null,null,":"]
[null,null,":",null,null,23,null,null,":",null,null,null,null,null,":",null,null,23,null,null,":"]
[null,null,":",null,null,24,null,null,":",null,null,null,null,null,":",null,null,24,null,null,":"]
[null,null,":",null,null,25,null,null,":",null,null,null,null,null,":",null,null,25,null,null,":"]
[]
["Runde 3 ohne FL",null,null,null,null,null,"Runde 4 ohne FL",null,null,null,null,null,"Runde 3 mit FL",null,null,null,null,null,"Runde 4 mit FL"]
[1,null,":",null,14,null,22,null,":",null,12,null,1,null,":",null,14,null,"FL",null,":",null,12]
[15,null,":",null,21,null,13,null,":",null,19,null,15,null,":",null,21,null,13,null,":",null,19]
[7,null,":",null,8,null,5,null,":",null,6,null,7,null,":",null,8,null,5,null,":",null,6]
[9,null,":",null,6,null,7,null,":",null,4,null,9,null,":",null,6,null,7,null,":",null,4]
[17,null,":",null,19,null,15,null,":",null,17,null,17,null,":",null,19,null,15,null,":",null,17]
[11,null,":",null,4,null,9,null,":",null,2,null,11,null,":",null,4,null,9,null,":",null,2]
[20,null,":",null,18,null,18,null,":",null,16,null,20,null,":",null,18,null,18,null,":",null,16]
[3,null,":",null,12,null,1,null,":",null,10,null,3,null,":",null,12,null,1,null,":",null,10]
[5,null,":",null,10,null,3,null,":",null,8,null,5,null,":",null,10,null,3,null,":",null,8]
[22,null,":",null,16,null,20,null,":",null,14,null,"FL",null,":",null,16,null,20,null,":",null,14]
[13,null,":",null,2,null,11,null,":",null,21,null,13,null,":",null,2,null,11,null,":",null,21]
[null,null,":",null,null,12,null,null,":",null,null,null,null,null,":",null,null,12,null,null,":"]
[null,null,":",null,null,13,null,null,":",null,null,null,null,null,":",null,null,13,null,null,":"]
[null,null,":",null,null,14,null,null,":",null,null,null,null,null,":",null,null,14,null,null,":"]
[null,null,":",null,null,15,null,null,":",null,null,null,null,null,":",null,null,15,null,null,":"]
[null,null,":",null,null,16,null,null,":",null,null,null,null,null,":",null,null,16,null,null,":"]
[null,null,":",null,null,17,null,null,":",null,null,null,null,null,":",null,null,17,null,null,":"]
[null,null,":",null,null,18,null,null,":",null,null,null,null,null,":",null,null,18,null,null,":"]
[null,null,":",null,null,19,null,null,":",null,null,null,null,null,":",null,null,19,null,null,":"]
[null,null,":",null,null,20,null,null,":",null,null,null,null,null,":",null,null,20,null,null,":"]
[null,null,":",null,null,21,null,null,":",null,null,null,null,null,":",null,null,21,null,null,":"]
[null,null,":",null,null,22,null,null,":",null,null,null,null,null,":",null,null,22,null,null,":"]
[null,null,":",null,null,23,null,null,":",null,null,null,null,null,":",null,null,23,null,null,":"]
[null,null,":",null,null,24,null,null,":",null,null,null,null,null,":",null,null,24,null,null,":"]
[null,null,":",null,null,25,null,null,":",null,null,null,null,null,":",null,null,25,null,null,":"]

{"sheet":"23-24","index":18,"n_rows":108,"n_cols":23,"rows_kept":108,"cut":false,"hidden":false,"merged":[[82,0,82,4],[82,6,82,10],[82,12,82,16],[82,18,82,22],[15,0,15,4],[15,6,15,10],[15,12,15,16],[15,18,15,22],[55,0,55,4],[55,6,55,10],[55,12,55,16],[55,18,55,22],[0,0,0,10],[0,12,0,22],[1,0,1,4],[1,6,1,10],[1,12,1,16],[1,18,1,22]]}
["wer gegen wen",null,null,null,null,null,null,null,null,null,null,null,"wer gegen wen"]
["Runde 1",null,null,null,null,24,"Runde 2",null,null,null,null,null,"Runde 1",null,null,null,null,23,"Runde 2"]
[7,null,":",null,18,null,5,null,":",null,16,null,7,null,":",null,18,null,5,null,":",null,16]
[17,null,":",null,8,null,15,null,":",null,6,null,17,null,":",null,8,null,15,null,":",null,6]
[9,null,":",null,16,null,7,null,":",null,14,null,9,null,":",null,16,null,7,null,":",null,14]
[19,null,":",null,6,null,17,null,":",null,4,null,19,null,":",null,6,null,17,null,":",null,4]
[15,null,":",null,10,null,13,null,":",null,8,null,15,null,":",null,10,null,13,null,":",null,8]
[1,null,":",null,24,null,24,null,":",null,22,null,1,null,":",null,"FL",null,"FL",null,":",null,22]
[11,null,":",null,14,null,9,null,":",null,12,null,11,null,":",null,14,null,9,null,":",null,12]
[13,null,":",null,12,null,11,null,":",null,10,null,13,null,":",null,12,null,11,null,":",null,10]
[21,null,":",null,4,null,19,null,":",null,2,null,21,null,":",null,4,null,19,null,":",null,2]
[3,null,":",null,22,null,1,null,":",null,20,null,3,null,":",null,22,null,1,null,":",null,20]
[23,null,":",null,2,null,21,null,":",null,23,null,23,null,":",null,2,null,21,null,":",null,23]
[5,null,":",null,20,null,3,null,":",null,18,null,5,null,":",null,20,null,3,null,":",null,18]
[]
["Runde 3",null,null,null,null,24,"Runde 4",null,null,null,null,null,"Runde 3",null,null,null,null,23,"Runde 4"]
[7,null,":",null,10,null,5,null,":",null,8,null,7,null,":",null,10,null,5,null,":",null,8]
[11,null,":",null,6,null,9,null,":",null,4,null,11,null,":",null,6,null,9,null,":",null,4]
[5,null,":",null,12,null,3,null,":",null,10,null,5,null,":",null,12,null,3,null,":",null,10]
[22,null,":",null,20,null,20,null,":",null,18,null,22,null,":",null,20,null,20,null,":",null,18]
[19,null,":",null,21,null,17,null,":",null,19,null,19,null,":",null,21,null,17,null,":",null,19]
[24,null,":",null,18,null,22,null,":",null,16,null,"FL",null,":",null,18,null,22,null,":",null,16]
[17,null,":",null,23,null,15,null,":",null,21,null,17,null,":",null,23,null,15,null,":",null,21]
[9,null,":",null,8,null,7,null,":",null,6,null,9,null,":",null,8,null,7,null,":",null,6]
[1,null,":",null,16,null,24,null,":",null,14,null,1,null,":",null,16,null,"FL",null,":",null,14]
[13,null,":",null,4,null,11,null,":",null,2,null,13,null,":",null,4,null,11,null,":",null,2]
[3,null,":",null,14,null,1,null,":",null,12,null,3,null,":",null,14,null,1,null,":",null,12]
[15,null,":",null,2,null,13,null,":",null,23,null,15,null,":",null,2,null,13,null,":",null,23]
[]
[]
[]
[]
[]
[]
[]
[]
[]
[]
[]
[]
[]
[]
[]
[]
[]
[]
[]
[]
[]
[]
[]
[]
[]
[]
[]
["Runde 1 ohne FL",null,null,null,null,null,"Runde 2 ohne FL",null,null,null,null,null,"Runde 1 mit FL",null,null,null,null,null,"Runde 2 mit FL"]
[7,null,":",null,18,null,5,null,":",null,16,null,7,null,":",null,18,null,5,null,":",null,16]
[17,null,":",null,8,null,15,null,":",null,6,null,17,null,":",null,8,null,15,null,":",null,6]
[9,null,":",null,16,null,7,null,":",null,14,null,9,null,":",null,16,null,7,null,":",null,14]
[19,null,":",null,6,null,17,null,":",null,4,null,19,null,":",null,6,null,17,null,":",null,4]
[15,null,":",null,10,null,13,null,":",null,8,null,15,null,":",null,10,null,13,null,":",null,8]
[1,null,":",null,24,null,24,null,":",null,22,null,1,null,":",null,"FL",null,"FL",null,":",null,22]
[11,null,":",null,14,null,9,null,":",null,12,null,11,null,":",null,14,null,9,null,":",null,12]
[13,null,":",null,12,null,11,null,":",null,10,null,13,null,":",null,12,null,11,null,":",null,10]
[21,null,":",null,4,null,19,null,":",null,2,null,21,null,":",null,4,null,19,null,":",null,2]
[3,null,":",null,22,null,1,null,":",null,20,null,3,null,":",null,22,null,1,null,":",null,20]
[23,null,":",null,2,null,21,null,":",null,23,null,23,null,":",null,2,null,21,null,":",null,23]
[5,null,":",null,20,null,3,null,":",null,18,null,5,null,":",null,20,null,3,null,":",null,18]
[null,null,":",null,null,13,null,null,":",null,null,null,null,null,":",null,null,13,null,null,":"]
[null,null,":",null,null,14,null,null,":",null,null,null,null,null,":",null,null,14,null,null,":"]
[null,null,":",null,null,15,null,null,":",null,null,null,null,null,":",null,null,15,null,null,":"]
[null,null,":",null,null,16,null,null,":",null,null,null,null,null,":",null,null,16,null,null,":"]
[null,null,":",null,null,17,null,null,":",null,null,null,null,null,":",null,null,17,null,null,":"]
[null,null,":",null,null,18,null,null,":",null,null,null,null,null,":",null,null,18,null,null,":"]
[null,null,":",null,null,19,null,null,":",null,null,null,null,null,":",null,null,19,null,null,":"]
[null,null,":",null,null,20,null,null,":",null,null,null,null,null,":",null,null,20,null,null,":"]
[null,null,":",null,null,21,null,null,":",null,null,null,null,null,":",null,null,21,null,null,":"]
[null,null,":",null,null,22,null,null,":",null,null,null,null,null,":",null,null,22,null,null,":"]
[null,null,":",null,null,23,null,null,":",null,null,null,null,null,":",null,null,23,null,null,":"]
[null,null,":",null,null,24,null,null,":",null,null,null,null,null,":",null,null,24,null,null,":"]
[null,null,":",null,null,25,null,null,":",null,null,null,null,null,":",null,null,25,null,null,":"]
[]
["Runde 3 ohne FL",null,null,null,null,null,"Runde 4 ohne FL",null,null,null,null,null,"Runde 3 mit FL",null,null,null,null,null,"Runde 4 mit FL"]
[7,null,":",null,10,null,5,null,":",null,8,null,7,null,":",null,10,null,5,null,":",null,8]
[11,null,":",null,6,null,9,null,":",null,4,null,11,null,":",null,6,null,9,null,":",null,4]
[5,null,":",null,12,null,3,null,":",null,10,null,5,null,":",null,12,null,3,null,":",null,10]
[22,null,":",null,20,null,20,null,":",null,18,null,22,null,":",null,20,null,20,null,":",null,18]
[19,null,":",null,21,null,17,null,":",null,19,null,19,null,":",null,21,null,17,null,":",null,19]
[24,null,":",null,18,null,22,null,":",null,16,null,"FL",null,":",null,18,null,22,null,":",null,16]
[17,null,":",null,23,null,15,null,":",null,21,null,17,null,":",null,23,null,15,null,":",null,21]
[9,null,":",null,8,null,7,null,":",null,6,null,9,null,":",null,8,null,7,null,":",null,6]
[1,null,":",null,16,null,24,null,":",null,14,null,1,null,":",null,16,null,"FL",null,":",null,14]
[13,null,":",null,4,null,11,null,":",null,2,null,13,null,":",null,4,null,11,null,":",null,2]
[3,null,":",null,14,null,1,null,":",null,12,null,3,null,":",null,14,null,1,null,":",null,12]
[15,null,":",null,2,null,13,null,":",null,23,null,15,null,":",null,2,null,13,null,":",null,23]
[null,null,":",null,null,13,null,null,":",null,null,null,null,null,":",null,null,13,null,null,":"]
[null,null,":",null,null,14,null,null,":",null,null,null,null,null,":",null,null,14,null,null,":"]
[null,null,":",null,null,15,null,null,":",null,null,null,null,null,":",null,null,15,null,null,":"]
[null,null,":",null,null,16,null,null,":",null,null,null,null,null,":",null,null,16,null,null,":"]
[null,null,":",null,null,17,null,null,":",null,null,null,null,null,":",null,null,17,null,null,":"]
[null,null,":",null,null,18,null,null,":",null,null,null,null,null,":",null,null,18,null,null,":"]
[null,null,":",null,null,19,null,null,":",null,null,null,null,null,":",null,null,19,null,null,":"]
[null,null,":",null,null,20,null,null,":",null,null,null,null,null,":",null,null,20,null,null,":"]
[null,null,":",null,null,21,null,null,":",null,null,null,null,null,":",null,null,21,null,null,":"]
[null,null,":",null,null,22,null,null,":",null,null,null,null,null,":",null,null,22,null,null,":"]
[null,null,":",null,null,23,null,null,":",null,null,null,null,null,":",null,null,23,null,null,":"]
[null,null,":",null,null,24,null,null,":",null,null,null,null,null,":",null,null,24,null,null,":"]
[null,null,":",null,null,25,null,null,":",null,null,null,null,null,":",null,null,25,null,null,":"]

{"sheet":"25-26","index":19,"n_rows":108,"n_cols":23,"rows_kept":108,"cut":false,"hidden":false,"merged":[[82,0,82,4],[82,6,82,10],[82,12,82,16],[82,18,82,22],[16,0,16,4],[16,6,16,10],[16,12,16,16],[16,18,16,22],[55,0,55,4],[55,6,55,10],[55,12,55,16],[55,18,55,22],[0,0,0,10],[0,12,0,22],[1,0,1,4],[1,6,1,10],[1,12,1,16],[1,18,1,22]]}
["wer gegen wen",null,null,null,null,null,null,null,null,null,null,null,"wer gegen wen"]
["Runde 1",null,null,null,null,26,"Runde 2",null,null,null,null,null,"Runde 1",null,null,null,null,25,"Runde 2"]
[23,null,":",null,4,null,19,null,":",null,25,null,23,null,":",null,4,null,19,null,":",null,25]
[11,null,":",null,16,null,7,null,":",null,12,null,11,null,":",null,16,null,7,null,":",null,12]
[17,null,":",null,10,null,13,null,":",null,6,null,17,null,":",null,10,null,13,null,":",null,6]
[21,null,":",null,6,null,17,null,":",null,2,null,21,null,":",null,6,null,17,null,":",null,2]
[19,null,":",null,8,null,15,null,":",null,4,null,19,null,":",null,8,null,15,null,":",null,4]
[13,null,":",null,14,null,9,null,":",null,10,null,13,null,":",null,14,null,9,null,":",null,10]
[3,null,":",null,24,null,26,null,":",null,20,null,3,null,":",null,24,null,"FL",null,":",null,20]
[25,null,":",null,2,null,21,null,":",null,23,null,25,null,":",null,2,null,21,null,":",null,23]
[9,null,":",null,18,null,5,null,":",null,14,null,9,null,":",null,18,null,5,null,":",null,14]
[1,null,":",null,26,null,24,null,":",null,22,null,1,null,":",null,"FL",null,24,null,":",null,22]
[5,null,":",null,22,null,1,null,":",null,18,null,5,null,":",null,22,null,1,null,":",null,18]
[15,null,":",null,12,null,11,null,":",null,8,null,15,null,":",null,12,null,11,null,":",null,8]
[7,null,":",null,20,null,3,null,":",null,16,null,7,null,":",null,20,null,3,null,":",null,16]
[]
["Runde 3",null,null,null,null,26,"Runde 4",null,null,null,null,null,"Runde 3",null,null,null,null,25,"Runde 4"]
[1,null,":",null,10,null,24,null,":",null,6,null,1,null,":",null,10,null,24,null,":",null,6]
[15,null,":",null,21,null,11,null,":",null,17,null,15,null,":",null,21,null,11,null,":",null,17]
[11,null,":",null,25,null,7,null,":",null,21,null,11,null,":",null,25,null,7,null,":",null,21]
[24,null,":",null,14,null,20,null,":",null,10,null,24,null,":",null,14,null,20,null,":",null,10]
[5,null,":",null,6,null,1,null,":",null,2,null,5,null,":",null,6,null,1,null,":",null,2]
[22,null,":",null,16,null,18,null,":",null,12,null,22,null,":",null,16,null,18,null,":",null,12]
[26,null,":",null,12,null,22,null,":",null,8,null,"FL",null,":",null,12,null,22,null,":",null,8]
[13,null,":",null,23,null,9,null,":",null,19,null,13,null,":",null,23,null,9,null,":",null,19]
[7,null,":",null,4,null,3,null,":",null,25,null,7,null,":",null,4,null,3,null,":",null,25]
[9,null,":",null,2,null,5,null,":",null,23,null,9,null,":",null,2,null,5,null,":",null,23]
[20,null,":",null,18,null,16,null,":",null,14,null,20,null,":",null,18,null,16,null,":",null,14]
[17,null,":",null,19,null,13,null,":",null,15,null,17,null,":",null,19,null,13,null,":",null,15]
[3,null,":",null,8,null,26,null,":",null,4,null,3,null,":",null,8,null,"FL",null,":",null,4]
[]
[]
[]
[]
[]
[]
[]
[]
[]
[]
[]
[]
[]
[]
[]
[]
[]
[]
[]
[]
[]
[]
[]
[]
[]
["Runde 1 ohne FL",null,null,null,null,null,"Runde 2 ohne FL",null,null,null,null,null,"Runde 1 mit FL",null,null,null,null,null,"Runde 2 mit FL"]
[23,null,":",null,4,null,19,null,":",null,25,null,23,null,":",null,4,null,19,null,":",null,25]
[11,null,":",null,16,null,7,null,":",null,12,null,11,null,":",null,16,null,7,null,":",null,12]
[17,null,":",null,10,null,13,null,":",null,6,null,17,null,":",null,10,null,13,null,":",null,6]
[21,null,":",null,6,null,17,null,":",null,2,null,21,null,":",null,6,null,17,null,":",null,2]
[19,null,":",null,8,null,15,null,":",null,4,null,19,null,":",null,8,null,15,null,":",null,4]
[13,null,":",null,14,null,9,null,":",null,10,null,13,null,":",null,14,null,9,null,":",null,10]
[3,null,":",null,24,null,26,null,":",null,20,null,3,null,":",null,24,null,"FL",null,":",null,20]
[25,null,":",null,2,null,21,null,":",null,23,null,25,null,":",null,2,null,21,null,":",null,23]
[9,null,":",null,18,null,5,null,":",null,14,null,9,null,":",null,18,null,5,null,":",null,14]
[1,null,":",null,26,null,24,null,":",null,22,null,1,null,":",null,"FL",null,24,null,":",null,22]
[5,null,":",null,22,null,1,null,":",null,18,null,5,null,":",null,22,null,1,null,":",null,18]
[15,null,":",null,12,null,11,null,":",null,8,null,15,null,":",null,12,null,11,null,":",null,8]
[7,null,":",null,20,null,3,null,":",null,16,null,7,null,":",null,20,null,3,null,":",null,16]
[null,null,":",null,null,14,null,null,":",null,null,null,null,null,":",null,null,14,null,null,":"]
[null,null,":",null,null,15,null,null,":",null,null,null,null,null,":",null,null,15,null,null,":"]
[null,null,":",null,null,16,null,null,":",null,null,null,null,null,":",null,null,16,null,null,":"]
[null,null,":",null,null,17,null,null,":",null,null,null,null,null,":",null,null,17,null,null,":"]
[null,null,":",null,null,18,null,null,":",null,null,null,null,null,":",null,null,18,null,null,":"]
[null,null,":",null,null,19,null,null,":",null,null,null,null,null,":",null,null,19,null,null,":"]
[null,null,":",null,null,20,null,null,":",null,null,null,null,null,":",null,null,20,null,null,":"]
[null,null,":",null,null,21,null,null,":",null,null,null,null,null,":",null,null,21,null,null,":"]
[null,null,":",null,null,22,null,null,":",null,null,null,null,null,":",null,null,22,null,null,":"]
[null,null,":",null,null,23,null,null,":",null,null,null,null,null,":",null,null,23,null,null,":"]
[null,null,":",null,null,24,null,null,":",null,null,null,null,null,":",null,null,24,null,null,":"]
[null,null,":",null,null,25,null,null,":",null,null,null,null,null,":",null,null,25,null,null,":"]
[]
["Runde 3 ohne FL",null,null,null,null,null,"Runde 4 ohne FL",null,null,null,null,null,"Runde 3 mit FL",null,null,null,null,null,"Runde 4 mit FL"]
[1,null,":",null,10,null,24,null,":",null,6,null,1,null,":",null,10,null,24,null,":",null,6]
[15,null,":",null,21,null,11,null,":",null,17,null,15,null,":",null,21,null,11,null,":",null,17]
[11,null,":",null,25,null,7,null,":",null,21,null,11,null,":",null,25,null,7,null,":",null,21]
[24,null,":",null,14,null,20,null,":",null,10,null,24,null,":",null,14,null,20,null,":",null,10]
[5,null,":",null,6,null,1,null,":",null,2,null,5,null,":",null,6,null,1,null,":",null,2]
[22,null,":",null,16,null,18,null,":",null,12,null,22,null,":",null,16,null,18,null,":",null,12]
[26,null,":",null,12,null,22,null,":",null,8,null,"FL",null,":",null,12,null,22,null,":",null,8]
[13,null,":",null,23,null,9,null,":",null,19,null,13,null,":",null,23,null,9,null,":",null,19]
[7,null,":",null,4,null,3,null,":",null,25,null,7,null,":",null,4,null,3,null,":",null,25]
[9,null,":",null,2,null,5,null,":",null,23,null,9,null,":",null,2,null,5,null,":",null,23]
[20,null,":",null,18,null,16,null,":",null,14,null,20,null,":",null,18,null,16,null,":",null,14]
[17,null,":",null,19,null,13,null,":",null,15,null,17,null,":",null,19,null,13,null,":",null,15]
[3,null,":",null,8,null,26,null,":",null,4,null,3,null,":",null,8,null,"FL",null,":",null,4]
[null,null,":",null,null,14,null,null,":",null,null,null,null,null,":",null,null,14,null,null,":"]
[null,null,":",null,null,15,null,null,":",null,null,null,null,null,":",null,null,15,null,null,":"]
[null,null,":",null,null,16,null,null,":",null,null,null,null,null,":",null,null,16,null,null,":"]
[null,null,":",null,null,17,null,null,":",null,null,null,null,null,":",null,null,17,null,null,":"]
[null,null,":",null,null,18,null,null,":",null,null,null,null,null,":",null,null,18,null,null,":"]
[null,null,":",null,null,19,null,null,":",null,null,null,null,null,":",null,null,19,null,null,":"]
[null,null,":",null,null,20,null,null,":",null,null,null,null,null,":",null,null,20,null,null,":"]
[null,null,":",null,null,21,null,null,":",null,null,null,null,null,":",null,null,21,null,null,":"]
[null,null,":",null,null,22,null,null,":",null,null,null,null,null,":",null,null,22,null,null,":"]
[null,null,":",null,null,23,null,null,":",null,null,null,null,null,":",null,null,23,null,null,":"]
[null,null,":",null,null,24,null,null,":",null,null,null,null,null,":",null,null,24,null,null,":"]
[null,null,":",null,null,25,null,null,":",null,null,null,null,null,":",null,null,25,null,null,":"]

{"sheet":"27-28","index":20,"n_rows":108,"n_cols":23,"rows_kept":108,"cut":false,"hidden":false,"merged":[[82,0,82,4],[82,6,82,10],[82,12,82,16],[82,18,82,22],[17,0,17,4],[17,6,17,10],[17,12,17,16],[17,18,17,22],[55,0,55,4],[55,6,55,10],[55,12,55,16],[55,18,55,22],[0,0,0,10],[0,12,0,22],[1,0,1,4],[1,6,1,10],[1,12,1,16],[1,18,1,22]]}
["wer gegen wen",null,null,null,null,null,null,null,null,null,null,null,"wer gegen wen"]
["Runde 1",null,null,null,null,28,"Runde 2",null,null,null,null,null,"Runde 1",null,null,null,null,27,"Runde 2"]
[19,null,":",null,10,null,15,null,":",null,6,null,19,null,":",null,10,null,15,null,":",null,6]
[11,null,":",null,18,null,7,null,":",null,14,null,11,null,":",null,18,null,7,null,":",null,14]
[15,null,":",null,14,null,11,null,":",null,10,null,15,null,":",null,14,null,11,null,":",null,10]
[7,null,":",null,22,null,3,null,":",null,18,null,7,null,":",null,22,null,3,null,":",null,18]
[5,null,":",null,24,null,1,null,":",null,20,null,5,null,":",null,24,null,1,null,":",null,20]
[9,null,":",null,20,null,5,null,":",null,16,null,9,null,":",null,20,null,5,null,":",null,16]
[23,null,":",null,6,null,19,null,":",null,2,null,23,null,":",null,6,null,19,null,":",null,2]
[21,null,":",null,8,null,17,null,":",null,4,null,21,null,":",null,8,null,17,null,":",null,4]
[27,null,":",null,2,null,23,null,":",null,25,null,27,null,":",null,2,null,23,null,":",null,25]
[25,null,":",null,4,null,21,null,":",null,27,null,25,null,":",null,4,null,21,null,":",null,27]
[1,null,":",null,28,null,26,null,":",null,24,null,1,null,":",null,"FL",null,26,null,":",null,24]
[13,null,":",null,16,null,9,null,":",null,12,null,13,null,":",null,16,null,9,null,":",null,12]
[17,null,":",null,12,null,13,null,":",null,8,null,17,null,":",null,12,null,13,null,":",null,8]
[3,null,":",null,26,null,28,null,":",null,22,null,3,null,":",null,26,null,"FL",null,":",null,22]
[]
["Runde 3",null,null,null,null,28,"Runde 4",null,null,null,null,null,"Runde 3",null,null,null,null,27,"Runde 4"]
[26,null,":",null,16,null,22,null,":",null,12,null,26,null,":",null,16,null,22,null,":",null,12]
[15,null,":",null,25,null,11,null,":",null,21,null,15,null,":",null,25,null,11,null,":",null,21]
[13,null,":",null,27,null,9,null,":",null,23,null,13,null,":",null,27,null,9,null,":",null,23]
[5,null,":",null,8,null,1,null,":",null,4,null,5,null,":",null,8,null,1,null,":",null,4]
[19,null,":",null,21,null,15,null,":",null,17,null,19,null,":",null,21,null,15,null,":",null,17]
[22,null,":",null,20,null,18,null,":",null,16,null,22,null,":",null,20,null,18,null,":",null,16]
[17,null,":",null,23,null,13,null,":",null,19,null,17,null,":",null,23,null,13,null,":",null,19]
[24,null,":",null,18,null,20,null,":",null,14,null,24,null,":",null,18,null,20,null,":",null,14]
[1,null,":",null,12,null,26,null,":",null,8,null,1,null,":",null,12,null,26,null,":",null,8]
[9,null,":",null,4,null,5,null,":",null,27,null,9,null,":",null,4,null,5,null,":",null,27]
[7,null,":",null,6,null,3,null,":",null,2,null,7,null,":",null,6,null,3,null,":",null,2]
[28,null,":",null,14,null,24,null,":",null,10,null,"FL",null,":",null,14,null,24,null,":",null,10]
[3,null,":",null,10,null,28,null,":",null,6,null,3,null,":",null,10,null,"FL",null,":",null,6]
[11,null,":",null,2,null,7,null,":",null,25,null,11,null,":",null,2,null,7,null,":",null,25]
[]
[]
[]
[]
[]
[]
[]
[]
[]
[]
[]
[]
[]
[]
[]
[]
[]
[]
[]
[]
[]
[]
[]
["Runde 1 ohne FL",null,null,null,null,null,"Runde 2 ohne FL",null,null,null,null,null,"Runde 1 mit FL",null,null,null,null,null,"Runde 2 mit FL"]
[19,null,":",null,10,null,15,null,":",null,6,null,19,null,":",null,10,null,15,null,":",null,6]
[11,null,":",null,18,null,7,null,":",null,14,null,11,null,":",null,18,null,7,null,":",null,14]
[15,null,":",null,14,null,11,null,":",null,10,null,15,null,":",null,14,null,11,null,":",null,10]
[7,null,":",null,22,null,3,null,":",null,18,null,7,null,":",null,22,null,3,null,":",null,18]
[5,null,":",null,24,null,1,null,":",null,20,null,5,null,":",null,24,null,1,null,":",null,20]
[9,null,":",null,20,null,5,null,":",null,16,null,9,null,":",null,20,null,5,null,":",null,16]
[23,null,":",null,6,null,19,null,":",null,2,null,23,null,":",null,6,null,19,null,":",null,2]
[21,null,":",null,8,null,17,null,":",null,4,null,21,null,":",null,8,null,17,null,":",null,4]
[27,null,":",null,2,null,23,null,":",null,25,null,27,null,":",null,2,null,23,null,":",null,25]
[25,null,":",null,4,null,21,null,":",null,27,null,25,null,":",null,4,null,21,null,":",null,27]
[1,null,":",null,28,null,26,null,":",null,24,null,1,null,":",null,"FL",null,26,null,":",null,24]
[13,null,":",null,16,null,9,null,":",null,12,null,13,null,":",null,16,null,9,null,":",null,12]
[17,null,":",null,12,null,13,null,":",null,8,null,17,null,":",null,12,null,13,null,":",null,8]
[3,null,":",null,26,null,28,null,":",null,22,null,3,null,":",null,26,null,"FL",null,":",null,22]
[null,null,":",null,null,15,null,null,":",null,null,null,null,null,":",null,null,15,null,null,":"]
[null,null,":",null,null,16,null,null,":",null,null,null,null,null,":",null,null,16,null,null,":"]
[null,null,":",null,null,17,null,null,":",null,null,null,null,null,":",null,null,17,null,null,":"]
[null,null,":",null,null,18,null,null,":",null,null,null,null,null,":",null,null,18,null,null,":"]
[null,null,":",null,null,19,null,null,":",null,null,null,null,null,":",null,null,19,null,null,":"]
[null,null,":",null,null,20,null,null,":",null,null,null,null,null,":",null,null,20,null,null,":"]
[null,null,":",null,null,21,null,null,":",null,null,null,null,null,":",null,null,21,null,null,":"]
[null,null,":",null,null,22,null,null,":",null,null,null,null,null,":",null,null,22,null,null,":"]
[null,null,":",null,null,23,null,null,":",null,null,null,null,null,":",null,null,23,null,null,":"]
[null,null,":",null,null,24,null,null,":",null,null,null,null,null,":",null,null,24,null,null,":"]
[null,null,":",null,null,25,null,null,":",null,null,null,null,null,":",null,null,25,null,null,":"]
[]
["Runde 3 ohne FL",null,null,null,null,null,"Runde 4 ohne FL",null,null,null,null,null,"Runde 3 mit FL",null,null,null,null,null,"Runde 4 mit FL"]
[26,null,":",null,16,null,22,null,":",null,12,null,26,null,":",null,16,null,22,null,":",null,12]
[15,null,":",null,25,null,11,null,":",null,21,null,15,null,":",null,25,null,11,null,":",null,21]
[13,null,":",null,27,null,9,null,":",null,23,null,13,null,":",null,27,null,9,null,":",null,23]
[5,null,":",null,8,null,1,null,":",null,4,null,5,null,":",null,8,null,1,null,":",null,4]
[19,null,":",null,21,null,15,null,":",null,17,null,19,null,":",null,21,null,15,null,":",null,17]
[22,null,":",null,20,null,18,null,":",null,16,null,22,null,":",null,20,null,18,null,":",null,16]
[17,null,":",null,23,null,13,null,":",null,19,null,17,null,":",null,23,null,13,null,":",null,19]
[24,null,":",null,18,null,20,null,":",null,14,null,24,null,":",null,18,null,20,null,":",null,14]
[1,null,":",null,12,null,26,null,":",null,8,null,1,null,":",null,12,null,26,null,":",null,8]
[9,null,":",null,4,null,5,null,":",null,27,null,9,null,":",null,4,null,5,null,":",null,27]
[7,null,":",null,6,null,3,null,":",null,2,null,7,null,":",null,6,null,3,null,":",null,2]
[28,null,":",null,14,null,24,null,":",null,10,null,"FL",null,":",null,14,null,24,null,":",null,10]
[3,null,":",null,10,null,28,null,":",null,6,null,3,null,":",null,10,null,"FL",null,":",null,6]
[11,null,":",null,2,null,7,null,":",null,25,null,11,null,":",null,2,null,7,null,":",null,25]
[null,null,":",null,null,15,null,null,":",null,null,null,null,null,":",null,null,15,null,null,":"]
[null,null,":",null,null,16,null,null,":",null,null,null,null,null,":",null,null,16,null,null,":"]
[null,null,":",null,null,17,null,null,":",null,null,null,null,null,":",null,null,17,null,null,":"]
[null,null,":",null,null,18,null,null,":",null,null,null,null,null,":",null,null,18,null,null,":"]
[null,null,":",null,null,19,null,null,":",null,null,null,null,null,":",null,null,19,null,null,":"]
[null,null,":",null,null,20,null,null,":",null,null,null,null,null,":",null,null,20,null,null,":"]
[null,null,":",null,null,21,null,null,":",null,null,null,null,null,":",null,null,21,null,null,":"]
[null,null,":",null,null,22,null,null,":",null,null,null,null,null,":",null,null,22,null,null,":"]
[null,null,":",null,null,23,null,null,":",null,null,null,null,null,":",null,null,23,null,null,":"]
[null,null,":",null,null,24,null,null,":",null,null,null,null,null,":",null,null,24,null,null,":"]
[null,null,":",null,null,25,null,null,":",null,null,null,null,null,":",null,null,25,null,null,":"]

{"sheet":"29-30","index":21,"n_rows":108,"n_cols":23,"rows_kept":108,"cut":false,"hidden":false,"merged":[[82,0,82,4],[82,6,82,10],[82,12,82,16],[82,18,82,22],[18,0,18,4],[18,6,18,10],[18,12,18,16],[18,18,18,22],[55,0,55,4],[55,6,55,10],[55,12,55,16],[55,18,55,22],[0,0,0,10],[0,12,0,22],[1,0,1,4],[1,6,1,10],[1,12,1,16],[1,18,1,22]]}
["wer gegen wen",null,null,null,null,null,null,null,null,null,null,null,"wer gegen wen"]
["Runde 1",null,null,null,null,30,"Runde 2",null,null,null,null,null,"Runde 1",null,null,null,null,29,"Runde 2"]
[15,null,":",null,16,null,11,null,":",null,12,null,15,null,":",null,16,null,11,null,":",null,12]
[25,null,":",null,6,null,21,null,":",null,2,null,25,null,":",null,6,null,21,null,":",null,2]
[3,null,":",null,28,null,30,null,":",null,24,null,3,null,":",null,28,null,"FL",null,":",null,24]
[23,null,":",null,8,null,19,null,":",null,4,null,23,null,":",null,8,null,19,null,":",null,4]
[5,null,":",null,26,null,1,null,":",null,22,null,5,null,":",null,26,null,1,null,":",null,22]
[13,null,":",null,18,null,9,null,":",null,14,null,13,null,":",null,18,null,9,null,":",null,14]
[29,null,":",null,2,null,25,null,":",null,27,null,29,null,":",null,2,null,25,null,":",null,27]
[7,null,":",null,24,null,3,null,":",null,20,null,7,null,":",null,24,null,3,null,":",null,20]
[9,null,":",null,22,null,5,null,":",null,18,null,9,null,":",null,22,null,5,null,":",null,18]
[19,null,":",null,12,null,15,null,":",null,8,null,19,null,":",null,12,null,15,null,":",null,8]
[21,null,":",null,10,null,17,null,":",null,6,null,21,null,":",null,10,null,17,null,":",null,6]
[27,null,":",null,4,null,23,null,":",null,29,null,27,null,":",null,4,null,23,null,":",null,29]
[1,null,":",null,30,null,28,null,":",null,26,null,1,null,":",null,"FL",null,28,null,":",null,26]
[11,null,":",null,20,null,7,null,":",null,16,null,11,null,":",null,20,null,7,null,":",null,16]
[17,null,":",null,14,null,13,null,":",null,10,null,17,null,":",null,14,null,13,null,":",null,10]
[]
["Runde 3",null,null,null,null,30,"Runde 4",null,null,null,null,null,"Runde 3",null,null,null,null,29,"Runde 4"]
[19,null,":",null,25,null,15,null,":",null,21,null,19,null,":",null,25,null,15,null,":",null,21]
[3,null,":",null,12,null,30,null,":",null,8,null,3,null,":",null,12,null,"FL",null,":",null,8]
[26,null,":",null,20,null,22,null,":",null,16,null,26,null,":",null,20,null,22,null,":",null,16]
[9,null,":",null,6,null,5,null,":",null,2,null,9,null,":",null,6,null,5,null,":",null,2]
[28,null,":",null,18,null,24,null,":",null,14,null,28,null,":",null,18,null,24,null,":",null,14]
[24,null,":",null,22,null,20,null,":",null,18,null,24,null,":",null,22,null,20,null,":",null,18]
[5,null,":",null,10,null,1,null,":",null,6,null,5,null,":",null,10,null,1,null,":",null,6]
[7,null,":",null,8,null,3,null,":",null,4,null,7,null,":",null,8,null,3,null,":",null,4]
[15,null,":",null,29,null,11,null,":",null,25,null,15,null,":",null,29,null,11,null,":",null,25]
[21,null,":",null,23,null,17,null,":",null,19,null,21,null,":",null,23,null,17,null,":",null,19]
[1,null,":",null,14,null,28,null,":",null,10,null,1,null,":",null,14,null,28,null,":",null,10]
[11,null,":",null,4,null,7,null,":",null,29,null,11,null,":",null,4,null,7,null,":",null,29]
[17,null,":",null,27,null,13,null,":",null,23,null,17,null,":",null,27,null,13,null,":",null,23]
[13,null,":",null,2,null,9,null,":",null,27,null,13,null,":",null,2,null,9,null,":",null,27]
[30,null,":",null,16,null,26,null,":",null,12,null,"FL",null,":",null,16,null,26,null,":",null,12]
[]
[]
[]
[]
[]
[]
[]
[]
[]
[]
[]
[]
[]
[]
[]
[]
[]
[]
[]
[]
[]
["Runde 1 ohne FL",null,null,null,null,null,"Runde 2 ohne FL",null,null,null,null,null,"Runde 1 mit FL",null,null,null,null,null,"Runde 2 mit FL"]
[15,null,":",null,16,null,11,null,":",null,12,null,15,null,":",null,16,null,11,null,":",null,12]
[25,null,":",null,6,null,21,null,":",null,2,null,25,null,":",null,6,null,21,null,":",null,2]
[3,null,":",null,28,null,30,null,":",null,24,null,3,null,":",null,28,null,"FL",null,":",null,24]
[23,null,":",null,8,null,19,null,":",null,4,null,23,null,":",null,8,null,19,null,":",null,4]
[5,null,":",null,26,null,1,null,":",null,22,null,5,null,":",null,26,null,1,null,":",null,22]
[13,null,":",null,18,null,9,null,":",null,14,null,13,null,":",null,18,null,9,null,":",null,14]
[29,null,":",null,2,null,25,null,":",null,27,null,29,null,":",null,2,null,25,null,":",null,27]
[7,null,":",null,24,null,3,null,":",null,20,null,7,null,":",null,24,null,3,null,":",null,20]
[9,null,":",null,22,null,5,null,":",null,18,null,9,null,":",null,22,null,5,null,":",null,18]
[19,null,":",null,12,null,15,null,":",null,8,null,19,null,":",null,12,null,15,null,":",null,8]
[21,null,":",null,10,null,17,null,":",null,6,null,21,null,":",null,10,null,17,null,":",null,6]
[27,null,":",null,4,null,23,null,":",null,29,null,27,null,":",null,4,null,23,null,":",null,29]
[1,null,":",null,30,null,28,null,":",null,26,null,1,null,":",null,"FL",null,28,null,":",null,26]
[11,null,":",null,20,null,7,null,":",null,16,null,11,null,":",null,20,null,7,null,":",null,16]
[17,null,":",null,14,null,13,null,":",null,10,null,17,null,":",null,14,null,13,null,":",null,10]
[null,null,":",null,null,16,null,null,":",null,null,null,null,null,":",null,null,16,null,null,":"]
[null,null,":",null,null,17,null,null,":",null,null,null,null,null,":",null,null,17,null,null,":"]
[null,null,":",null,null,18,null,null,":",null,null,null,null,null,":",null,null,18,null,null,":"]
[null,null,":",null,null,19,null,null,":",null,null,null,null,null,":",null,null,19,null,null,":"]
[null,null,":",null,null,20,null,null,":",null,null,null,null,null,":",null,null,20,null,null,":"]
[null,null,":",null,null,21,null,null,":",null,null,null,null,null,":",null,null,21,null,null,":"]
[null,null,":",null,null,22,null,null,":",null,null,null,null,null,":",null,null,22,null,null,":"]
[null,null,":",null,null,23,null,null,":",null,null,null,null,null,":",null,null,23,null,null,":"]
[null,null,":",null,null,24,null,null,":",null,null,null,null,null,":",null,null,24,null,null,":"]
[null,null,":",null,null,25,null,null,":",null,null,null,null,null,":",null,null,25,null,null,":"]
[]
["Runde 3 ohne FL",null,null,null,null,null,"Runde 4 ohne FL",null,null,null,null,null,"Runde 3 mit FL",null,null,null,null,null,"Runde 4 mit FL"]
[19,null,":",null,25,null,15,null,":",null,21,null,19,null,":",null,25,null,15,null,":",null,21]
[3,null,":",null,12,null,30,null,":",null,8,null,3,null,":",null,12,null,"FL",null,":",null,8]
[26,null,":",null,20,null,22,null,":",null,16,null,26,null,":",null,20,null,22,null,":",null,16]
[9,null,":",null,6,null,5,null,":",null,2,null,9,null,":",null,6,null,5,null,":",null,2]
[28,null,":",null,18,null,24,null,":",null,14,null,28,null,":",null,18,null,24,null,":",null,14]
[24,null,":",null,22,null,20,null,":",null,18,null,24,null,":",null,22,null,20,null,":",null,18]
[5,null,":",null,10,null,1,null,":",null,6,null,5,null,":",null,10,null,1,null,":",null,6]
[7,null,":",null,8,null,3,null,":",null,4,null,7,null,":",null,8,null,3,null,":",null,4]
[15,null,":",null,29,null,11,null,":",null,25,null,15,null,":",null,29,null,11,null,":",null,25]
[21,null,":",null,23,null,17,null,":",null,19,null,21,null,":",null,23,null,17,null,":",null,19]
[1,null,":",null,14,null,28,null,":",null,10,null,1,null,":",null,14,null,28,null,":",null,10]
[11,null,":",null,4,null,7,null,":",null,29,null,11,null,":",null,4,null,7,null,":",null,29]
[17,null,":",null,27,null,13,null,":",null,23,null,17,null,":",null,27,null,13,null,":",null,23]
[13,null,":",null,2,null,9,null,":",null,27,null,13,null,":",null,2,null,9,null,":",null,27]
[30,null,":",null,16,null,26,null,":",null,12,null,"FL",null,":",null,16,null,26,null,":",null,12]
[null,null,":",null,null,16,null,null,":",null,null,null,null,null,":",null,null,16,null,null,":"]
[null,null,":",null,null,17,null,null,":",null,null,null,null,null,":",null,null,17,null,null,":"]
[null,null,":",null,null,18,null,null,":",null,null,null,null,null,":",null,null,18,null,null,":"]
[null,null,":",null,null,19,null,null,":",null,null,null,null,null,":",null,null,19,null,null,":"]
[null,null,":",null,null,20,null,null,":",null,null,null,null,null,":",null,null,20,null,null,":"]
[null,null,":",null,null,21,null,null,":",null,null,null,null,null,":",null,null,21,null,null,":"]
[null,null,":",null,null,22,null,null,":",null,null,null,null,null,":",null,null,22,null,null,":"]
[null,null,":",null,null,23,null,null,":",null,null,null,null,null,":",null,null,23,null,null,":"]
[null,null,":",null,null,24,null,null,":",null,null,null,null,null,":",null,null,24,null,null,":"]
[null,null,":",null,null,25,null,null,":",null,null,null,null,null,":",null,null,25,null,null,":"]

{"sheet":"31-32","index":22,"n_rows":108,"n_cols":23,"rows_kept":108,"cut":false,"hidden":false,"merged":[[82,0,82,4],[82,6,82,10],[82,12,82,16],[82,18,82,22],[19,0,19,4],[19,6,19,10],[19,12,19,16],[19,18,19,22],[55,0,55,4],[55,6,55,10],[55,12,55,16],[55,18,55,22],[0,0,0,10],[0,12,0,22],[1,0,1,4],[1,6,1,10],[1,12,1,16],[1,18,1,22]]}
["wer gegen wen",null,null,null,null,null,null,null,null,null,null,null,"wer gegen wen"]
["Runde 1",null,null,null,null,32,"Runde 2",null,null,null,null,null,"Runde 1",null,null,null,null,31,"Runde 2"]
[19,null,":",null,14,null,13,null,":",null,8,null,19,null,":",null,14,null,13,null,":",null,8]
[23,null,":",null,10,null,17,null,":",null,4,null,23,null,":",null,10,null,17,null,":",null,4]
[7,null,":",null,26,null,1,null,":",null,20,null,7,null,":",null,26,null,1,null,":",null,20]
[15,null,":",null,18,null,9,null,":",null,12,null,15,null,":",null,18,null,9,null,":",null,12]
[5,null,":",null,28,null,32,null,":",null,22,null,5,null,":",null,28,null,"FL",null,":",null,22]
[27,null,":",null,6,null,21,null,":",null,31,null,27,null,":",null,6,null,21,null,":",null,31]
[1,null,":",null,32,null,28,null,":",null,26,null,1,null,":",null,"FL",null,28,null,":",null,26]
[13,null,":",null,20,null,7,null,":",null,14,null,13,null,":",null,20,null,7,null,":",null,14]
[17,null,":",null,16,null,11,null,":",null,10,null,17,null,":",null,16,null,11,null,":",null,10]
[3,null,":",null,30,null,30,null,":",null,24,null,3,null,":",null,30,null,30,null,":",null,24]
[31,null,":",null,2,null,25,null,":",null,27,null,31,null,":",null,2,null,25,null,":",null,27]
[11,null,":",null,22,null,5,null,":",null,16,null,11,null,":",null,22,null,5,null,":",null,16]
[29,null,":",null,4,null,23,null,":",null,29,null,29,null,":",null,4,null,23,null,":",null,29]
[21,null,":",null,12,null,15,null,":",null,6,null,21,null,":",null,12,null,15,null,":",null,6]
[9,null,":",null,24,null,3,null,":",null,18,null,9,null,":",null,24,null,3,null,":",null,18]
[25,null,":",null,8,null,19,null,":",null,2,null,25,null,":",null,8,null,19,null,":",null,2]
[]
["Runde 3",null,null,null,null,32,"Runde 4",null,null,null,null,null,"Runde 3",null,null,null,null,31,"Runde 4"]
[15,null,":",null,25,null,9,null,":",null,19,null,15,null,":",null,25,null,9,null,":",null,19]
[17,null,":",null,23,null,11,null,":",null,17,null,17,null,":",null,23,null,11,null,":",null,17]
[9,null,":",null,31,null,3,null,":",null,25,null,9,null,":",null,31,null,3,null,":",null,25]
[28,null,":",null,14,null,22,null,":",null,8,null,28,null,":",null,14,null,22,null,":",null,8]
[26,null,":",null,16,null,20,null,":",null,10,null,26,null,":",null,16,null,20,null,":",null,10]
[30,null,":",null,12,null,24,null,":",null,6,null,30,null,":",null,12,null,24,null,":",null,6]
[13,null,":",null,27,null,7,null,":",null,21,null,13,null,":",null,27,null,7,null,":",null,21]
[22,null,":",null,20,null,16,null,":",null,14,null,22,null,":",null,20,null,16,null,":",null,14]
[3,null,":",null,6,null,30,null,":",null,31,null,3,null,":",null,6,null,30,null,":",null,31]
[32,null,":",null,10,null,26,null,":",null,4,null,"FL",null,":",null,10,null,26,null,":",null,4]
[24,null,":",null,18,null,18,null,":",null,12,null,24,null,":",null,18,null,18,null,":",null,12]
[7,null,":",null,2,null,1,null,":",null,27,null,7,null,":",null,2,null,1,null,":",null,27]
[11,null,":",null,29,null,5,null,":",null,23,null,11,null,":",null,29,null,5,null,":",null,23]
[19,null,":",null,21,null,13,null,":",null,15,null,19,null,":",null,21,null,13,null,":",null,15]
[5,null,":",null,4,null,32,null,":",null,29,null,5,null,":",null,4,null,"FL",null,":",null,29]
[1,null,":",null,8,null,28,null,":",null,2,null,1,null,":",null,8,null,28,null,":",null,2]
[]
[]
[]
[]
[]
[]
[]
[]
[]
[]
[]
[]
[]
[]
[]
[]
[]
[]
[]
["Runde 1 ohne FL",null,null,null,null,null,"Runde 2 ohne FL",null,null,null,null,null,"Runde 1 mit FL",null,null,null,null,null,"Runde 2 mit FL"]
[19,null,":",null,14,null,13,null,":",null,8,null,19,null,":",null,14,null,13,null,":",null,8]
[23,null,":",null,10,null,17,null,":",null,4,null,23,null,":",null,10,null,17,null,":",null,4]
[7,null,":",null,26,null,1,null,":",null,20,null,7,null,":",null,26,null,1,null,":",null,20]
[15,null,":",null,18,null,9,null,":",null,12,null,15,null,":",null,18,null,9,null,":",null,12]
[5,null,":",null,28,null,32,null,":",null,22,null,5,null,":",null,28,null,"FL",null,":",null,22]
[27,null,":",null,6,null,21,null,":",null,31,null,27,null,":",null,6,null,21,null,":",null,31]
[1,null,":",null,32,null,28,null,":",null,26,null,1,null,":",null,"FL",null,28,null,":",null,26]
[13,null,":",null,20,null,7,null,":",null,14,null,13,null,":",null,20,null,7,null,":",null,14]
[17,null,":",null,16,null,11,null,":",null,10,null,17,null,":",null,16,null,11,null,":",null,10]
[3,null,":",null,30,null,30,null,":",null,24,null,3,null,":",null,30,null,30,null,":",null,24]
[31,null,":",null,2,null,25,null,":",null,27,null,31,null,":",null,2,null,25,null,":",null,27]
[11,null,":",null,22,null,5,null,":",null,16,null,11,null,":",null,22,null,5,null,":",null,16]
[29,null,":",null,4,null,23,null,":",null,29,null,29,null,":",null,4,null,23,null,":",null,29]
[21,null,":",null,12,null,15,null,":",null,6,null,21,null,":",null,12,null,15,null,":",null,6]
[9,null,":",null,24,null,3,null,":",null,18,null,9,null,":",null,24,null,3,null,":",null,18]
[25,null,":",null,8,null,19,null,":",null,2,null,25,null,":",null,8,null,19,null,":",null,2]
[null,null,":",null,null,17,null,null,":",null,null,null,null,null,":",null,null,17,null,null,":"]
[null,null,":",null,null,18,null,null,":",null,null,null,null,null,":",null,null,18,null,null,":"]
[null,null,":",null,null,19,null,null,":",null,null,null,null,null,":",null,null,19,null,null,":"]
[null,null,":",null,null,20,null,null,":",null,null,null,null,null,":",null,null,20,null,null,":"]
[null,null,":",null,null,21,null,null,":",null,null,null,null,null,":",null,null,21,null,null,":"]
[null,null,":",null,null,22,null,null,":",null,null,null,null,null,":",null,null,22,null,null,":"]
[null,null,":",null,null,23,null,null,":",null,null,null,null,null,":",null,null,23,null,null,":"]
[null,null,":",null,null,24,null,null,":",null,null,null,null,null,":",null,null,24,null,null,":"]
[null,null,":",null,null,25,null,null,":",null,null,null,null,null,":",null,null,25,null,null,":"]
[]
["Runde 3 ohne FL",null,null,null,null,null,"Runde 4 ohne FL",null,null,null,null,null,"Runde 3 mit FL",null,null,null,null,null,"Runde 4 mit FL"]
[15,null,":",null,25,null,9,null,":",null,19,null,15,null,":",null,25,null,9,null,":",null,19]
[17,null,":",null,23,null,11,null,":",null,17,null,17,null,":",null,23,null,11,null,":",null,17]
[9,null,":",null,31,null,3,null,":",null,25,null,9,null,":",null,31,null,3,null,":",null,25]
[28,null,":",null,14,null,22,null,":",null,8,null,28,null,":",null,14,null,22,null,":",null,8]
[26,null,":",null,16,null,20,null,":",null,10,null,26,null,":",null,16,null,20,null,":",null,10]
[30,null,":",null,12,null,24,null,":",null,6,null,30,null,":",null,12,null,24,null,":",null,6]
[13,null,":",null,27,null,7,null,":",null,21,null,13,null,":",null,27,null,7,null,":",null,21]
[22,null,":",null,20,null,16,null,":",null,14,null,22,null,":",null,20,null,16,null,":",null,14]
[3,null,":",null,6,null,30,null,":",null,31,null,3,null,":",null,6,null,30,null,":",null,31]
[32,null,":",null,10,null,26,null,":",null,4,null,"FL",null,":",null,10,null,26,null,":",null,4]
[24,null,":",null,18,null,18,null,":",null,12,null,24,null,":",null,18,null,18,null,":",null,12]
[7,null,":",null,2,null,1,null,":",null,27,null,7,null,":",null,2,null,1,null,":",null,27]
[11,null,":",null,29,null,5,null,":",null,23,null,11,null,":",null,29,null,5,null,":",null,23]
[19,null,":",null,21,null,13,null,":",null,15,null,19,null,":",null,21,null,13,null,":",null,15]
[5,null,":",null,4,null,32,null,":",null,29,null,5,null,":",null,4,null,"FL",null,":",null,29]
[1,null,":",null,8,null,28,null,":",null,2,null,1,null,":",null,8,null,28,null,":",null,2]
[null,null,":",null,null,17,null,null,":",null,null,null,null,null,":",null,null,17,null,null,":"]
[null,null,":",null,null,18,null,null,":",null,null,null,null,null,":",null,null,18,null,null,":"]
[null,null,":",null,null,19,null,null,":",null,null,null,null,null,":",null,null,19,null,null,":"]
[null,null,":",null,null,20,null,null,":",null,null,null,null,null,":",null,null,20,null,null,":"]
[null,null,":",null,null,21,null,null,":",null,null,null,null,null,":",null,null,21,null,null,":"]
[null,null,":",null,null,22,null,null,":",null,null,null,null,null,":",null,null,22,null,null,":"]
[null,null,":",null,null,23,null,null,":",null,null,null,null,null,":",null,null,23,null,null,":"]
[null,null,":",null,null,24,null,null,":",null,null,null,null,null,":",null,null,24,null,null,":"]
[null,null,":",null,null,25,null,null,":",null,null,null,null,null,":",null,null,25,null,null,":"]

{"sheet":"33-34","index":23,"n_rows":108,"n_cols":23,"rows_kept":108,"cut":false,"hidden":false,"merged":[[82,0,82,4],[82,6,82,10],[82,12,82,16],[82,18,82,22],[20,0,20,4],[20,6,20,10],[20,12,20,16],[20,18,20,22],[55,0,55,4],[55,6,55,10],[55,12,55,16],[55,18,55,22],[0,0,0,10],[0,12,0,22],[1,0,1,4],[1,6,1,10],[1,12,1,16],[1,18,1,22]]}
["wer gegen wen",null,null,null,null,null,null,null,null,null,null,null,"wer gegen wen"]
["Runde 1",null,null,null,null,34,"Runde 2",null,null,null,null,null,"Runde 1",null,null,null,null,33,"Runde 2"]
[23,null,":",null,12,null,17,null,":",null,6,null,23,null,":",null,12,null,17,null,":",null,6]
[29,null,":",null,6,null,23,null,":",null,33,null,29,null,":",null,6,null,23,null,":",null,33]
[7,null,":",null,28,null,1,null,":",null,22,null,7,null,":",null,28,null,1,null,":",null,22]
[13,null,":",null,22,null,7,null,":",null,16,null,13,null,":",null,22,null,7,null,":",null,16]
[15,null,":",null,20,null,9,null,":",null,14,null,15,null,":",null,20,null,9,null,":",null,14]
[33,null,":",null,2,null,27,null,":",null,29,null,33,null,":",null,2,null,27,null,":",null,29]
[17,null,":",null,18,null,11,null,":",null,12,null,17,null,":",null,18,null,11,null,":",null,12]
[27,null,":",null,8,null,21,null,":",null,2,null,27,null,":",null,8,null,21,null,":",null,2]
[19,null,":",null,16,null,13,null,":",null,10,null,19,null,":",null,16,null,13,null,":",null,10]
[5,null,":",null,30,null,34,null,":",null,24,null,5,null,":",null,30,null,"FL",null,":",null,24]
[9,null,":",null,26,null,3,null,":",null,20,null,9,null,":",null,26,null,3,null,":",null,20]
[11,null,":",null,24,null,5,null,":",null,18,null,11,null,":",null,24,null,5,null,":",null,18]
[21,null,":",null,14,null,15,null,":",null,8,null,21,null,":",null,14,null,15,null,":",null,8]
[31,null,":",null,4,null,25,null,":",null,31,null,31,null,":",null,4,null,25,null,":",null,31]
[1,null,":",null,34,null,30,null,":",null,28,null,1,null,":",null,"FL",null,30,null,":",null,28]
[3,null,":",null,32,null,32,null,":",null,26,null,3,null,":",null,32,null,32,null,":",null,26]
[25,null,":",null,10,null,19,null,":",null,4,null,25,null,":",null,10,null,19,null,":",null,4]
[]
["Runde 3",null,null,null,null,34,"Runde 4",null,null,null,null,null,"Runde 3",null,null,null,null,33,"Runde 4"]
[7,null,":",null,4,null,1,null,":",null,31,null,7,null,":",null,4,null,1,null,":",null,31]
[24,null,":",null,22,null,18,null,":",null,16,null,24,null,":",null,22,null,18,null,":",null,16]
[28,null,":",null,18,null,22,null,":",null,12,null,28,null,":",null,18,null,22,null,":",null,12]
[5,null,":",null,6,null,34,null,":",null,33,null,5,null,":",null,6,null,"FL",null,":",null,33]
[34,null,":",null,12,null,28,null,":",null,6,null,"FL",null,":",null,12,null,28,null,":",null,6]
[13,null,":",null,31,null,7,null,":",null,25,null,13,null,":",null,31,null,7,null,":",null,25]
[3,null,":",null,8,null,32,null,":",null,2,null,3,null,":",null,8,null,32,null,":",null,2]
[19,null,":",null,25,null,13,null,":",null,19,null,19,null,":",null,25,null,13,null,":",null,19]
[11,null,":",null,33,null,5,null,":",null,27,null,11,null,":",null,33,null,5,null,":",null,27]
[9,null,":",null,2,null,3,null,":",null,29,null,9,null,":",null,2,null,3,null,":",null,29]
[17,null,":",null,27,null,11,null,":",null,21,null,17,null,":",null,27,null,11,null,":",null,21]
[1,null,":",null,10,null,30,null,":",null,4,null,1,null,":",null,10,null,30,null,":",null,4]
[21,null,":",null,23,null,15,null,":",null,17,null,21,null,":",null,23,null,15,null,":",null,17]
[15,null,":",null,29,null,9,null,":",null,23,null,15,null,":",null,29,null,9,null,":",null,23]
[26,null,":",null,20,null,20,null,":",null,14,null,26,null,":",null,20,null,20,null,":",null,14]
[32,null,":",null,14,null,26,null,":",null,8,null,32,null,":",null,14,null,26,null,":",null,8]
[30,null,":",null,16,null,24,null,":",null,10,null,30,null,":",null,16,null,24,null,":",null,10]
[]
[]
[]
[]
[]
[]
[]
[]
[]
[]
[]
[]
[]
[]
[]
[]
[]
["Runde 1 ohne FL",null,null,null,null,null,"Runde 2 ohne FL",null,null,null,null,null,"Runde 1 mit FL",null,null,null,null,null,"Runde 2 mit FL"]
[23,null,":",null,12,null,17,null,":",null,6,null,23,null,":",null,12,null,17,null,":",null,6]
[29,null,":",null,6,null,23,null,":",null,33,null,29,null,":",null,6,null,23,null,":",null,33]
[7,null,":",null,28,null,1,null,":",null,22,null,7,null,":",null,28,null,1,null,":",null,22]
[13,null,":",null,22,null,7,null,":",null,16,null,13,null,":",null,22,null,7,null,":",null,16]
[15,null,":",null,20,null,9,null,":",null,14,null,15,null,":",null,20,null,9,null,":",null,14]
[33,null,":",null,2,null,27,null,":",null,29,null,33,null,":",null,2,null,27,null,":",null,29]
[17,null,":",null,18,null,11,null,":",null,12,null,17,null,":",null,18,null,11,null,":",null,12]
[27,null,":",null,8,null,21,null,":",null,2,null,27,null,":",null,8,null,21,null,":",null,2]
[19,null,":",null,16,null,13,null,":",null,10,null,19,null,":",null,16,null,13,null,":",null,10]
[5,null,":",null,30,null,34,null,":",null,24,null,5,null,":",null,30,null,"FL",null,":",null,24]
[9,null,":",null,26,null,3,null,":",null,20,null,9,null,":",null,26,null,3,null,":",null,20]
[11,null,":",null,24,null,5,null,":",null,18,null,11,null,":",null,24,null,5,null,":",null,18]
[21,null,":",null,14,null,15,null,":",null,8,null,21,null,":",null,14,null,15,null,":",null,8]
[31,null,":",null,4,null,25,null,":",null,31,null,31,null,":",null,4,null,25,null,":",null,31]
[1,null,":",null,34,null,30,null,":",null,28,null,1,null,":",null,"FL",null,30,null,":",null,28]
[3,null,":",null,32,null,32,null,":",null,26,null,3,null,":",null,32,null,32,null,":",null,26]
[25,null,":",null,10,null,19,null,":",null,4,null,25,null,":",null,10,null,19,null,":",null,4]
[null,null,":",null,null,18,null,null,":",null,null,null,null,null,":",null,null,18,null,null,":"]
[null,null,":",null,null,19,null,null,":",null,null,null,null,null,":",null,null,19,null,null,":"]
[null,null,":",null,null,20,null,null,":",null,null,null,null,null,":",null,null,20,null,null,":"]
[null,null,":",null,null,21,null,null,":",null,null,null,null,null,":",null,null,21,null,null,":"]
[null,null,":",null,null,22,null,null,":",null,null,null,null,null,":",null,null,22,null,null,":"]
[null,null,":",null,null,23,null,null,":",null,null,null,null,null,":",null,null,23,null,null,":"]
[null,null,":",null,null,24,null,null,":",null,null,null,null,null,":",null,null,24,null,null,":"]
[null,null,":",null,null,25,null,null,":",null,null,null,null,null,":",null,null,25,null,null,":"]
[]
["Runde 3 ohne FL",null,null,null,null,null,"Runde 4 ohne FL",null,null,null,null,null,"Runde 3 mit FL",null,null,null,null,null,"Runde 4 mit FL"]
[7,null,":",null,4,null,1,null,":",null,31,null,7,null,":",null,4,null,1,null,":",null,31]
[24,null,":",null,22,null,18,null,":",null,16,null,24,null,":",null,22,null,18,null,":",null,16]
[28,null,":",null,18,null,22,null,":",null,12,null,28,null,":",null,18,null,22,null,":",null,12]
[5,null,":",null,6,null,34,null,":",null,33,null,5,null,":",null,6,null,"FL",null,":",null,33]
[34,null,":",null,12,null,28,null,":",null,6,null,"FL",null,":",null,12,null,28,null,":",null,6]
[13,null,":",null,31,null,7,null,":",null,25,null,13,null,":",null,31,null,7,null,":",null,25]
[3,null,":",null,8,null,32,null,":",null,2,null,3,null,":",null,8,null,32,null,":",null,2]
[19,null,":",null,25,null,13,null,":",null,19,null,19,null,":",null,25,null,13,null,":",null,19]
[11,null,":",null,33,null,5,null,":",null,27,null,11,null,":",null,33,null,5,null,":",null,27]
[9,null,":",null,2,null,3,null,":",null,29,null,9,null,":",null,2,null,3,null,":",null,29]
[17,null,":",null,27,null,11,null,":",null,21,null,17,null,":",null,27,null,11,null,":",null,21]
[1,null,":",null,10,null,30,null,":",null,4,null,1,null,":",null,10,null,30,null,":",null,4]
[21,null,":",null,23,null,15,null,":",null,17,null,21,null,":",null,23,null,15,null,":",null,17]
[15,null,":",null,29,null,9,null,":",null,23,null,15,null,":",null,29,null,9,null,":",null,23]
[26,null,":",null,20,null,20,null,":",null,14,null,26,null,":",null,20,null,20,null,":",null,14]
[32,null,":",null,14,null,26,null,":",null,8,null,32,null,":",null,14,null,26,null,":",null,8]
[30,null,":",null,16,null,24,null,":",null,10,null,30,null,":",null,16,null,24,null,":",null,10]
[null,null,":",null,null,18,null,null,":",null,null,null,null,null,":",null,null,18,null,null,":"]
[null,null,":",null,null,19,null,null,":",null,null,null,null,null,":",null,null,19,null,null,":"]
[null,null,":",null,null,20,null,null,":",null,null,null,null,null,":",null,null,20,null,null,":"]
[null,null,":",null,null,21,null,null,":",null,null,null,null,null,":",null,null,21,null,null,":"]
[null,null,":",null,null,22,null,null,":",null,null,null,null,null,":",null,null,22,null,null,":"]
[null,null,":",null,null,23,null,null,":",null,null,null,null,null,":",null,null,23,null,null,":"]
[null,null,":",null,null,24,null,null,":",null,null,null,null,null,":",null,null,24,null,null,":"]
[null,null,":",null,null,25,null,null,":",null,null,null,null,null,":",null,null,25,null,null,":"]

{"sheet":"35-36","index":24,"n_rows":108,"n_cols":23,"rows_kept":108,"cut":false,"hidden":false,"merged":[[82,0,82,4],[82,6,82,10],[82,12,82,16],[82,18,82,22],[21,0,21,4],[21,6,21,10],[21,12,21,16],[21,18,21,22],[55,0,55,4],[55,6,55,10],[55,12,55,16],[55,18,55,22],[0,0,0,10],[0,12,0,22],[1,0,1,4],[1,6,1,10],[1,12,1,16],[1,18,1,22]]}
["wer gegen wen",null,null,null,null,null,null,null,null,null,null,null,"wer gegen wen"]
["Runde 1",null,null,null,null,36,"Runde 2",null,null,null,null,null,"Runde 1",null,null,null,null,35,"Runde 2"]
[17,null,":",null,20,null,11,null,":",null,14,null,17,null,":",null,20,null,11,null,":",null,14]
[19,null,":",null,18,null,13,null,":",null,12,null,19,null,":",null,18,null,13,null,":",null,12]
[3,null,":",null,34,null,34,null,":",null,28,null,3,null,":",null,34,null,34,null,":",null,28]
[35,null,":",null,2,null,29,null,":",null,31,null,35,null,":",null,2,null,29,null,":",null,31]
[33,null,":",null,4,null,27,null,":",null,33,null,33,null,":",null,4,null,27,null,":",null,33]
[31,null,":",null,6,null,25,null,":",null,35,null,31,null,":",null,6,null,25,null,":",null,35]
[1,null,":",null,36,null,32,null,":",null,30,null,1,null,":",null,"FL",null,32,null,":",null,30]
[9,null,":",null,28,null,3,null,":",null,22,null,9,null,":",null,28,null,3,null,":",null,22]
[23,null,":",null,14,null,17,null,":",null,8,null,23,null,":",null,14,null,17,null,":",null,8]
[29,null,":",null,8,null,23,null,":",null,2,null,29,null,":",null,8,null,23,null,":",null,2]
[27,null,":",null,10,null,21,null,":",null,4,null,27,null,":",null,10,null,21,null,":",null,4]
[11,null,":",null,26,null,5,null,":",null,20,null,11,null,":",null,26,null,5,null,":",null,20]
[5,null,":",null,32,null,36,null,":",null,26,null,5,null,":",null,32,null,"FL",null,":",null,26]
[21,null,":",null,16,null,15,null,":",null,10,null,21,null,":",null,16,null,15,null,":",null,10]
[15,null,":",null,22,null,9,null,":",null,16,null,15,null,":",null,22,null,9,null,":",null,16]
[7,null,":",null,30,null,1,null,":",null,24,null,7,null,":",null,30,null,1,null,":",null,24]
[25,null,":",null,12,null,19,null,":",null,6,null,25,null,":",null,12,null,19,null,":",null,6]
[13,null,":",null,24,null,7,null,":",null,18,null,13,null,":",null,24,null,7,null,":",null,18]
[]
["Runde 3",null,null,null,null,36,"Runde 4",null,null,null,null,null,"Runde 3",null,null,null,null,35,"Runde 4"]
[7,null,":",null,6,null,1,null,":",null,35,null,7,null,":",null,6,null,1,null,":",null,35]
[30,null,":",null,20,null,24,null,":",null,14,null,30,null,":",null,20,null,24,null,":",null,14]
[34,null,":",null,16,null,28,null,":",null,10,null,34,null,":",null,16,null,28,null,":",null,10]
[23,null,":",null,35,null,17,null,":",null,19,null,23,null,":",null,35,null,17,null,":",null,19]
[1,null,":",null,12,null,32,null,":",null,6,null,1,null,":",null,12,null,32,null,":",null,6]
[19,null,":",null,33,null,13,null,":",null,23,null,19,null,":",null,33,null,13,null,":",null,23]
[11,null,":",null,2,null,5,null,":",null,31,null,11,null,":",null,2,null,5,null,":",null,31]
[13,null,":",null,29,null,7,null,":",null,29,null,13,null,":",null,29,null,7,null,":",null,29]
[5,null,":",null,8,null,36,null,":",null,2,null,5,null,":",null,8,null,"FL",null,":",null,2]
[17,null,":",null,25,null,11,null,":",null,25,null,17,null,":",null,25,null,11,null,":",null,25]
[15,null,":",null,27,null,9,null,":",null,27,null,15,null,":",null,27,null,9,null,":",null,27]
[3,null,":",null,10,null,34,null,":",null,4,null,3,null,":",null,10,null,34,null,":",null,4]
[28,null,":",null,22,null,22,null,":",null,16,null,28,null,":",null,22,null,22,null,":",null,16]
[36,null,":",null,14,null,30,null,":",null,8,null,"FL",null,":",null,14,null,30,null,":",null,8]
[26,null,":",null,24,null,20,null,":",null,18,null,26,null,":",null,24,null,20,null,":",null,18]
[21,null,":",null,31,null,15,null,":",null,21,null,21,null,":",null,31,null,15,null,":",null,21]
[9,null,":",null,4,null,3,null,":",null,33,null,9,null,":",null,4,null,3,null,":",null,33]
[32,null,":",null,18,null,26,null,":",null,12,null,32,null,":",null,18,null,26,null,":",null,12]
[]
[]
[]
[]
[]
[]
[]
[]
[]
[]
[]
[]
[]
[]
[]
["Runde 1 ohne FL",null,null,null,null,null,"Runde 2 ohne FL",null,null,null,null,null,"Runde 1 mit FL",null,null,null,null,null,"Runde 2 mit FL"]
[17,null,":",null,20,null,11,null,":",null,14,null,17,null,":",null,20,null,11,null,":",null,14]
[19,null,":",null,18,null,13,null,":",null,12,null,19,null,":",null,18,null,13,null,":",null,12]
[3,null,":",null,34,null,34,null,":",null,28,null,3,null,":",null,34,null,34,null,":",null,28]
[35,null,":",null,2,null,29,null,":",null,31,null,35,null,":",null,2,null,29,null,":",null,31]
[33,null,":",null,4,null,27,null,":",null,33,null,33,null,":",null,4,null,27,null,":",null,33]
[31,null,":",null,6,null,25,null,":",null,35,null,31,null,":",null,6,null,25,null,":",null,35]
[1,null,":",null,36,null,32,null,":",null,30,null,1,null,":",null,"FL",null,32,null,":",null,30]
[9,null,":",null,28,null,3,null,":",null,22,null,9,null,":",null,28,null,3,null,":",null,22]
[23,null,":",null,14,null,17,null,":",null,8,null,23,null,":",null,14,null,17,null,":",null,8]
[29,null,":",null,8,null,23,null,":",null,2,null,29,null,":",null,8,null,23,null,":",null,2]
[27,null,":",null,10,null,21,null,":",null,4,null,27,null,":",null,10,null,21,null,":",null,4]
[11,null,":",null,26,null,5,null,":",null,20,null,11,null,":",null,26,null,5,null,":",null,20]
[5,null,":",null,32,null,36,null,":",null,26,null,5,null,":",null,32,null,"FL",null,":",null,26]
[21,null,":",null,16,null,15,null,":",null,10,null,21,null,":",null,16,null,15,null,":",null,10]
[15,null,":",null,22,null,9,null,":",null,16,null,15,null,":",null,22,null,9,null,":",null,16]
[7,null,":",null,30,null,1,null,":",null,24,null,7,null,":",null,30,null,1,null,":",null,24]
[25,null,":",null,12,null,19,null,":",null,6,null,25,null,":",null,12,null,19,null,":",null,6]
[13,null,":",null,24,null,7,null,":",null,18,null,13,null,":",null,24,null,7,null,":",null,18]
[null,null,":",null,null,19,null,null,":",null,null,null,null,null,":",null,null,19,null,null,":"]
[null,null,":",null,null,20,null,null,":",null,null,null,null,null,":",null,null,20,null,null,":"]
[null,null,":",null,null,21,null,null,":",null,null,null,null,null,":",null,null,21,null,null,":"]
[null,null,":",null,null,22,null,null,":",null,null,null,null,null,":",null,null,22,null,null,":"]
[null,null,":",null,null,23,null,null,":",null,null,null,null,null,":",null,null,23,null,null,":"]
[null,null,":",null,null,24,null,null,":",null,null,null,null,null,":",null,null,24,null,null,":"]
[null,null,":",null,null,25,null,null,":",null,null,null,null,null,":",null,null,25,null,null,":"]
[]
["Runde 3 ohne FL",null,null,null,null,null,"Runde 4 ohne FL",null,null,null,null,null,"Runde 3 mit FL",null,null,null,null,null,"Runde 4 mit FL"]
[7,null,":",null,6,null,1,null,":",null,35,null,7,null,":",null,6,null,1,null,":",null,35]
[30,null,":",null,20,null,24,null,":",null,14,null,30,null,":",null,20,null,24,null,":",null,14]
[34,null,":",null,16,null,28,null,":",null,10,null,34,null,":",null,16,null,28,null,":",null,10]
[23,null,":",null,35,null,17,null,":",null,19,null,23,null,":",null,35,null,17,null,":",null,19]
[1,null,":",null,12,null,32,null,":",null,6,null,1,null,":",null,12,null,32,null,":",null,6]
[19,null,":",null,33,null,13,null,":",null,23,null,19,null,":",null,33,null,13,null,":",null,23]
[11,null,":",null,2,null,5,null,":",null,31,null,11,null,":",null,2,null,5,null,":",null,31]
[13,null,":",null,29,null,7,null,":",null,29,null,13,null,":",null,29,null,7,null,":",null,29]
[5,null,":",null,8,null,36,null,":",null,2,null,5,null,":",null,8,null,"FL",null,":",null,2]
[17,null,":",null,25,null,11,null,":",null,25,null,17,null,":",null,25,null,11,null,":",null,25]
[15,null,":",null,27,null,9,null,":",null,27,null,15,null,":",null,27,null,9,null,":",null,27]
[3,null,":",null,10,null,34,null,":",null,4,null,3,null,":",null,10,null,34,null,":",null,4]
[28,null,":",null,22,null,22,null,":",null,16,null,28,null,":",null,22,null,22,null,":",null,16]
[36,null,":",null,14,null,30,null,":",null,8,null,"FL",null,":",null,14,null,30,null,":",null,8]
[26,null,":",null,24,null,20,null,":",null,18,null,26,null,":",null,24,null,20,null,":",null,18]
[21,null,":",null,31,null,15,null,":",null,21,null,21,null,":",null,31,null,15,null,":",null,21]
[9,null,":",null,4,null,3,null,":",null,33,null,9,null,":",null,4,null,3,null,":",null,33]
[32,null,":",null,18,null,26,null,":",null,12,null,32,null,":",null,18,null,26,null,":",null,12]
[null,null,":",null,null,19,null,null,":",null,null,null,null,null,":",null,null,19,null,null,":"]
[null,null,":",null,null,20,null,null,":",null,null,null,null,null,":",null,null,20,null,null,":"]
[null,null,":",null,null,21,null,null,":",null,null,null,null,null,":",null,null,21,null,null,":"]
[null,null,":",null,null,22,null,null,":",null,null,null,null,null,":",null,null,22,null,null,":"]
[null,null,":",null,null,23,null,null,":",null,null,null,null,null,":",null,null,23,null,null,":"]
[null,null,":",null,null,24,null,null,":",null,null,null,null,null,":",null,null,24,null,null,":"]
[null,null,":",null,null,25,null,null,":",null,null,null,null,null,":",null,null,25,null,null,":"]

{"sheet":"37-38","index":25,"n_rows":108,"n_cols":23,"rows_kept":108,"cut":false,"hidden":false,"merged":[[21,0,21,4],[21,6,21,10],[21,12,21,16],[21,18,21,22],[82,0,82,4],[82,6,82,10],[82,12,82,16],[82,18,82,22],[22,0,22,4],[22,6,22,10],[22,12,22,16],[22,18,22,22],[55,0,55,4],[55,6,55,10],[55,12,55,16],[55,18,55,22],[0,0,0,10],[0,12,0,22],[1,0,1,4],[1,6,1,10],[1,12,1,16],[1,18,1,22]]}
["wer gegen wen",null,null,null,null,null,null,null,null,null,null,null,"wer gegen wen"]
["Runde 1",null,null,null,null,38,"Runde 2",null,null,null,null,null,"Runde 1",null,null,null,null,37,"Runde 2"]
[27,null,":",null,21,null,25,null,":",null,20,null,27,null,":",null,21,null,25,null,":",null,20]
[23,null,":",null,12,null,15,null,":",null,5,null,23,null,":",null,12,null,15,null,":",null,5]
[30,null,":",null,1,null,30,null,":",null,18,null,30,null,":",null,1,null,30,null,":",null,18]
[29,null,":",null,31,null,29,null,":",null,23,null,29,null,":",null,31,null,29,null,":",null,23]
[2,null,":",null,16,null,32,null,":",null,1,null,2,null,":",null,16,null,32,null,":",null,1]
[33,null,":",null,15,null,8,null,":",null,3,null,33,null,":",null,15,null,8,null,":",null,3]
[37,null,":",null,34,null,13,null,":",null,21,null,37,null,":",null,34,null,13,null,":",null,21]
[3,null,":",null,14,null,4,null,":",null,26,null,3,null,":",null,14,null,4,null,":",null,26]
[20,null,":",null,18,null,14,null,":",null,6,null,20,null,":",null,18,null,14,null,":",null,6]
[24,null,":",null,25,null,27,null,":",null,36,null,24,null,":",null,25,null,27,null,":",null,36]
[11,null,":",null,32,null,16,null,":",null,19,null,11,null,":",null,32,null,16,null,":",null,19]
[38,null,":",null,35,null,7,null,":",null,17,null,"FL",null,":",null,35,null,7,null,":",null,17]
[9,null,":",null,10,null,11,null,":",null,34,null,9,null,":",null,10,null,11,null,":",null,34]
[5,null,":",null,26,null,10,null,":",null,2,null,5,null,":",null,26,null,10,null,":",null,2]
[22,null,":",null,4,null,31,null,":",null,12,null,22,null,":",null,4,null,31,null,":",null,12]
[7,null,":",null,28,null,9,null,":",null,33,null,7,null,":",null,28,null,9,null,":",null,33]
[13,null,":",null,8,null,37,null,":",null,24,null,13,null,":",null,8,null,37,null,":",null,24]
[17,null,":",null,19,null,38,null,":",null,28,null,17,null,":",null,19,null,"FL",null,":",null,28]
[6,null,":",null,36,null,22,null,":",null,35,null,6,null,":",null,36,null,22,null,":",null,35]
[]
["Runde 3",null,null,null,null,38,"Runde 4",null,null,null,null,null,"Runde 3",null,null,null,null,37,"Runde 4"]
[2,null,":",null,18,null,19,null,":",null,6,null,2,null,":",null,18,null,19,null,":",null,6]
[29,null,":",null,32,null,37,null,":",null,7,null,29,null,":",null,32,null,37,null,":",null,7]
[8,null,":",null,33,null,23,null,":",null,26,null,8,null,":",null,33,null,23,null,":",null,26]
[16,null,":",null,14,null,5,null,":",null,25,null,16,null,":",null,14,null,5,null,":",null,25]
[10,null,":",null,31,null,29,null,":",null,30,null,10,null,":",null,31,null,29,null,":",null,30]
[21,null,":",null,24,null,17,null,":",null,4,null,21,null,":",null,24,null,17,null,":",null,4]
[4,null,":",null,28,null,22,null,":",null,3,null,4,null,":",null,28,null,22,null,":",null,3]
[3,null,":",null,11,null,16,null,":",null,12,null,3,null,":",null,11,null,16,null,":",null,12]
[37,null,":",null,13,null,38,null,":",null,11,null,37,null,":",null,13,null,"FL",null,":",null,11]
[25,null,":",null,15,null,18,null,":",null,36,null,25,null,":",null,15,null,18,null,":",null,36]
[9,null,":",null,17,null,20,null,":",null,14,null,9,null,":",null,17,null,20,null,":",null,14]
[27,null,":",null,23,null,10,null,":",null,21,null,27,null,":",null,23,null,10,null,":",null,21]
[6,null,":",null,35,null,34,null,":",null,15,null,6,null,":",null,35,null,34,null,":",null,15]
[1,null,":",null,7,null,2,null,":",null,27,null,1,null,":",null,7,null,2,null,":",null,27]
[38,null,":",null,12,null,33,null,":",null,31,null,"FL",null,":",null,12,null,33,null,":",null,31]
[34,null,":",null,5,null,24,null,":",null,13,null,34,null,":",null,5,null,24,null,":",null,13]
[22,null,":",null,26,null,8,null,":",null,28,null,22,null,":",null,26,null,8,null,":",null,28]
[20,null,":",null,36,null,1,null,":",null,9,null,20,null,":",null,36,null,1,null,":",null,9]
[30,null,":",null,19,null,35,null,":",null,32,null,30,null,":",null,19,null,35,null,":",null,32]
[]
[]
[]
[]
[]
[]
[]
[]
[]
[]
[]
[]
[]
["Runde 1 ohne FL",null,null,null,null,null,"Runde 2 ohne FL",null,null,null,null,null,"Runde 1 mit FL",null,null,null,null,null,"Runde 2 mit FL"]
[27,null,":",null,21,null,25,null,":",null,20,null,27,null,":",null,21,null,25,null,":",null,20]
[23,null,":",null,12,null,15,null,":",null,5,null,23,null,":",null,12,null,15,null,":",null,5]
[30,null,":",null,1,null,30,null,":",null,18,null,30,null,":",null,1,null,30,null,":",null,18]
[29,null,":",null,31,null,29,null,":",null,23,null,29,null,":",null,31,null,29,null,":",null,23]
[2,null,":",null,16,null,32,null,":",null,1,null,2,null,":",null,16,null,32,null,":",null,1]
[33,null,":",null,15,null,8,null,":",null,3,null,33,null,":",null,15,null,8,null,":",null,3]
[37,null,":",null,34,null,13,null,":",null,21,null,37,null,":",null,34,null,13,null,":",null,21]
[3,null,":",null,14,null,4,null,":",null,26,null,3,null,":",null,14,null,4,null,":",null,26]
[20,null,":",null,18,null,14,null,":",null,6,null,20,null,":",null,18,null,14,null,":",null,6]
[24,null,":",null,25,null,27,null,":",null,36,null,24,null,":",null,25,null,27,null,":",null,36]
[11,null,":",null,32,null,16,null,":",null,19,null,11,null,":",null,32,null,16,null,":",null,19]
[38,null,":",null,35,null,7,null,":",null,17,null,"FL",null,":",null,35,null,7,null,":",null,17]
[9,null,":",null,10,null,11,null,":",null,34,null,9,null,":",null,10,null,11,null,":",null,34]
[5,null,":",null,26,null,10,null,":",null,2,null,5,null,":",null,26,null,10,null,":",null,2]
[22,null,":",null,4,null,31,null,":",null,12,null,22,null,":",null,4,null,31,null,":",null,12]
[7,null,":",null,28,null,9,null,":",null,33,null,7,null,":",null,28,null,9,null,":",null,33]
[13,null,":",null,8,null,37,null,":",null,24,null,13,null,":",null,8,null,37,null,":",null,24]
[17,null,":",null,19,null,38,null,":",null,28,null,17,null,":",null,19,null,"FL",null,":",null,28]
[6,null,":",null,36,null,22,null,":",null,35,null,6,null,":",null,36,null,22,null,":",null,35]
[null,null,":",null,null,20,null,null,":",null,null,null,null,null,":",null,null,20,null,null,":"]
[null,null,":",null,null,21,null,null,":",null,null,null,null,null,":",null,null,21,null,null,":"]
[null,null,":",null,null,22,null,null,":",null,null,null,null,null,":",null,null,22,null,null,":"]
[null,null,":",null,null,23,null,null,":",null,null,null,null,null,":",null,null,23,null,null,":"]
[null,null,":",null,null,24,null,null,":",null,null,null,null,null,":",null,null,24,null,null,":"]
[null,null,":",null,null,25,null,null,":",null,null,null,null,null,":",null,null,25,null,null,":"]
[]
["Runde 3 ohne FL",null,null,null,null,null,"Runde 4 ohne FL",null,null,null,null,null,"Runde 3 mit FL",null,null,null,null,null,"Runde 4 mit FL"]
[2,null,":",null,18,null,19,null,":",null,6,null,2,null,":",null,18,null,19,null,":",null,6]
[29,null,":",null,32,null,37,null,":",null,7,null,29,null,":",null,32,null,37,null,":",null,7]
[8,null,":",null,33,null,23,null,":",null,26,null,8,null,":",null,33,null,23,null,":",null,26]
[16,null,":",null,14,null,5,null,":",null,25,null,16,null,":",null,14,null,5,null,":",null,25]
[10,null,":",null,31,null,29,null,":",null,30,null,10,null,":",null,31,null,29,null,":",null,30]
[21,null,":",null,24,null,17,null,":",null,4,null,21,null,":",null,24,null,17,null,":",null,4]
[4,null,":",null,28,null,22,null,":",null,3,null,4,null,":",null,28,null,22,null,":",null,3]
[3,null,":",null,11,null,16,null,":",null,12,null,3,null,":",null,11,null,16,null,":",null,12]
[37,null,":",null,13,null,38,null,":",null,11,null,37,null,":",null,13,null,"FL",null,":",null,11]
[25,null,":",null,15,null,18,null,":",null,36,null,25,null,":",null,15,null,18,null,":",null,36]
[9,null,":",null,17,null,20,null,":",null,14,null,9,null,":",null,17,null,20,null,":",null,14]
[27,null,":",null,23,null,10,null,":",null,21,null,27,null,":",null,23,null,10,null,":",null,21]
[6,null,":",null,35,null,34,null,":",null,15,null,6,null,":",null,35,null,34,null,":",null,15]
[1,null,":",null,7,null,2,null,":",null,27,null,1,null,":",null,7,null,2,null,":",null,27]
[38,null,":",null,12,null,33,null,":",null,31,null,"FL",null,":",null,12,null,33,null,":",null,31]
[34,null,":",null,5,null,24,null,":",null,13,null,34,null,":",null,5,null,24,null,":",null,13]
[22,null,":",null,26,null,8,null,":",null,28,null,22,null,":",null,26,null,8,null,":",null,28]
[20,null,":",null,36,null,1,null,":",null,9,null,20,null,":",null,36,null,1,null,":",null,9]
[30,null,":",null,19,null,35,null,":",null,32,null,30,null,":",null,19,null,35,null,":",null,32]
[null,null,":",null,null,20,null,null,":",null,null,null,null,null,":",null,null,20,null,null,":"]
[null,null,":",null,null,21,null,null,":",null,null,null,null,null,":",null,null,21,null,null,":"]
[null,null,":",null,null,22,null,null,":",null,null,null,null,null,":",null,null,22,null,null,":"]
[null,null,":",null,null,23,null,null,":",null,null,null,null,null,":",null,null,23,null,null,":"]
[null,null,":",null,null,24,null,null,":",null,null,null,null,null,":",null,null,24,null,null,":"]
[null,null,":",null,null,25,null,null,":",null,null,null,null,null,":",null,null,25,null,null,":"]

{"sheet":"39-40","index":26,"n_rows":108,"n_cols":23,"rows_kept":108,"cut":false,"hidden":false,"merged":[[82,0,82,4],[82,6,82,10],[82,12,82,16],[82,18,82,22],[23,0,23,4],[23,6,23,10],[23,12,23,16],[23,18,23,22],[55,0,55,4],[55,6,55,10],[55,12,55,16],[55,18,55,22],[0,0,0,10],[0,12,0,22],[1,0,1,4],[1,6,1,10],[1,12,1,16],[1,18,1,22]]}
["wer gegen wen",null,null,null,null,null,null,null,null,null,null,null,"wer gegen wen"]
["Runde 1",null,null,null,null,40,"Runde 2",null,null,null,null,null,"Runde 1",null,null,null,null,39,"Runde 2"]
[7,null,":",null,26,null,5,null,":",null,11,null,7,null,":",null,26,null,5,null,":",null,11]
[17,null,":",null,29,null,35,null,":",null,27,null,17,null,":",null,29,null,35,null,":",null,27]
[14,null,":",null,9,null,19,null,":",null,23,null,14,null,":",null,9,null,19,null,":",null,23]
[8,null,":",null,24,null,10,null,":",null,1,null,8,null,":",null,24,null,10,null,":",null,1]
[4,null,":",null,19,null,39,null,":",null,3,null,4,null,":",null,19,null,39,null,":",null,3]
[37,null,":",null,11,null,4,null,":",null,29,null,37,null,":",null,11,null,4,null,":",null,29]
[32,null,":",null,16,null,37,null,":",null,24,null,32,null,":",null,16,null,37,null,":",null,24]
[12,null,":",null,18,null,20,null,":",null,36,null,12,null,":",null,18,null,20,null,":",null,36]
[23,null,":",null,28,null,18,null,":",null,34,null,23,null,":",null,28,null,18,null,":",null,34]
[34,null,":",null,1,null,21,null,":",null,32,null,34,null,":",null,1,null,21,null,":",null,32]
[22,null,":",null,21,null,40,null,":",null,6,null,22,null,":",null,21,null,"FL",null,":",null,6]
[15,null,":",null,3,null,28,null,":",null,30,null,15,null,":",null,3,null,28,null,":",null,30]
[10,null,":",null,40,null,7,null,":",null,12,null,10,null,":",null,"FL",null,7,null,":",null,12]
[20,null,":",null,38,null,16,null,":",null,25,null,20,null,":",null,38,null,16,null,":",null,25]
[27,null,":",null,5,null,13,null,":",null,26,null,27,null,":",null,5,null,13,null,":",null,26]
[31,null,":",null,6,null,22,null,":",null,38,null,31,null,":",null,6,null,22,null,":",null,38]
[35,null,":",null,2,null,9,null,":",null,33,null,35,null,":",null,2,null,9,null,":",null,33]
[13,null,":",null,39,null,15,null,":",null,31,null,13,null,":",null,39,null,15,null,":",null,31]
[25,null,":",null,33,null,14,null,":",null,8,null,25,null,":",null,33,null,14,null,":",null,8]
[36,null,":",null,30,null,2,null,":",null,17,null,36,null,":",null,30,null,2,null,":",null,17]
[]
["Runde 3",null,null,null,null,40,"Runde 4",null,null,null,null,null,"Runde 3",null,null,null,null,39,"Runde 4"]
[31,null,":",null,7,null,5,null,":",null,4,null,31,null,":",null,7,null,5,null,":",null,4]
[38,null,":",null,13,null,33,null,":",null,27,null,38,null,":",null,13,null,33,null,":",null,27]
[3,null,":",null,12,null,9,null,":",null,12,null,3,null,":",null,12,null,9,null,":",null,12]
[26,null,":",null,36,null,1,null,":",null,3,null,26,null,":",null,36,null,1,null,":",null,3]
[18,null,":",null,19,null,13,null,":",null,18,null,18,null,":",null,19,null,13,null,":",null,18]
[40,null,":",null,29,null,7,null,":",null,26,null,"FL",null,":",null,29,null,7,null,":",null,26]
[9,null,":",null,27,null,29,null,":",null,21,null,9,null,":",null,27,null,29,null,":",null,21]
[23,null,":",null,16,null,30,null,":",null,2,null,23,null,":",null,16,null,30,null,":",null,2]
[10,null,":",null,28,null,25,null,":",null,35,null,10,null,":",null,28,null,25,null,":",null,35]
[25,null,":",null,8,null,22,null,":",null,11,null,25,null,":",null,8,null,22,null,":",null,11]
[39,null,":",null,33,null,34,null,":",null,15,null,39,null,":",null,33,null,34,null,":",null,15]
[4,null,":",null,32,null,32,null,":",null,10,null,4,null,":",null,32,null,32,null,":",null,10]
[1,null,":",null,22,null,31,null,":",null,20,null,1,null,":",null,22,null,31,null,":",null,20]
[35,null,":",null,15,null,24,null,":",null,38,null,35,null,":",null,15,null,24,null,":",null,38]
[6,null,":",null,30,null,37,null,":",null,17,null,6,null,":",null,30,null,37,null,":",null,17]
[11,null,":",null,34,null,19,null,":",null,6,null,11,null,":",null,34,null,19,null,":",null,6]
[37,null,":",null,5,null,28,null,":",null,39,null,37,null,":",null,5,null,28,null,":",null,39]
[20,null,":",null,24,null,40,null,":",null,16,null,20,null,":",null,24,null,"FL",null,":",null,16]
[2,null,":",null,14,null,14,null,":",null,36,null,2,null,":",null,14,null,14,null,":",null,36]
[21,null,":",null,17,null,23,null,":",null,8,null,21,null,":",null,17,null,23,null,":",null,8]
[]
[]
[]
[]
[]
[]
[]
[]
[]
[]
[]
["Runde 1 ohne FL",null,null,null,null,null,"Runde 2 ohne FL",null,null,null,null,null,"Runde 1 mit FL",null,null,null,null,null,"Runde 2 mit FL"]
[7,null,":",null,26,null,5,null,":",null,11,null,7,null,":",null,26,null,5,null,":",null,11]
[17,null,":",null,29,null,35,null,":",null,27,null,17,null,":",null,29,null,35,null,":",null,27]
[14,null,":",null,9,null,19,null,":",null,23,null,14,null,":",null,9,null,19,null,":",null,23]
[8,null,":",null,24,null,10,null,":",null,1,null,8,null,":",null,24,null,10,null,":",null,1]
[4,null,":",null,19,null,39,null,":",null,3,null,4,null,":",null,19,null,39,null,":",null,3]
[37,null,":",null,11,null,4,null,":",null,29,null,37,null,":",null,11,null,4,null,":",null,29]
[32,null,":",null,16,null,37,null,":",null,24,null,32,null,":",null,16,null,37,null,":",null,24]
[12,null,":",null,18,null,20,null,":",null,36,null,12,null,":",null,18,null,20,null,":",null,36]
[23,null,":",null,28,null,18,null,":",null,34,null,23,null,":",null,28,null,18,null,":",null,34]
[34,null,":",null,1,null,21,null,":",null,32,null,34,null,":",null,1,null,21,null,":",null,32]
[22,null,":",null,21,null,40,null,":",null,6,null,22,null,":",null,21,null,"FL",null,":",null,6]
[15,null,":",null,3,null,28,null,":",null,30,null,15,null,":",null,3,null,28,null,":",null,30]
[10,null,":",null,40,null,7,null,":",null,12,null,10,null,":",null,"FL",null,7,null,":",null,12]
[20,null,":",null,38,null,16,null,":",null,25,null,20,null,":",null,38,null,16,null,":",null,25]
[27,null,":",null,5,null,13,null,":",null,26,null,27,null,":",null,5,null,13,null,":",null,26]
[31,null,":",null,6,null,22,null,":",null,38,null,31,null,":",null,6,null,22,null,":",null,38]
[35,null,":",null,2,null,9,null,":",null,33,null,35,null,":",null,2,null,9,null,":",null,33]
[13,null,":",null,39,null,15,null,":",null,31,null,13,null,":",null,39,null,15,null,":",null,31]
[25,null,":",null,33,null,14,null,":",null,8,null,25,null,":",null,33,null,14,null,":",null,8]
[36,null,":",null,30,null,2,null,":",null,17,null,36,null,":",null,30,null,2,null,":",null,17]
[null,null,":",null,null,21,null,null,":",null,null,null,null,null,":",null,null,21,null,null,":"]
[null,null,":",null,null,22,null,null,":",null,null,null,null,null,":",null,null,22,null,null,":"]
[null,null,":",null,null,23,null,null,":",null,null,null,null,null,":",null,null,23,null,null,":"]
[null,null,":",null,null,24,null,null,":",null,null,null,null,null,":",null,null,24,null,null,":"]
[null,null,":",null,null,25,null,null,":",null,null,null,null,null,":",null,null,25,null,null,":"]
[]
["Runde 3 ohne FL",null,null,null,null,null,"Runde 4 ohne FL",null,null,null,null,null,"Runde 3 mit FL",null,null,null,null,null,"Runde 4 mit FL"]
[31,null,":",null,7,null,5,null,":",null,4,null,31,null,":",null,7,null,5,null,":",null,4]
[38,null,":",null,13,null,33,null,":",null,27,null,38,null,":",null,13,null,33,null,":",null,27]
[3,null,":",null,12,null,9,null,":",null,12,null,3,null,":",null,12,null,9,null,":",null,12]
[26,null,":",null,36,null,1,null,":",null,3,null,26,null,":",null,36,null,1,null,":",null,3]
[18,null,":",null,19,null,13,null,":",null,18,null,18,null,":",null,19,null,13,null,":",null,18]
[40,null,":",null,29,null,7,null,":",null,26,null,"FL",null,":",null,29,null,7,null,":",null,26]
[9,null,":",null,27,null,29,null,":",null,21,null,9,null,":",null,27,null,29,null,":",null,21]
[23,null,":",null,16,null,30,null,":",null,2,null,23,null,":",null,16,null,30,null,":",null,2]
[10,null,":",null,28,null,25,null,":",null,35,null,10,null,":",null,28,null,25,null,":",null,35]
[25,null,":",null,8,null,22,null,":",null,11,null,25,null,":",null,8,null,22,null,":",null,11]
[39,null,":",null,33,null,34,null,":",null,15,null,39,null,":",null,33,null,34,null,":",null,15]
[4,null,":",null,32,null,32,null,":",null,10,null,4,null,":",null,32,null,32,null,":",null,10]
[1,null,":",null,22,null,31,null,":",null,20,null,1,null,":",null,22,null,31,null,":",null,20]
[35,null,":",null,15,null,24,null,":",null,38,null,35,null,":",null,15,null,24,null,":",null,38]
[6,null,":",null,30,null,37,null,":",null,17,null,6,null,":",null,30,null,37,null,":",null,17]
[11,null,":",null,34,null,19,null,":",null,6,null,11,null,":",null,34,null,19,null,":",null,6]
[37,null,":",null,5,null,28,null,":",null,39,null,37,null,":",null,5,null,28,null,":",null,39]
[20,null,":",null,24,null,40,null,":",null,16,null,20,null,":",null,24,null,"FL",null,":",null,16]
[2,null,":",null,14,null,14,null,":",null,36,null,2,null,":",null,14,null,14,null,":",null,36]
[21,null,":",null,17,null,23,null,":",null,8,null,21,null,":",null,17,null,23,null,":",null,8]
[null,null,":",null,null,21,null,null,":",null,null,null,null,null,":",null,null,21,null,null,":"]
[null,null,":",null,null,22,null,null,":",null,null,null,null,null,":",null,null,22,null,null,":"]
[null,null,":",null,null,23,null,null,":",null,null,null,null,null,":",null,null,23,null,null,":"]
[null,null,":",null,null,24,null,null,":",null,null,null,null,null,":",null,null,24,null,null,":"]
[null,null,":",null,null,25,null,null,":",null,null,null,null,null,":",null,null,25,null,null,":"]

{"sheet":"41-42","index":27,"n_rows":108,"n_cols":23,"rows_kept":108,"cut":false,"hidden":false,"merged":[[82,0,82,4],[82,6,82,10],[82,12,82,16],[82,18,82,22],[24,0,24,4],[24,6,24,10],[24,12,24,16],[24,18,24,22],[55,0,55,4],[55,6,55,10],[55,12,55,16],[55,18,55,22],[0,0,0,10],[0,12,0,22],[1,0,1,4],[1,6,1,10],[1,12,1,16],[1,18,1,22]]}
["wer gegen wen",null,null,null,null,null,null,null,null,null,null,null,"wer gegen wen"]
["Runde 1",null,null,null,null,42,"Runde 2",null,null,null,null,null,"Runde 1",null,null,null,null,41,"Runde 2"]
[31,null,":",null,34,null,1,null,":",null,14,null,31,null,":",null,34,null,1,null,":",null,14]
[29,null,":",null,12,null,27,null,":",null,20,null,29,null,":",null,12,null,27,null,":",null,20]
[23,null,":",null,18,null,34,null,":",null,22,null,23,null,":",null,18,null,34,null,":",null,22]
[2,null,":",null,16,null,26,null,":",null,10,null,2,null,":",null,16,null,26,null,":",null,10]
[6,null,":",null,30,null,31,null,":",null,11,null,6,null,":",null,30,null,31,null,":",null,11]
[22,null,":",null,21,null,38,null,":",null,5,null,22,null,":",null,21,null,38,null,":",null,5]
[19,null,":",null,7,null,3,null,":",null,7,null,19,null,":",null,7,null,3,null,":",null,7]
[25,null,":",null,13,null,8,null,":",null,12,null,25,null,":",null,13,null,8,null,":",null,12]
[9,null,":",null,8,null,40,null,":",null,41,null,9,null,":",null,8,null,40,null,":",null,41]
[28,null,":",null,41,null,42,null,":",null,21,null,28,null,":",null,41,null,"FL",null,":",null,21]
[35,null,":",null,24,null,25,null,":",null,16,null,35,null,":",null,24,null,25,null,":",null,16]
[14,null,":",null,20,null,18,null,":",null,39,null,14,null,":",null,20,null,18,null,":",null,39]
[33,null,":",null,17,null,35,null,":",null,19,null,33,null,":",null,17,null,35,null,":",null,19]
[5,null,":",null,10,null,9,null,":",null,6,null,5,null,":",null,10,null,9,null,":",null,6]
[11,null,":",null,40,null,2,null,":",null,37,null,11,null,":",null,40,null,2,null,":",null,37]
[32,null,":",null,36,null,4,null,":",null,24,null,32,null,":",null,36,null,4,null,":",null,24]
[42,null,":",null,15,null,30,null,":",null,15,null,"FL",null,":",null,15,null,30,null,":",null,15]
[37,null,":",null,4,null,33,null,":",null,32,null,37,null,":",null,4,null,33,null,":",null,32]
[26,null,":",null,38,null,17,null,":",null,13,null,26,null,":",null,38,null,17,null,":",null,13]
[27,null,":",null,39,null,36,null,":",null,28,null,27,null,":",null,39,null,36,null,":",null,28]
[1,null,":",null,3,null,23,null,":",null,29,null,1,null,":",null,3,null,23,null,":",null,29]
[]
["Runde 3",null,null,null,null,{"$f":"F2","v":42},"Runde 4",null,null,null,null,null,"Runde 3",null,null,null,null,{"$f":"R2","v":41},"Runde 4"]
[12,null,":",null,24,null,28,null,":",null,8,null,12,null,":",null,24,null,28,null,":",null,8]
[4,null,":",null,33,null,14,null,":",null,16,null,4,null,":",null,33,null,14,null,":",null,16]
[23,null,":",null,31,null,33,null,":",null,26,null,23,null,":",null,31,null,33,null,":",null,26]
[37,null,":",null,32,null,42,null,":",null,36,null,37,null,":",null,32,null,"FL",null,":",null,36]
[38,null,":",null,3,null,15,null,":",null,3,null,38,null,":",null,3,null,15,null,":",null,3]
[2,null,":",null,42,null,4,null,":",null,20,null,2,null,":",null,"FL",null,4,null,":",null,20]
[10,null,":",null,9,null,7,null,":",null,38,null,10,null,":",null,9,null,7,null,":",null,38]
[20,null,":",null,7,null,30,null,":",null,12,null,20,null,":",null,7,null,30,null,":",null,12]
[40,null,":",null,13,null,31,null,":",null,17,null,40,null,":",null,13,null,31,null,":",null,17]
[29,null,":",null,34,null,35,null,":",null,40,null,29,null,":",null,34,null,35,null,":",null,40]
[16,null,":",null,41,null,21,null,":",null,27,null,16,null,":",null,41,null,21,null,":",null,27]
[25,null,":",null,8,null,25,null,":",null,5,null,25,null,":",null,8,null,25,null,":",null,5]
[18,null,":",null,28,null,10,null,":",null,19,null,18,null,":",null,28,null,10,null,":",null,19]
[39,null,":",null,30,null,41,null,":",null,34,null,39,null,":",null,30,null,41,null,":",null,34]
[26,null,":",null,22,null,37,null,":",null,6,null,26,null,":",null,22,null,37,null,":",null,6]
[27,null,":",null,36,null,29,null,":",null,22,null,27,null,":",null,36,null,29,null,":",null,22]
[21,null,":",null,19,null,18,null,":",null,13,null,21,null,":",null,19,null,18,null,":",null,13]
[11,null,":",null,15,null,39,null,":",null,23,null,11,null,":",null,15,null,39,null,":",null,23]
[14,null,":",null,6,null,32,null,":",null,9,null,14,null,":",null,6,null,32,null,":",null,9]
[35,null,":",null,17,null,2,null,":",null,11,null,35,null,":",null,17,null,2,null,":",null,11]
[5,null,":",null,1,null,24,null,":",null,1,null,5,null,":",null,1,null,24,null,":",null,1]
[]
[]
[]
[]
[]
[]
[]
[]
[]
["Runde 1 ohne FL",null,null,null,null,null,"Runde 2 ohne FL",null,null,null,null,null,"Runde 1 mit FL",null,null,null,null,null,"Runde 2 mit FL"]
[31,null,":",null,34,null,1,null,":",null,14,null,31,null,":",null,34,null,1,null,":",null,14]
[29,null,":",null,12,null,27,null,":",null,20,null,29,null,":",null,12,null,27,null,":",null,20]
[23,null,":",null,18,null,34,null,":",null,22,null,23,null,":",null,18,null,34,null,":",null,22]
[2,null,":",null,16,null,26,null,":",null,10,null,2,null,":",null,16,null,26,null,":",null,10]
[6,null,":",null,30,null,31,null,":",null,11,null,6,null,":",null,30,null,31,null,":",null,11]
[22,null,":",null,21,null,38,null,":",null,5,null,22,null,":",null,21,null,38,null,":",null,5]
[19,null,":",null,7,null,3,null,":",null,7,null,19,null,":",null,7,null,3,null,":",null,7]
[25,null,":",null,13,null,8,null,":",null,12,null,25,null,":",null,13,null,8,null,":",null,12]
[9,null,":",null,8,null,40,null,":",null,41,null,9,null,":",null,8,null,40,null,":",null,41]
[28,null,":",null,41,null,42,null,":",null,21,null,28,null,":",null,41,null,"FL",null,":",null,21]
[35,null,":",null,24,null,25,null,":",null,16,null,35,null,":",null,24,null,25,null,":",null,16]
[14,null,":",null,20,null,18,null,":",null,39,null,14,null,":",null,20,null,18,null,":",null,39]
[33,null,":",null,17,null,35,null,":",null,19,null,33,null,":",null,17,null,35,null,":",null,19]
[5,null,":",null,10,null,9,null,":",null,6,null,5,null,":",null,10,null,9,null,":",null,6]
[11,null,":",null,40,null,2,null,":",null,37,null,11,null,":",null,40,null,2,null,":",null,37]
[32,null,":",null,36,null,4,null,":",null,24,null,32,null,":",null,36,null,4,null,":",null,24]
[42,null,":",null,15,null,30,null,":",null,15,null,"FL",null,":",null,15,null,30,null,":",null,15]
[37,null,":",null,4,null,33,null,":",null,32,null,37,null,":",null,4,null,33,null,":",null,32]
[26,null,":",null,38,null,17,null,":",null,13,null,26,null,":",null,38,null,17,null,":",null,13]
[27,null,":",null,39,null,36,null,":",null,28,null,27,null,":",null,39,null,36,null,":",null,28]
[1,null,":",null,3,null,23,null,":",null,29,null,1,null,":",null,3,null,23,null,":",null,29]
[null,null,":",null,null,22,null,null,":",null,null,null,null,null,":",null,null,22,null,null,":"]
[null,null,":",null,null,23,null,null,":",null,null,null,null,null,":",null,null,23,null,null,":"]
[null,null,":",null,null,24,null,null,":",null,null,null,null,null,":",null,null,24,null,null,":"]
[null,null,":",null,null,25,null,null,":",null,null,null,null,null,":",null,null,25,null,null,":"]
[]
["Runde 3 ohne FL",null,null,null,null,null,"Runde 4 ohne FL",null,null,null,null,null,"Runde 3 mit FL",null,null,null,null,null,"Runde 4 mit FL"]
[12,null,":",null,24,null,28,null,":",null,8,null,12,null,":",null,24,null,28,null,":",null,8]
[4,null,":",null,33,null,14,null,":",null,16,null,4,null,":",null,33,null,14,null,":",null,16]
[23,null,":",null,31,null,33,null,":",null,26,null,23,null,":",null,31,null,33,null,":",null,26]
[37,null,":",null,32,null,42,null,":",null,36,null,37,null,":",null,32,null,"FL",null,":",null,36]
[38,null,":",null,3,null,15,null,":",null,3,null,38,null,":",null,3,null,15,null,":",null,3]
[2,null,":",null,42,null,4,null,":",null,20,null,2,null,":",null,"FL",null,4,null,":",null,20]
[10,null,":",null,9,null,7,null,":",null,38,null,10,null,":",null,9,null,7,null,":",null,38]
[20,null,":",null,7,null,30,null,":",null,12,null,20,null,":",null,7,null,30,null,":",null,12]
[40,null,":",null,13,null,31,null,":",null,17,null,40,null,":",null,13,null,31,null,":",null,17]
[29,null,":",null,34,null,35,null,":",null,40,null,29,null,":",null,34,null,35,null,":",null,40]
[16,null,":",null,41,null,21,null,":",null,27,null,16,null,":",null,41,null,21,null,":",null,27]
[25,null,":",null,8,null,25,null,":",null,5,null,25,null,":",null,8,null,25,null,":",null,5]
[18,null,":",null,28,null,10,null,":",null,19,null,18,null,":",null,28,null,10,null,":",null,19]
[39,null,":",null,30,null,41,null,":",null,34,null,39,null,":",null,30,null,41,null,":",null,34]
[26,null,":",null,22,null,37,null,":",null,6,null,26,null,":",null,22,null,37,null,":",null,6]
[27,null,":",null,36,null,29,null,":",null,22,null,27,null,":",null,36,null,29,null,":",null,22]
[21,null,":",null,19,null,18,null,":",null,13,null,21,null,":",null,19,null,18,null,":",null,13]
[11,null,":",null,15,null,39,null,":",null,23,null,11,null,":",null,15,null,39,null,":",null,23]
[14,null,":",null,6,null,32,null,":",null,9,null,14,null,":",null,6,null,32,null,":",null,9]
[35,null,":",null,17,null,2,null,":",null,11,null,35,null,":",null,17,null,2,null,":",null,11]
[5,null,":",null,1,null,24,null,":",null,1,null,5,null,":",null,1,null,24,null,":",null,1]
[null,null,":",null,null,22,null,null,":",null,null,null,null,null,":",null,null,22,null,null,":"]
[null,null,":",null,null,23,null,null,":",null,null,null,null,null,":",null,null,23,null,null,":"]
[null,null,":",null,null,24,null,null,":",null,null,null,null,null,":",null,null,24,null,null,":"]
[null,null,":",null,null,25,null,null,":",null,null,null,null,null,":",null,null,25,null,null,":"]

{"sheet":"43-44","index":28,"n_rows":108,"n_cols":23,"rows_kept":108,"cut":false,"hidden":false,"merged":[[82,0,82,4],[82,6,82,10],[82,12,82,16],[82,18,82,22],[25,0,25,4],[25,6,25,10],[25,12,25,16],[25,18,25,22],[55,0,55,4],[55,6,55,10],[55,12,55,16],[55,18,55,22],[0,0,0,10],[0,12,0,22],[1,0,1,4],[1,6,1,10],[1,12,1,16],[1,18,1,22]]}
["wer gegen wen",null,null,null,null,null,null,null,null,null,null,null,"wer gegen wen"]
["Runde 1",null,null,null,null,44,"Runde 2",null,null,null,null,null,"Runde 1",null,null,null,null,43,"Runde 2"]
[36,null,":",null,27,null,6,null,":",null,19,null,36,null,":",null,27,null,6,null,":",null,19]
[22,null,":",null,41,null,18,null,":",null,35,null,22,null,":",null,41,null,18,null,":",null,35]
[20,null,":",null,34,null,38,null,":",null,43,null,20,null,":",null,34,null,38,null,":",null,43]
[38,null,":",null,18,null,26,null,":",null,8,null,38,null,":",null,18,null,26,null,":",null,8]
[26,null,":",null,42,null,27,null,":",null,12,null,26,null,":",null,42,null,27,null,":",null,12]
[17,null,":",null,12,null,20,null,":",null,32,null,17,null,":",null,12,null,20,null,":",null,32]
[21,null,":",null,16,null,9,null,":",null,36,null,21,null,":",null,16,null,9,null,":",null,36]
[5,null,":",null,4,null,11,null,":",null,31,null,5,null,":",null,4,null,11,null,":",null,31]
[40,null,":",null,35,null,34,null,":",null,37,null,40,null,":",null,35,null,34,null,":",null,37]
[13,null,":",null,6,null,16,null,":",null,24,null,13,null,":",null,6,null,16,null,":",null,24]
[30,null,":",null,2,null,1,null,":",null,23,null,30,null,":",null,2,null,1,null,":",null,23]
[10,null,":",null,43,null,30,null,":",null,3,null,10,null,":",null,43,null,30,null,":",null,3]
[19,null,":",null,3,null,39,null,":",null,40,null,19,null,":",null,3,null,39,null,":",null,40]
[37,null,":",null,14,null,15,null,":",null,17,null,37,null,":",null,14,null,15,null,":",null,17]
[31,null,":",null,24,null,10,null,":",null,2,null,31,null,":",null,24,null,10,null,":",null,2]
[15,null,":",null,32,null,42,null,":",null,29,null,15,null,":",null,32,null,42,null,":",null,29]
[28,null,":",null,9,null,44,null,":",null,4,null,28,null,":",null,9,null,"FL",null,":",null,4]
[39,null,":",null,25,null,5,null,":",null,28,null,39,null,":",null,25,null,5,null,":",null,28]
[8,null,":",null,29,null,33,null,":",null,7,null,8,null,":",null,29,null,33,null,":",null,7]
[33,null,":",null,44,null,22,null,":",null,21,null,33,null,":",null,"FL",null,22,null,":",null,21]
[7,null,":",null,23,null,25,null,":",null,14,null,7,null,":",null,23,null,25,null,":",null,14]
[1,null,":",null,11,null,41,null,":",null,13,null,1,null,":",null,11,null,41,null,":",null,13]
[]
["Runde 3",null,null,null,null,{"$f":"F2","v":44},"Runde 4",null,null,null,null,null,"Runde 3",null,null,null,null,{"$f":"R2","v":43},"Runde 4"]
[32,null,":",null,11,null,40,null,":",null,41,null,32,null,":",null,11,null,40,null,":",null,41]
[5,null,":",null,17,null,28,null,":",null,13,null,5,null,":",null,17,null,28,null,":",null,13]
[15,null,":",null,37,null,23,null,":",null,39,null,15,null,":",null,37,null,23,null,":",null,39]
[8,null,":",null,40,null,24,null,":",null,3,null,8,null,":",null,40,null,24,null,":",null,3]
[38,null,":",null,12,null,29,null,":",null,10,null,38,null,":",null,12,null,29,null,":",null,10]
[29,null,":",null,43,null,32,null,":",null,2,null,29,null,":",null,43,null,32,null,":",null,2]
[3,null,":",null,36,null,14,null,":",null,35,null,3,null,":",null,36,null,14,null,":",null,35]
[22,null,":",null,28,null,36,null,":",null,34,null,22,null,":",null,28,null,36,null,":",null,34]
[44,null,":",null,41,null,38,null,":",null,30,null,"FL",null,":",null,41,null,38,null,":",null,30]
[35,null,":",null,9,null,37,null,":",null,42,null,35,null,":",null,9,null,37,null,":",null,42]
[6,null,":",null,16,null,6,null,":",null,21,null,6,null,":",null,16,null,6,null,":",null,21]
[39,null,":",null,13,null,27,null,":",null,11,null,39,null,":",null,13,null,27,null,":",null,11]
[1,null,":",null,21,null,16,null,":",null,8,null,1,null,":",null,21,null,16,null,":",null,8]
[18,null,":",null,14,null,33,null,":",null,9,null,18,null,":",null,14,null,33,null,":",null,9]
[27,null,":",null,42,null,1,null,":",null,44,null,27,null,":",null,42,null,1,null,":",null,"FL"]
[7,null,":",null,34,null,26,null,":",null,20,null,7,null,":",null,34,null,26,null,":",null,20]
[23,null,":",null,19,null,5,null,":",null,19,null,23,null,":",null,19,null,5,null,":",null,19]
[25,null,":",null,26,null,43,null,":",null,12,null,25,null,":",null,26,null,43,null,":",null,12]
[2,null,":",null,4,null,22,null,":",null,4,null,2,null,":",null,4,null,22,null,":",null,4]
[30,null,":",null,24,null,17,null,":",null,18,null,30,null,":",null,24,null,17,null,":",null,18]
[20,null,":",null,10,null,25,null,":",null,15,null,20,null,":",null,10,null,25,null,":",null,15]
[31,null,":",null,33,null,31,null,":",null,7,null,31,null,":",null,33,null,31,null,":",null,7]
[]
[]
[]
[]
[]
[]
[]
["Runde 1 ohne FL",null,null,null,null,null,"Runde 2 ohne FL",null,null,null,null,null,"Runde 1 mit FL",null,null,null,null,null,"Runde 2 mit FL"]
[36,null,":",null,27,null,6,null,":",null,19,null,36,null,":",null,27,null,6,null,":",null,19]
[22,null,":",null,41,null,18,null,":",null,35,null,22,null,":",null,41,null,18,null,":",null,35]
[20,null,":",null,34,null,38,null,":",null,43,null,20,null,":",null,34,null,38,null,":",null,43]
[38,null,":",null,18,null,26,null,":",null,8,null,38,null,":",null,18,null,26,null,":",null,8]
[26,null,":",null,42,null,27,null,":",null,12,null,26,null,":",null,42,null,27,null,":",null,12]
[17,null,":",null,12,null,20,null,":",null,32,null,17,null,":",null,12,null,20,null,":",null,32]
[21,null,":",null,16,null,9,null,":",null,36,null,21,null,":",null,16,null,9,null,":",null,36]
[5,null,":",null,4,null,11,null,":",null,31,null,5,null,":",null,4,null,11,null,":",null,31]
[40,null,":",null,35,null,34,null,":",null,37,null,40,null,":",null,35,null,34,null,":",null,37]
[13,null,":",null,6,null,16,null,":",null,24,null,13,null,":",null,6,null,16,null,":",null,24]
[30,null,":",null,2,null,1,null,":",null,23,null,30,null,":",null,2,null,1,null,":",null,23]
[10,null,":",null,43,null,30,null,":",null,3,null,10,null,":",null,43,null,30,null,":",null,3]
[19,null,":",null,3,null,39,null,":",null,40,null,19,null,":",null,3,null,39,null,":",null,40]
[37,null,":",null,14,null,15,null,":",null,17,null,37,null,":",null,14,null,15,null,":",null,17]
[31,null,":",null,24,null,10,null,":",null,2,null,31,null,":",null,24,null,10,null,":",null,2]
[15,null,":",null,32,null,42,null,":",null,29,null,15,null,":",null,32,null,42,null,":",null,29]
[28,null,":",null,9,null,44,null,":",null,4,null,28,null,":",null,9,null,"FL",null,":",null,4]
[39,null,":",null,25,null,5,null,":",null,28,null,39,null,":",null,25,null,5,null,":",null,28]
[8,null,":",null,29,null,33,null,":",null,7,null,8,null,":",null,29,null,33,null,":",null,7]
[33,null,":",null,44,null,22,null,":",null,21,null,33,null,":",null,"FL",null,22,null,":",null,21]
[7,null,":",null,23,null,25,null,":",null,14,null,7,null,":",null,23,null,25,null,":",null,14]
[1,null,":",null,11,null,41,null,":",null,13,null,1,null,":",null,11,null,41,null,":",null,13]
[null,null,":",null,null,23,null,null,":",null,null,null,null,null,":",null,null,23,null,null,":"]
[null,null,":",null,null,24,null,null,":",null,null,null,null,null,":",null,null,24,null,null,":"]
[null,null,":",null,null,25,null,null,":",null,null,null,null,null,":",null,null,25,null,null,":"]
[]
["Runde 3 ohne FL",null,null,null,null,null,"Runde 4 ohne FL",null,null,null,null,null,"Runde 3 mit FL",null,null,null,null,null,"Runde 4 mit FL"]
[32,null,":",null,11,null,40,null,":",null,41,null,32,null,":",null,11,null,40,null,":",null,41]
[5,null,":",null,17,null,28,null,":",null,13,null,5,null,":",null,17,null,28,null,":",null,13]
[15,null,":",null,37,null,23,null,":",null,39,null,15,null,":",null,37,null,23,null,":",null,39]
[8,null,":",null,40,null,24,null,":",null,3,null,8,null,":",null,40,null,24,null,":",null,3]
[38,null,":",null,12,null,29,null,":",null,10,null,38,null,":",null,12,null,29,null,":",null,10]
[29,null,":",null,43,null,32,null,":",null,2,null,29,null,":",null,43,null,32,null,":",null,2]
[3,null,":",null,36,null,14,null,":",null,35,null,3,null,":",null,36,null,14,null,":",null,35]
[22,null,":",null,28,null,36,null,":",null,34,null,22,null,":",null,28,null,36,null,":",null,34]
[44,null,":",null,41,null,38,null,":",null,30,null,"FL",null,":",null,41,null,38,null,":",null,30]
[35,null,":",null,9,null,37,null,":",null,42,null,35,null,":",null,9,null,37,null,":",null,42]
[6,null,":",null,16,null,6,null,":",null,21,null,6,null,":",null,16,null,6,null,":",null,21]
[39,null,":",null,13,null,27,null,":",null,11,null,39,null,":",null,13,null,27,null,":",null,11]
[1,null,":",null,21,null,16,null,":",null,8,null,1,null,":",null,21,null,16,null,":",null,8]
[18,null,":",null,14,null,33,null,":",null,9,null,18,null,":",null,14,null,33,null,":",null,9]
[27,null,":",null,42,null,1,null,":",null,44,null,27,null,":",null,42,null,1,null,":",null,"FL"]
[7,null,":",null,34,null,26,null,":",null,20,null,7,null,":",null,34,null,26,null,":",null,20]
[23,null,":",null,19,null,5,null,":",null,19,null,23,null,":",null,19,null,5,null,":",null,19]
[25,null,":",null,26,null,43,null,":",null,12,null,25,null,":",null,26,null,43,null,":",null,12]
[2,null,":",null,4,null,22,null,":",null,4,null,2,null,":",null,4,null,22,null,":",null,4]
[30,null,":",null,24,null,17,null,":",null,18,null,30,null,":",null,24,null,17,null,":",null,18]
[20,null,":",null,10,null,25,null,":",null,15,null,20,null,":",null,10,null,25,null,":",null,15]
[31,null,":",null,33,null,31,null,":",null,7,null,31,null,":",null,33,null,31,null,":",null,7]
[null,null,":",null,null,23,null,null,":",null,null,null,null,null,":",null,null,23,null,null,":"]
[null,null,":",null,null,24,null,null,":",null,null,null,null,null,":",null,null,24,null,null,":"]
[null,null,":",null,null,25,null,null,":",null,null,null,null,null,":",null,null,25,null,null,":"]

{"sheet":"45-46","index":29,"n_rows":108,"n_cols":23,"rows_kept":108,"cut":false,"hidden":false,"merged":[[82,0,82,4],[82,6,82,10],[82,12,82,16],[82,18,82,22],[26,0,26,4],[26,6,26,10],[26,12,26,16],[26,18,26,22],[55,0,55,4],[55,6,55,10],[55,12,55,16],[55,18,55,22],[0,0,0,10],[0,12,0,22],[1,0,1,4],[1,6,1,10],[1,12,1,16],[1,18,1,22]]}
["wer gegen wen",null,null,null,null,null,null,null,null,null,null,null,"wer gegen wen"]
["Runde 1",null,null,null,null,46,"Runde 2",null,null,null,null,null,"Runde 1",null,null,null,null,45,"Runde 2"]
[12,null,":",null,6,null,12,null,":",null,32,null,12,null,":",null,6,null,12,null,":",null,32]
[16,null,":",null,39,null,10,null,":",null,3,null,16,null,":",null,39,null,10,null,":",null,3]
[38,null,":",null,33,null,24,null,":",null,25,null,38,null,":",null,33,null,24,null,":",null,25]
[43,null,":",null,3,null,43,null,":",null,13,null,43,null,":",null,3,null,43,null,":",null,13]
[21,null,":",null,17,null,45,null,":",null,4,null,21,null,":",null,17,null,45,null,":",null,4]
[13,null,":",null,28,null,36,null,":",null,7,null,13,null,":",null,28,null,36,null,":",null,7]
[32,null,":",null,10,null,29,null,":",null,1,null,32,null,":",null,10,null,29,null,":",null,1]
[35,null,":",null,29,null,44,null,":",null,8,null,35,null,":",null,29,null,44,null,":",null,8]
[24,null,":",null,26,null,5,null,":",null,16,null,24,null,":",null,26,null,5,null,":",null,16]
[27,null,":",null,23,null,2,null,":",null,34,null,27,null,":",null,23,null,2,null,":",null,34]
[34,null,":",null,41,null,31,null,":",null,17,null,34,null,":",null,41,null,31,null,":",null,17]
[44,null,":",null,25,null,39,null,":",null,27,null,44,null,":",null,25,null,39,null,":",null,27]
[1,null,":",null,19,null,20,null,":",null,9,null,1,null,":",null,19,null,20,null,":",null,9]
[14,null,":",null,2,null,33,null,":",null,21,null,14,null,":",null,2,null,33,null,":",null,21]
[11,null,":",null,37,null,38,null,":",null,28,null,11,null,":",null,37,null,38,null,":",null,28]
[8,null,":",null,31,null,18,null,":",null,26,null,8,null,":",null,31,null,18,null,":",null,26]
[15,null,":",null,30,null,40,null,":",null,30,null,15,null,":",null,30,null,40,null,":",null,30]
[45,null,":",null,36,null,41,null,":",null,42,null,45,null,":",null,36,null,41,null,":",null,42]
[20,null,":",null,7,null,46,null,":",null,35,null,20,null,":",null,7,null,"FL",null,":",null,35]
[42,null,":",null,4,null,37,null,":",null,15,null,42,null,":",null,4,null,37,null,":",null,15]
[40,null,":",null,22,null,6,null,":",null,19,null,40,null,":",null,22,null,6,null,":",null,19]
[5,null,":",null,46,null,22,null,":",null,11,null,5,null,":",null,"FL",null,22,null,":",null,11]
[18,null,":",null,9,null,14,null,":",null,23,null,18,null,":",null,9,null,14,null,":",null,23]
[]
["Runde 3",null,null,null,null,{"$f":"F2","v":46},"Runde 4",null,null,null,null,null,"Runde 3",null,null,null,null,{"$f":"R2","v":45},"Runde 4"]
[22,null,":",null,1,null,4,null,":",null,28,null,22,null,":",null,1,null,4,null,":",null,28]
[43,null,":",null,34,null,32,null,":",null,31,null,43,null,":",null,34,null,32,null,":",null,31]
[9,null,":",null,35,null,26,null,":",null,1,null,9,null,":",null,35,null,26,null,":",null,1]
[13,null,":",null,18,null,7,null,":",null,24,null,13,null,":",null,18,null,7,null,":",null,24]
[20,null,":",null,11,null,36,null,":",null,9,null,20,null,":",null,11,null,36,null,":",null,9]
[30,null,":",null,17,null,34,null,":",null,8,null,30,null,":",null,17,null,34,null,":",null,8]
[5,null,":",null,3,null,6,null,":",null,37,null,5,null,":",null,3,null,6,null,":",null,37]
[42,null,":",null,28,null,41,null,":",null,22,null,42,null,":",null,28,null,41,null,":",null,22]
[23,null,":",null,40,null,23,null,":",null,13,null,23,null,":",null,40,null,23,null,":",null,13]
[44,null,":",null,26,null,35,null,":",null,27,null,44,null,":",null,26,null,35,null,":",null,27]
[21,null,":",null,2,null,42,null,":",null,44,null,21,null,":",null,2,null,42,null,":",null,44]
[27,null,":",null,6,null,30,null,":",null,10,null,27,null,":",null,6,null,30,null,":",null,10]
[41,null,":",null,39,null,14,null,":",null,40,null,41,null,":",null,39,null,14,null,":",null,40]
[25,null,":",null,29,null,39,null,":",null,2,null,25,null,":",null,29,null,39,null,":",null,2]
[45,null,":",null,10,null,33,null,":",null,5,null,45,null,":",null,10,null,33,null,":",null,5]
[38,null,":",null,14,null,25,null,":",null,15,null,38,null,":",null,14,null,25,null,":",null,15]
[12,null,":",null,15,null,19,null,":",null,12,null,12,null,":",null,15,null,19,null,":",null,12]
[37,null,":",null,16,null,38,null,":",null,46,null,37,null,":",null,16,null,38,null,":",null,"FL"]
[32,null,":",null,7,null,3,null,":",null,21,null,32,null,":",null,7,null,3,null,":",null,21]
[8,null,":",null,4,null,45,null,":",null,18,null,8,null,":",null,4,null,45,null,":",null,18]
[19,null,":",null,33,null,17,null,":",null,20,null,19,null,":",null,33,null,17,null,":",null,20]
[24,null,":",null,36,null,43,null,":",null,16,null,24,null,":",null,36,null,43,null,":",null,16]
[31,null,":",null,46,null,29,null,":",null,11,null,31,null,":",null,"FL",null,29,null,":",null,11]
[]
[]
[]
[]
[]
["Runde 1 ohne FL",null,null,null,null,null,"Runde 2 ohne FL",null,null,null,null,null,"Runde 1 mit FL",null,null,null,null,null,"Runde 2 mit FL"]
[12,null,":",null,6,null,12,null,":",null,32,null,12,null,":",null,6,null,12,null,":",null,32]
[16,null,":",null,39,null,10,null,":",null,3,null,16,null,":",null,39,null,10,null,":",null,3]
[38,null,":",null,33,null,24,null,":",null,25,null,38,null,":",null,33,null,24,null,":",null,25]
[43,null,":",null,3,null,43,null,":",null,13,null,43,null,":",null,3,null,43,null,":",null,13]
[21,null,":",null,17,null,45,null,":",null,4,null,21,null,":",null,17,null,45,null,":",null,4]
[13,null,":",null,28,null,36,null,":",null,7,null,13,null,":",null,28,null,36,null,":",null,7]
[32,null,":",null,10,null,29,null,":",null,1,null,32,null,":",null,10,null,29,null,":",null,1]
[35,null,":",null,29,null,44,null,":",null,8,null,35,null,":",null,29,null,44,null,":",null,8]
[24,null,":",null,26,null,5,null,":",null,16,null,24,null,":",null,26,null,5,null,":",null,16]
[27,null,":",null,23,null,2,null,":",null,34,null,27,null,":",null,23,null,2,null,":",null,34]
[34,null,":",null,41,null,31,null,":",null,17,null,34,null,":",null,41,null,31,null,":",null,17]
[44,null,":",null,25,null,39,null,":",null,27,null,44,null,":",null,25,null,39,null,":",null,27]
[1,null,":",null,19,null,20,null,":",null,9,null,1,null,":",null,19,null,20,null,":",null,9]
[14,null,":",null,2,null,33,null,":",null,21,null,14,null,":",null,2,null,33,null,":",null,21]
[11,null,":",null,37,null,38,null,":",null,28,null,11,null,":",null,37,null,38,null,":",null,28]
[8,null,":",null,31,null,18,null,":",null,26,null,8,null,":",null,31,null,18,null,":",null,26]
[15,null,":",null,30,null,40,null,":",null,30,null,15,null,":",null,30,null,40,null,":",null,30]
[45,null,":",null,36,null,41,null,":",null,42,null,45,null,":",null,36,null,41,null,":",null,42]
[20,null,":",null,7,null,46,null,":",null,35,null,20,null,":",null,7,null,"FL",null,":",null,35]
[42,null,":",null,4,null,37,null,":",null,15,null,42,null,":",null,4,null,37,null,":",null,15]
[40,null,":",null,22,null,6,null,":",null,19,null,40,null,":",null,22,null,6,null,":",null,19]
[5,null,":",null,46,null,22,null,":",null,11,null,5,null,":",null,"FL",null,22,null,":",null,11]
[18,null,":",null,9,null,14,null,":",null,23,null,18,null,":",null,9,null,14,null,":",null,23]
[null,null,":",null,null,24,null,null,":",null,null,null,null,null,":",null,null,24,null,null,":"]
[null,null,":",null,null,25,null,null,":",null,null,null,null,null,":",null,null,25,null,null,":"]
[]
["Runde 3 ohne FL",null,null,null,null,null,"Runde 4 ohne FL",null,null,null,null,null,"Runde 3 mit FL",null,null,null,null,null,"Runde 4 mit FL"]
[22,null,":",null,1,null,4,null,":",null,28,null,22,null,":",null,1,null,4,null,":",null,28]
[43,null,":",null,34,null,32,null,":",null,31,null,43,null,":",null,34,null,32,null,":",null,31]
[9,null,":",null,35,null,26,null,":",null,1,null,9,null,":",null,35,null,26,null,":",null,1]
[13,null,":",null,18,null,7,null,":",null,24,null,13,null,":",null,18,null,7,null,":",null,24]
[20,null,":",null,11,null,36,null,":",null,9,null,20,null,":",null,11,null,36,null,":",null,9]
[30,null,":",null,17,null,34,null,":",null,8,null,30,null,":",null,17,null,34,null,":",null,8]
[5,null,":",null,3,null,6,null,":",null,37,null,5,null,":",null,3,null,6,null,":",null,37]
[42,null,":",null,28,null,41,null,":",null,22,null,42,null,":",null,28,null,41,null,":",null,22]
[23,null,":",null,40,null,23,null,":",null,13,null,23,null,":",null,40,null,23,null,":",null,13]
[44,null,":",null,26,null,35,null,":",null,27,null,44,null,":",null,26,null,35,null,":",null,27]
[21,null,":",null,2,null,42,null,":",null,44,null,21,null,":",null,2,null,42,null,":",null,44]
[27,null,":",null,6,null,30,null,":",null,10,null,27,null,":",null,6,null,30,null,":",null,10]
[41,null,":",null,39,null,14,null,":",null,40,null,41,null,":",null,39,null,14,null,":",null,40]
[25,null,":",null,29,null,39,null,":",null,2,null,25,null,":",null,29,null,39,null,":",null,2]
[45,null,":",null,10,null,33,null,":",null,5,null,45,null,":",null,10,null,33,null,":",null,5]
[38,null,":",null,14,null,25,null,":",null,15,null,38,null,":",null,14,null,25,null,":",null,15]
[12,null,":",null,15,null,19,null,":",null,12,null,12,null,":",null,15,null,19,null,":",null,12]
[37,null,":",null,16,null,38,null,":",null,46,null,37,null,":",null,16,null,38,null,":",null,"FL"]
[32,null,":",null,7,null,3,null,":",null,21,null,32,null,":",null,7,null,3,null,":",null,21]
[8,null,":",null,4,null,45,null,":",null,18,null,8,null,":",null,4,null,45,null,":",null,18]
[19,null,":",null,33,null,17,null,":",null,20,null,19,null,":",null,33,null,17,null,":",null,20]
[24,null,":",null,36,null,43,null,":",null,16,null,24,null,":",null,36,null,43,null,":",null,16]
[31,null,":",null,46,null,29,null,":",null,11,null,31,null,":",null,"FL",null,29,null,":",null,11]
[null,null,":",null,null,24,null,null,":",null,null,null,null,null,":",null,null,24,null,null,":"]
[null,null,":",null,null,25,null,null,":",null,null,null,null,null,":",null,null,25,null,null,":"]

{"sheet":"47-48","index":30,"n_rows":108,"n_cols":23,"rows_kept":108,"cut":false,"hidden":false,"merged":[[82,0,82,4],[82,6,82,10],[82,12,82,16],[82,18,82,22],[27,0,27,4],[27,6,27,10],[27,12,27,16],[27,18,27,22],[55,0,55,4],[55,6,55,10],[55,12,55,16],[55,18,55,22],[0,0,0,10],[0,12,0,22],[1,0,1,4],[1,6,1,10],[1,12,1,16],[1,18,1,22]]}
["wer gegen wen",null,null,null,null,null,null,null,null,null,null,null,"wer gegen wen"]
["Runde 1",null,null,null,null,48,"Runde 2",null,null,null,null,null,"Runde 1",null,null,null,null,47,"Runde 2"]
[34,null,":",null,26,null,8,null,":",null,40,null,34,null,":",null,26,null,8,null,":",null,40]
[28,null,":",null,14,null,47,null,":",null,14,null,28,null,":",null,14,null,47,null,":",null,14]
[15,null,":",null,38,null,2,null,":",null,6,null,15,null,":",null,38,null,2,null,":",null,6]
[1,null,":",null,37,null,10,null,":",null,13,null,1,null,":",null,37,null,10,null,":",null,13]
[40,null,":",null,35,null,26,null,":",null,4,null,40,null,":",null,35,null,26,null,":",null,4]
[3,null,":",null,20,null,22,null,":",null,24,null,3,null,":",null,20,null,22,null,":",null,24]
[42,null,":",null,18,null,23,null,":",null,34,null,42,null,":",null,18,null,23,null,":",null,34]
[47,null,":",null,46,null,45,null,":",null,41,null,47,null,":",null,46,null,45,null,":",null,41]
[29,null,":",null,23,null,1,null,":",null,9,null,29,null,":",null,23,null,1,null,":",null,9]
[30,null,":",null,32,null,3,null,":",null,19,null,30,null,":",null,32,null,3,null,":",null,19]
[13,null,":",null,48,null,48,null,":",null,17,null,13,null,":",null,"FL",null,"FL",null,":",null,17]
[44,null,":",null,11,null,12,null,":",null,28,null,44,null,":",null,11,null,12,null,":",null,28]
[12,null,":",null,6,null,7,null,":",null,31,null,12,null,":",null,6,null,7,null,":",null,31]
[33,null,":",null,5,null,35,null,":",null,44,null,33,null,":",null,5,null,35,null,":",null,44]
[39,null,":",null,19,null,11,null,":",null,46,null,39,null,":",null,19,null,11,null,":",null,46]
[8,null,":",null,16,null,16,null,":",null,15,null,8,null,":",null,16,null,16,null,":",null,15]
[31,null,":",null,10,null,30,null,":",null,36,null,31,null,":",null,10,null,30,null,":",null,36]
[9,null,":",null,4,null,21,null,":",null,18,null,9,null,":",null,4,null,21,null,":",null,18]
[22,null,":",null,45,null,20,null,":",null,37,null,22,null,":",null,45,null,20,null,":",null,37]
[21,null,":",null,27,null,39,null,":",null,43,null,21,null,":",null,27,null,39,null,":",null,43]
[41,null,":",null,2,null,5,null,":",null,29,null,41,null,":",null,2,null,5,null,":",null,29]
[25,null,":",null,17,null,32,null,":",null,38,null,25,null,":",null,17,null,32,null,":",null,38]
[24,null,":",null,7,null,42,null,":",null,33,null,24,null,":",null,7,null,42,null,":",null,33]
[43,null,":",null,36,null,25,null,":",null,27,null,43,null,":",null,36,null,25,null,":",null,27]
[]
["Runde 3",null,null,null,null,{"$f":"F2","v":48},"Runde 4",null,null,null,null,null,"Runde 3",null,null,null,null,{"$f":"R2","v":47},"Runde 4"]
[37,null,":",null,4,null,46,null,":",null,17,null,37,null,":",null,4,null,46,null,":",null,17]
[45,null,":",null,42,null,37,null,":",null,48,null,45,null,":",null,42,null,37,null,":",null,"FL"]
[19,null,":",null,13,null,20,null,":",null,22,null,19,null,":",null,13,null,20,null,":",null,22]
[22,null,":",null,33,null,15,null,":",null,32,null,22,null,":",null,33,null,15,null,":",null,32]
[46,null,":",null,43,null,3,null,":",null,33,null,46,null,":",null,43,null,3,null,":",null,33]
[39,null,":",null,47,null,26,null,":",null,10,null,39,null,":",null,47,null,26,null,":",null,10]
[9,null,":",null,16,null,13,null,":",null,41,null,9,null,":",null,16,null,13,null,":",null,41]
[29,null,":",null,48,null,25,null,":",null,44,null,29,null,":",null,"FL",null,25,null,":",null,44]
[44,null,":",null,41,null,19,null,":",null,36,null,44,null,":",null,41,null,19,null,":",null,36]
[6,null,":",null,27,null,12,null,":",null,7,null,6,null,":",null,27,null,12,null,":",null,7]
[8,null,":",null,5,null,9,null,":",null,45,null,8,null,":",null,5,null,9,null,":",null,45]
[15,null,":",null,14,null,47,null,":",null,27,null,15,null,":",null,14,null,47,null,":",null,27]
[36,null,":",null,28,null,43,null,":",null,28,null,36,null,":",null,28,null,43,null,":",null,28]
[3,null,":",null,30,null,39,null,":",null,30,null,3,null,":",null,30,null,39,null,":",null,30]
[2,null,":",null,12,null,21,null,":",null,16,null,2,null,":",null,12,null,21,null,":",null,16]
[18,null,":",null,23,null,40,null,":",null,31,null,18,null,":",null,23,null,40,null,":",null,31]
[11,null,":",null,24,null,34,null,":",null,38,null,11,null,":",null,24,null,34,null,":",null,38]
[7,null,":",null,"1 :",null,6,null,":",null,18,null,7,null,":",null,"1 :",null,6,null,":",null,18]
[17,null,":",null,25,null,5,null,":",null,42,null,17,null,":",null,25,null,5,null,":",null,42]
[31,null,":",null,34,null,2,null,":",null,11,null,31,null,":",null,34,null,2,null,":",null,11]
[38,null,":",null,20,null,4,null,":",null,23,null,38,null,":",null,20,null,4,null,":",null,23]
[10,null,":",null,32,null,14,null,":",null,35,null,10,null,":",null,32,null,14,null,":",null,35]
[35,null,":",null,26,null,24,null,":",null,8,null,35,null,":",null,26,null,24,null,":",null,8]
[21,null,":",null,40,null,1,null,":",null,29,null,21,null,":",null,40,null,1,null,":",null,29]
[]
[]
[]
["Runde 1 ohne FL",null,null,null,null,null,"Runde 2 ohne FL",null,null,null,null,null,"Runde 1 mit FL",null,null,null,null,null,"Runde 2 mit FL"]
[34,null,":",null,26,null,8,null,":",null,40,null,34,null,":",null,26,null,8,null,":",null,40]
[28,null,":",null,14,null,47,null,":",null,14,null,28,null,":",null,14,null,47,null,":",null,14]
[15,null,":",null,38,null,2,null,":",null,6,null,15,null,":",null,38,null,2,null,":",null,6]
[1,null,":",null,37,null,10,null,":",null,13,null,1,null,":",null,37,null,10,null,":",null,13]
[40,null,":",null,35,null,26,null,":",null,4,null,40,null,":",null,35,null,26,null,":",null,4]
[3,null,":",null,20,null,22,null,":",null,24,null,3,null,":",null,20,null,22,null,":",null,24]
[42,null,":",null,18,null,23,null,":",null,34,null,42,null,":",null,18,null,23,null,":",null,34]
[47,null,":",null,46,null,45,null,":",null,41,null,47,null,":",null,46,null,45,null,":",null,41]
[29,null,":",null,23,null,1,null,":",null,9,null,29,null,":",null,23,null,1,null,":",null,9]
[30,null,":",null,32,null,3,null,":",null,19,null,30,null,":",null,32,null,3,null,":",null,19]
[13,null,":",null,48,null,48,null,":",null,17,null,13,null,":",null,"FL",null,"FL",null,":",null,17]
[44,null,":",null,11,null,12,null,":",null,28,null,44,null,":",null,11,null,12,null,":",null,28]
[12,null,":",null,6,null,7,null,":",null,31,null,12,null,":",null,6,null,7,null,":",null,31]
[33,null,":",null,5,null,35,null,":",null,44,null,33,null,":",null,5,null,35,null,":",null,44]
[39,null,":",null,19,null,11,null,":",null,46,null,39,null,":",null,19,null,11,null,":",null,46]
[8,null,":",null,16,null,16,null,":",null,15,null,8,null,":",null,16,null,16,null,":",null,15]
[31,null,":",null,10,null,30,null,":",null,36,null,31,null,":",null,10,null,30,null,":",null,36]
[9,null,":",null,4,null,21,null,":",null,18,null,9,null,":",null,4,null,21,null,":",null,18]
[22,null,":",null,45,null,20,null,":",null,37,null,22,null,":",null,45,null,20,null,":",null,37]
[21,null,":",null,27,null,39,null,":",null,43,null,21,null,":",null,27,null,39,null,":",null,43]
[41,null,":",null,2,null,5,null,":",null,29,null,41,null,":",null,2,null,5,null,":",null,29]
[25,null,":",null,17,null,32,null,":",null,38,null,25,null,":",null,17,null,32,null,":",null,38]
[24,null,":",null,7,null,42,null,":",null,33,null,24,null,":",null,7,null,42,null,":",null,33]
[43,null,":",null,36,null,25,null,":",null,27,null,43,null,":",null,36,null,25,null,":",null,27]
[null,null,":",null,null,25,null,null,":",null,null,null,null,null,":",null,null,25,null,null,":"]
[]
["Runde 3 ohne FL",null,null,null,null,null,"Runde 4 ohne FL",null,null,null,null,null,"Runde 3 mit FL",null,null,null,null,null,"Runde 4 mit FL"]
[37,null,":",null,4,null,46,null,":",null,17,null,37,null,":",null,4,null,46,null,":",null,17]
[45,null,":",null,42,null,37,null,":",null,48,null,45,null,":",null,42,null,37,null,":",null,"FL"]
[19,null,":",null,13,null,20,null,":",null,22,null,19,null,":",null,13,null,20,null,":",null,22]
[22,null,":",null,33,null,15,null,":",null,32,null,22,null,":",null,33,null,15,null,":",null,32]
[46,null,":",null,43,null,3,null,":",null,33,null,46,null,":",null,43,null,3,null,":",null,33]
[39,null,":",null,47,null,26,null,":",null,10,null,39,null,":",null,47,null,26,null,":",null,10]
[9,null,":",null,16,null,13,null,":",null,41,null,9,null,":",null,16,null,13,null,":",null,41]
[29,null,":",null,48,null,25,null,":",null,44,null,29,null,":",null,"FL",null,25,null,":",null,44]
[44,null,":",null,41,null,19,null,":",null,36,null,44,null,":",null,41,null,19,null,":",null,36]
[6,null,":",null,27,null,12,null,":",null,7,null,6,null,":",null,27,null,12,null,":",null,7]
[8,null,":",null,5,null,9,null,":",null,45,null,8,null,":",null,5,null,9,null,":",null,45]
[15,null,":",null,14,null,47,null,":",null,27,null,15,null,":",null,14,null,47,null,":",null,27]
[36,null,":",null,28,null,43,null,":",null,28,null,36,null,":",null,28,null,43,null,":",null,28]
[3,null,":",null,30,null,39,null,":",null,30,null,3,null,":",null,30,null,39,null,":",null,30]
[2,null,":",null,12,null,21,null,":",null,16,null,2,null,":",null,12,null,21,null,":",null,16]
[18,null,":",null,23,null,40,null,":",null,31,null,18,null,":",null,23,null,40,null,":",null,31]
[11,null,":",null,24,null,34,null,":",null,38,null,11,null,":",null,24,null,34,null,":",null,38]
[7,null,":",null,"1 :",null,6,null,":",null,18,null,7,null,":",null,"1 :",null,6,null,":",null,18]
[17,null,":",null,25,null,5,null,":",null,42,null,17,null,":",null,25,null,5,null,":",null,42]
[31,null,":",null,34,null,2,null,":",null,11,null,31,null,":",null,34,null,2,null,":",null,11]
[38,null,":",null,20,null,4,null,":",null,23,null,38,null,":",null,20,null,4,null,":",null,23]
[10,null,":",null,32,null,14,null,":",null,35,null,10,null,":",null,32,null,14,null,":",null,35]
[35,null,":",null,26,null,24,null,":",null,8,null,35,null,":",null,26,null,24,null,":",null,8]
[21,null,":",null,40,null,1,null,":",null,29,null,21,null,":",null,40,null,1,null,":",null,29]
[null,null,":",null,null,25,null,null,":",null,null,null,null,null,":",null,null,25,null,null,":"]

{"sheet":"49-50","index":31,"n_rows":108,"n_cols":23,"rows_kept":108,"cut":false,"hidden":false,"merged":[[82,0,82,4],[82,6,82,10],[82,12,82,16],[82,18,82,22],[28,0,28,4],[28,6,28,10],[28,12,28,16],[28,18,28,22],[55,0,55,4],[55,6,55,10],[55,12,55,16],[55,18,55,22],[0,0,0,10],[0,12,0,22],[1,0,1,4],[1,6,1,10],[1,12,1,16],[1,18,1,22]]}
["wer gegen wen",null,null,null,null,null,null,null,null,null,null,null,"wer gegen wen"]
["Runde 1",null,null,null,null,50,"Runde 2",null,null,null,null,null,"Runde 1",null,null,null,null,49,"Runde 2"]
[5,null,":",null,35,null,27,null,":",null,41,null,5,null,":",null,35,null,27,null,":",null,41]
[25,null,":",null,22,null,32,null,":",null,48,null,25,null,":",null,22,null,32,null,":",null,48]
[2,null,":",null,32,null,31,null,":",null,43,null,2,null,":",null,32,null,31,null,":",null,43]
[34,null,":",null,10,null,50,null,":",null,35,null,34,null,":",null,10,null,"FL",null,":",null,35]
[3,null,":",null,49,null,13,null,":",null,2,null,3,null,":",null,49,null,13,null,":",null,2]
[36,null,":",null,12,null,3,null,":",null,47,null,36,null,":",null,12,null,3,null,":",null,47]
[40,null,":",null,17,null,19,null,":",null,44,null,40,null,":",null,17,null,19,null,":",null,44]
[1,null,":",null,15,null,20,null,":",null,14,null,1,null,":",null,15,null,20,null,":",null,14]
[47,null,":",null,16,null,33,null,":",null,21,null,47,null,":",null,16,null,33,null,":",null,21]
[9,null,":",null,37,null,1,null,":",null,25,null,9,null,":",null,37,null,1,null,":",null,25]
[7,null,":",null,21,null,16,null,":",null,17,null,7,null,":",null,21,null,16,null,":",null,17]
[50,null,":",null,8,null,26,null,":",null,37,null,"FL",null,":",null,8,null,26,null,":",null,37]
[20,null,":",null,13,null,11,null,":",null,18,null,20,null,":",null,13,null,11,null,":",null,18]
[48,null,":",null,39,null,45,null,":",null,49,null,48,null,":",null,39,null,45,null,":",null,49]
[42,null,":",null,41,null,23,null,":",null,38,null,42,null,":",null,41,null,23,null,":",null,38]
[6,null,":",null,19,null,22,null,":",null,29,null,6,null,":",null,19,null,22,null,":",null,29]
[14,null,":",null,31,null,15,null,":",null,46,null,14,null,":",null,31,null,15,null,":",null,46]
[29,null,":",null,28,null,12,null,":",null,39,null,29,null,":",null,28,null,12,null,":",null,39]
[38,null,":",null,46,null,28,null,":",null,36,null,38,null,":",null,46,null,28,null,":",null,36]
[18,null,":",null,33,null,6,null,":",null,7,null,18,null,":",null,33,null,6,null,":",null,7]
[4,null,":",null,24,null,40,null,":",null,34,null,4,null,":",null,24,null,40,null,":",null,34]
[45,null,":",null,30,null,8,null,":",null,10,null,45,null,":",null,30,null,8,null,":",null,10]
[44,null,":",null,26,null,24,null,":",null,9,null,44,null,":",null,26,null,24,null,":",null,9]
[43,null,":",null,27,null,30,null,":",null,5,null,43,null,":",null,27,null,30,null,":",null,5]
[23,null,":",null,11,null,4,null,":",null,42,null,23,null,":",null,11,null,4,null,":",null,42]
[]
["Runde 3",null,null,null,null,{"$f":"F2","v":50},"Runde 4",null,null,null,null,null,"Runde 3",null,null,null,null,{"$f":"R2","v":49},"Runde 4"]
[7,null,":",null,32,null,5,null,":",null,8,null,7,null,":",null,32,null,5,null,":",null,8]
[31,null,":",null,40,null,17,null,":",null,22,null,31,null,":",null,40,null,17,null,":",null,22]
[46,null,":",null,44,null,45,null,":",null,37,null,46,null,":",null,44,null,45,null,":",null,37]
[45,null,":",null,43,null,25,null,":",null,28,null,45,null,":",null,43,null,25,null,":",null,28]
[36,null,":",null,16,null,41,null,":",null,21,null,36,null,":",null,16,null,41,null,":",null,21]
[8,null,":",null,26,null,20,null,":",null,15,null,8,null,":",null,26,null,20,null,":",null,15]
[1,null,":",null,5,null,33,null,":",null,29,null,1,null,":",null,5,null,33,null,":",null,29]
[19,null,":",null,22,null,19,null,":",null,34,null,19,null,":",null,22,null,19,null,":",null,34]
[11,null,":",null,50,null,18,null,":",null,30,null,11,null,":",null,"FL",null,18,null,":",null,30]
[12,null,":",null,48,null,3,null,":",null,13,null,12,null,":",null,48,null,3,null,":",null,13]
[10,null,":",null,2,null,26,null,":",null,43,null,10,null,":",null,2,null,26,null,":",null,43]
[15,null,":",null,9,null,23,null,":",null,46,null,15,null,":",null,9,null,23,null,":",null,46]
[30,null,":",null,37,null,42,null,":",null,24,null,30,null,":",null,37,null,42,null,":",null,24]
[14,null,":",null,28,null,47,null,":",null,44,null,14,null,":",null,28,null,47,null,":",null,44]
[49,null,":",null,42,null,36,null,":",null,35,null,49,null,":",null,42,null,36,null,":",null,35]
[4,null,":",null,23,null,12,null,":",null,10,null,4,null,":",null,23,null,12,null,":",null,10]
[47,null,":",null,20,null,11,null,":",null,4,null,47,null,":",null,20,null,11,null,":",null,4]
[35,null,":",null,34,null,31,null,":",null,2,null,35,null,":",null,34,null,31,null,":",null,2]
[3,null,":",null,17,null,14,null,":",null,49,null,3,null,":",null,17,null,14,null,":",null,49]
[39,null,":",null,18,null,7,null,":",null,48,null,39,null,":",null,18,null,7,null,":",null,48]
[33,null,":",null,41,null,16,null,":",null,38,null,33,null,":",null,41,null,16,null,":",null,38]
[25,null,":",null,13,null,39,null,":",null,6,null,25,null,":",null,13,null,39,null,":",null,6]
[29,null,":",null,21,null,50,null,":",null,1,null,29,null,":",null,21,null,"FL",null,":",null,1]
[38,null,":",null,27,null,32,null,":",null,40,null,38,null,":",null,27,null,32,null,":",null,40]
[24,null,":",null,6,null,9,null,":",null,27,null,24,null,":",null,6,null,9,null,":",null,27]
[]
["Runde 1 ohne FL",null,null,null,null,null,"Runde 2 ohne FL",null,null,null,null,null,"Runde 1 mit FL",null,null,null,null,null,"Runde 2 mit FL"]
[5,null,":",null,35,null,27,null,":",null,41,null,5,null,":",null,35,null,27,null,":",null,41]
[25,null,":",null,22,null,32,null,":",null,48,null,25,null,":",null,22,null,32,null,":",null,48]
[2,null,":",null,32,null,31,null,":",null,43,null,2,null,":",null,32,null,31,null,":",null,43]
[34,null,":",null,10,null,50,null,":",null,35,null,34,null,":",null,10,null,"FL",null,":",null,35]
[3,null,":",null,49,null,13,null,":",null,2,null,3,null,":",null,49,null,13,null,":",null,2]
[36,null,":",null,12,null,3,null,":",null,47,null,36,null,":",null,12,null,3,null,":",null,47]
[40,null,":",null,17,null,19,null,":",null,44,null,40,null,":",null,17,null,19,null,":",null,44]
[1,null,":",null,15,null,20,null,":",null,14,null,1,null,":",null,15,null,20,null,":",null,14]
[47,null,":",null,16,null,33,null,":",null,21,null,47,null,":",null,16,null,33,null,":",null,21]
[9,null,":",null,37,null,1,null,":",null,25,null,9,null,":",null,37,null,1,null,":",null,25]
[7,null,":",null,21,null,16,null,":",null,17,null,7,null,":",null,21,null,16,null,":",null,17]
[50,null,":",null,8,null,26,null,":",null,37,null,"FL",null,":",null,8,null,26,null,":",null,37]
[20,null,":",null,13,null,11,null,":",null,18,null,20,null,":",null,13,null,11,null,":",null,18]
[48,null,":",null,39,null,45,null,":",null,49,null,48,null,":",null,39,null,45,null,":",null,49]
[42,null,":",null,41,null,23,null,":",null,38,null,42,null,":",null,41,null,23,null,":",null,38]
[6,null,":",null,19,null,22,null,":",null,29,null,6,null,":",null,19,null,22,null,":",null,29]
[14,null,":",null,31,null,15,null,":",null,46,null,14,null,":",null,31,null,15,null,":",null,46]
[29,null,":",null,28,null,12,null,":",null,39,null,29,null,":",null,28,null,12,null,":",null,39]
[38,null,":",null,46,null,28,null,":",null,36,null,38,null,":",null,46,null,28,null,":",null,36]
[18,null,":",null,33,null,6,null,":",null,7,null,18,null,":",null,33,null,6,null,":",null,7]
[4,null,":",null,24,null,40,null,":",null,34,null,4,null,":",null,24,null,40,null,":",null,34]
[45,null,":",null,30,null,8,null,":",null,10,null,45,null,":",null,30,null,8,null,":",null,10]
[44,null,":",null,26,null,24,null,":",null,9,null,44,null,":",null,26,null,24,null,":",null,9]
[43,null,":",null,27,null,30,null,":",null,5,null,43,null,":",null,27,null,30,null,":",null,5]
[23,null,":",null,11,null,4,null,":",null,42,null,23,null,":",null,11,null,4,null,":",null,42]
[]
["Runde 3 ohne FL",null,null,null,null,null,"Runde 4 ohne FL",null,null,null,null,null,"Runde 3 mit FL",null,null,null,null,null,"Runde 4 mit FL"]
[7,null,":",null,32,null,5,null,":",null,8,null,7,null,":",null,32,null,5,null,":",null,8]
[31,null,":",null,40,null,17,null,":",null,22,null,31,null,":",null,40,null,17,null,":",null,22]
[46,null,":",null,44,null,45,null,":",null,37,null,46,null,":",null,44,null,45,null,":",null,37]
[45,null,":",null,43,null,25,null,":",null,28,null,45,null,":",null,43,null,25,null,":",null,28]
[36,null,":",null,16,null,41,null,":",null,21,null,36,null,":",null,16,null,41,null,":",null,21]
[8,null,":",null,26,null,20,null,":",null,15,null,8,null,":",null,26,null,20,null,":",null,15]
[1,null,":",null,5,null,33,null,":",null,29,null,1,null,":",null,5,null,33,null,":",null,29]
[19,null,":",null,22,null,19,null,":",null,34,null,19,null,":",null,22,null,19,null,":",null,34]
[11,null,":",null,50,null,18,null,":",null,30,null,11,null,":",null,"FL",null,18,null,":",null,30]
[12,null,":",null,48,null,3,null,":",null,13,null,12,null,":",null,48,null,3,null,":",null,13]
[10,null,":",null,2,null,26,null,":",null,43,null,10,null,":",null,2,null,26,null,":",null,43]
[15,null,":",null,9,null,23,null,":",null,46,null,15,null,":",null,9,null,23,null,":",null,46]
[30,null,":",null,37,null,42,null,":",null,24,null,30,null,":",null,37,null,42,null,":",null,24]
[14,null,":",null,28,null,47,null,":",null,44,null,14,null,":",null,28,null,47,null,":",null,44]
[49,null,":",null,42,null,36,null,":",null,35,null,49,null,":",null,42,null,36,null,":",null,35]
[4,null,":",null,23,null,12,null,":",null,10,null,4,null,":",null,23,null,12,null,":",null,10]
[47,null,":",null,20,null,11,null,":",null,4,null,47,null,":",null,20,null,11,null,":",null,4]
[35,null,":",null,34,null,31,null,":",null,2,null,35,null,":",null,34,null,31,null,":",null,2]
[3,null,":",null,17,null,14,null,":",null,49,null,3,null,":",null,17,null,14,null,":",null,49]
[39,null,":",null,18,null,7,null,":",null,48,null,39,null,":",null,18,null,7,null,":",null,48]
[33,null,":",null,41,null,16,null,":",null,38,null,33,null,":",null,41,null,16,null,":",null,38]
[25,null,":",null,13,null,39,null,":",null,6,null,25,null,":",null,13,null,39,null,":",null,6]
[29,null,":",null,21,null,50,null,":",null,1,null,29,null,":",null,21,null,"FL",null,":",null,1]
[38,null,":",null,27,null,32,null,":",null,40,null,38,null,":",null,27,null,32,null,":",null,40]
[24,null,":",null,6,null,9,null,":",null,27,null,24,null,":",null,6,null,9,null,":",null,27]